BEGIN:VCALENDAR
VERSION:2.0
PRODID:-//Drammen Hundepark - ECPv6.15.18//NONSGML v1.0//EN
CALSCALE:GREGORIAN
METHOD:PUBLISH
X-WR-CALNAME:Drammen Hundepark
X-ORIGINAL-URL:https://drammenhundepark.no
X-WR-CALDESC:Arrangement for Drammen Hundepark
REFRESH-INTERVAL;VALUE=DURATION:PT1H
X-Robots-Tag:noindex
X-PUBLISHED-TTL:PT1H
BEGIN:VTIMEZONE
TZID:Europe/Oslo
BEGIN:DAYLIGHT
TZOFFSETFROM:+0100
TZOFFSETTO:+0200
TZNAME:CEST
DTSTART:20240331T010000
END:DAYLIGHT
BEGIN:STANDARD
TZOFFSETFROM:+0200
TZOFFSETTO:+0100
TZNAME:CET
DTSTART:20241027T010000
END:STANDARD
BEGIN:DAYLIGHT
TZOFFSETFROM:+0100
TZOFFSETTO:+0200
TZNAME:CEST
DTSTART:20250330T010000
END:DAYLIGHT
BEGIN:STANDARD
TZOFFSETFROM:+0200
TZOFFSETTO:+0100
TZNAME:CET
DTSTART:20251026T010000
END:STANDARD
BEGIN:DAYLIGHT
TZOFFSETFROM:+0100
TZOFFSETTO:+0200
TZNAME:CEST
DTSTART:20260329T010000
END:DAYLIGHT
BEGIN:STANDARD
TZOFFSETFROM:+0200
TZOFFSETTO:+0100
TZNAME:CET
DTSTART:20261025T010000
END:STANDARD
END:VTIMEZONE
BEGIN:VEVENT
DTSTART;TZID=Europe/Oslo:20250805T170000
DTEND;TZID=Europe/Oslo:20250805T180000
DTSTAMP:20260424T101546
CREATED:20250617T202130Z
LAST-MODIFIED:20250617T202130Z
UID:10000437-1754413200-1754416800@drammenhundepark.no
SUMMARY:Gøy med hund
DESCRIPTION:Dette kurset går over 6 tirsdager kl 17.00-18.00 innendørs i oppvarmet hall. \nMålet med kurset er; \n\nÅ se nærmere på hvilke artige hundeaktiviteter som finnes der ute (agility\, søk\, rallylydighet\, triks\, lydighet samt belønningsteknikk)\nStyrke relasjonen mellom hund og fører\nBygge et godt samarbeid\nHa det gøy med hunden!\n\nInstruktør er Marianne Paulsen
URL:https://drammenhundepark.no/event/goy-med-hund-4/
CATEGORIES:Gøy med hund
ATTACH;FMTTYPE=image/jpeg:https://drammenhundepark.no/wp-content/uploads/2025/01/DSC_0213-kopi-scaled-e1737121691653.jpg
END:VEVENT
BEGIN:VEVENT
DTSTART;TZID=Europe/Oslo:20250805T170000
DTEND;TZID=Europe/Oslo:20250805T183000
DTSTAMP:20260424T101546
CREATED:20250420T163434Z
LAST-MODIFIED:20250805T112655Z
UID:10000409-1754413200-1754418600@drammenhundepark.no
SUMMARY:Valpekurs (Fullbooket)
DESCRIPTION:Dette kurset går over 5 tirsdager kl 17.00-18.30 innendørs\, på kunstgress.\nFokuset vil være på vanlig hverdagslydighet som; \n\nHåndtering/ro\nKontakt\nInnkalling\nLegg deg og bli liggende\nIntroduksjon gå pent i bånd\nVent/bli/selvkontroll\nBelønningsutvikling\n\nInstruktør på kurset er Heidi Aaknes
URL:https://drammenhundepark.no/event/valpekurs-15/
CATEGORIES:Valpekurs
ATTACH;FMTTYPE=image/jpeg:https://drammenhundepark.no/wp-content/uploads/2025/01/DSC_0991-kopi-scaled-e1737120961894.jpg
END:VEVENT
BEGIN:VEVENT
DTSTART;TZID=Europe/Oslo:20250805T180000
DTEND;TZID=Europe/Oslo:20250805T190000
DTSTAMP:20260424T101546
CREATED:20250420T160443Z
LAST-MODIFIED:20250731T065404Z
UID:10000406-1754416800-1754420400@drammenhundepark.no
SUMMARY:Grunnkurs (Fullbooket)
DESCRIPTION:Dette kurset går over 6 tirsdager kl 18.00-19.00 innendørs\, på kunstgress. \nFokuset vil være på vanlige hverdagsutfordringer som \n\nHåndtering\nRo\nInnkalling\nLegg deg og bli liggende\nGå pent i bånd\nHvordan handle i passeringssituasjoner\n\nInstruktør på kurset er Marianne Paulsen
URL:https://drammenhundepark.no/event/grunnkurs-6/
CATEGORIES:Grunnkurs i hverdagslydighet
ATTACH;FMTTYPE=image/jpeg:https://drammenhundepark.no/wp-content/uploads/2024/05/Drammen_Hundepark-3-1-e1729960934856.jpg
END:VEVENT
BEGIN:VEVENT
DTSTART;TZID=Europe/Oslo:20250805T190000
DTEND;TZID=Europe/Oslo:20250805T200000
DTSTAMP:20260424T101546
CREATED:20250420T161026Z
LAST-MODIFIED:20250717T113452Z
UID:10000407-1754420400-1754424000@drammenhundepark.no
SUMMARY:Videregående hverdagslydighet (Fullbooket)
DESCRIPTION:Dette kurset går over 6 tirsdager kl 19.00-20.00 Innendørs i oppvarmet hall med kunstgress. \nVi tar for oss hverdagslydighet som; \n\nForholde seg rolig rundt andre hunder\nHvordan opptre i møte med andre hunder på tur\nGå pent i bånd\nLek og sosial belønning\nSelvbeherskelse\nLigg på plassen din\nInnkalling\n\nInstruktør på kurset er Marianne Paulsen
URL:https://drammenhundepark.no/event/videregaende-hverdagslydighet-9/
CATEGORIES:Videregående hverdagslydighet
ATTACH;FMTTYPE=image/jpeg:https://drammenhundepark.no/wp-content/uploads/2025/02/1-kurshund.jpg
END:VEVENT
BEGIN:VEVENT
DTSTART;TZID=Europe/Oslo:20250805T200000
DTEND;TZID=Europe/Oslo:20250805T210000
DTSTAMP:20260424T101546
CREATED:20250613T082650Z
LAST-MODIFIED:20250613T082650Z
UID:10000436-1754424000-1754427600@drammenhundepark.no
SUMMARY:Videregående hverdagslydighet
DESCRIPTION:Dette kurset går over 6 tirsdager kl 20.00-21.00 Innendørs i oppvarmet hall med kunstgress. \nVi tar for oss hverdagslydighet som; \n\nForholde seg rolig rundt andre hunder\nHvordan opptre i møte med andre hunder på tur\nGå pent i bånd\nLek og sosial belønning\nSelvbeherskelse\nLigg på plassen din\nInnkalling\n\nInstruktør på kurset er Marianne Paulsen
URL:https://drammenhundepark.no/event/videregaende-hverdagslydighet-11/
CATEGORIES:Videregående hverdagslydighet
ATTACH;FMTTYPE=image/jpeg:https://drammenhundepark.no/wp-content/uploads/2025/02/1-kurshund.jpg
END:VEVENT
END:VCALENDAR