BEGIN:VCALENDAR
VERSION:2.0
PRODID:-//Drammen Hundepark - ECPv6.15.18//NONSGML v1.0//EN
CALSCALE:GREGORIAN
METHOD:PUBLISH
X-WR-CALNAME:Drammen Hundepark
X-ORIGINAL-URL:https://drammenhundepark.no
X-WR-CALDESC:Arrangement for Drammen Hundepark
REFRESH-INTERVAL;VALUE=DURATION:PT1H
X-Robots-Tag:noindex
X-PUBLISHED-TTL:PT1H
BEGIN:VTIMEZONE
TZID:Europe/Oslo
BEGIN:DAYLIGHT
TZOFFSETFROM:+0100
TZOFFSETTO:+0200
TZNAME:CEST
DTSTART:20250330T010000
END:DAYLIGHT
BEGIN:STANDARD
TZOFFSETFROM:+0200
TZOFFSETTO:+0100
TZNAME:CET
DTSTART:20251026T010000
END:STANDARD
BEGIN:DAYLIGHT
TZOFFSETFROM:+0100
TZOFFSETTO:+0200
TZNAME:CEST
DTSTART:20260329T010000
END:DAYLIGHT
BEGIN:STANDARD
TZOFFSETFROM:+0200
TZOFFSETTO:+0100
TZNAME:CET
DTSTART:20261025T010000
END:STANDARD
BEGIN:DAYLIGHT
TZOFFSETFROM:+0100
TZOFFSETTO:+0200
TZNAME:CEST
DTSTART:20270328T010000
END:DAYLIGHT
BEGIN:STANDARD
TZOFFSETFROM:+0200
TZOFFSETTO:+0100
TZNAME:CET
DTSTART:20271031T010000
END:STANDARD
END:VTIMEZONE
BEGIN:VEVENT
DTSTART;TZID=Europe/Oslo:20260219T173000
DTEND;TZID=Europe/Oslo:20260219T190000
DTSTAMP:20260423T175750
CREATED:20251107T121324Z
LAST-MODIFIED:20260204T093608Z
UID:10000498-1771522200-1771527600@drammenhundepark.no
SUMMARY:Nosework Intro
DESCRIPTION:Snusekurs – en morsom hverdagsaktivitet for deg og hunden din! \nKurset foregår innendørs i Drammen Hundepark – trygge og kontrollerte omgivelser hvor én og én hund jobber av gangen. Du vil likevel kunne møte andre hunder i området rundt hallen. \nTidspunkt: 4 torsdager kl. 17.30-19.00\nMaks 5 deltakere – så her får du og hunden din god oppfølging og tett veiledning. \nBli med på en inspirerende reise inn i hundens luktunivers – vi gleder oss til å se dere! \nDet er ikke kurs i uke 9 da det er vinterferie i kommunen. \nInstruktør: Cathrine Samuelsen
URL:https://drammenhundepark.no/event/nosework-intro/
CATEGORIES:Nosework
ATTACH;FMTTYPE=image/jpeg:https://drammenhundepark.no/wp-content/uploads/2025/04/snusekurs-scaled-e1746038117648.jpg
END:VEVENT
BEGIN:VEVENT
DTSTART;TZID=Europe/Oslo:20260219T180000
DTEND;TZID=Europe/Oslo:20260219T190000
DTSTAMP:20260423T175750
CREATED:20251102T220324Z
LAST-MODIFIED:20251102T220524Z
UID:10000492-1771524000-1771527600@drammenhundepark.no
SUMMARY:Bronsemerkekurs
DESCRIPTION:Dette kurset går over 6 torsdager kl 18.00-19.00 \nDette er kurset for deg som; \n\nØnsker en introduksjon til hundesporten lydighet\nØnsker å aktivisere hunden ved å lære nye lydighetsøvelser\n\nInstruktør er Marianne Paulsen \nDet er ikke kurs i uke 9\, da det er vinterferie i kommunen.
URL:https://drammenhundepark.no/event/bronsemerkekurs-5/
CATEGORIES:Bronsemerkekurs
ATTACH;FMTTYPE=image/jpeg:https://drammenhundepark.no/wp-content/uploads/2024/05/Drammen_Hundepark-6-1-e1730758231832.jpg
END:VEVENT
BEGIN:VEVENT
DTSTART;TZID=Europe/Oslo:20260219T193000
DTEND;TZID=Europe/Oslo:20260219T210000
DTSTAMP:20260423T175750
CREATED:20250814T181234Z
LAST-MODIFIED:20251112T090037Z
UID:10000454-1771529400-1771534800@drammenhundepark.no
SUMMARY:Lydighet Treningsgruppe
DESCRIPTION:Endelig\, dette har vært etterspurt lenge! \nNå har du mulighet til å være med på en treningsgruppe som går over 12 kvelder. Alle nivå er velkommen. \nVi samles hver torsdag for 1 ½ time med lydighetstrening med instruktør. Temaene for treningene varierer og det er åpent for ønsker fra deltagerne. I tillegg får gruppa mulighet til å trene gratis når det er drop-in trening i hallen (mandag og torsdag kl 12-14\, fredag kl 17-19) under hele kursets varighet. \nVi holder på kl 1930-2100 alle kveldene. \nDret er ikke kurs i uje 9 da det er vinterferie i kommunen. \nInstruktør er Marianne Paulsen
URL:https://drammenhundepark.no/event/lydighet-treningsgruppe-2/
CATEGORIES:Konkurransekurs i lydighet
ATTACH;FMTTYPE=image/jpeg:https://drammenhundepark.no/wp-content/uploads/2025/02/1-lp.jpg
END:VEVENT
BEGIN:VEVENT
DTSTART;TZID=Europe/Oslo:20260219T193000
DTEND;TZID=Europe/Oslo:20260219T210000
DTSTAMP:20260423T175750
CREATED:20250923T111810Z
LAST-MODIFIED:20250923T111810Z
UID:10000472-1771529400-1771534800@drammenhundepark.no
SUMMARY:Rally Treningsgruppe
DESCRIPTION:Disse treningsgruppene har fylt seg så fort opp at vi setter opp ende en gruppe! \nNå har du mulighet til å være med på en treningsgruppe som går over 12 kvelder. Alle nivå er velkommen\, krav til forkunnskap er gjennomført rally intro eller tilsvarende. \nVi samles hver torsdag for 1 ½ time med rallytrening med instruktør. Temaene for treningene varierer og det er åpent for ønsker fra deltagerne. I tillegg får gruppa mulighet til å trene gratis når det er drop-in trening i hallen (mandag og torsdag kl 12-14\, fredag kl 17-19) under hele kursets varighet. \nVi holder på kl 1930-2100 alle kveldene. \nDet er ikke kurs i uke 9 da det er vinterferie i kommunen. \nInstruktør er Cathrine Samuelsen
URL:https://drammenhundepark.no/event/rally-treningsgruppe-4/
CATEGORIES:Rallylydighet
ATTACH;FMTTYPE=image/jpeg:https://drammenhundepark.no/wp-content/uploads/2024/05/Drammen_Hundepark-15-3-e1730760478401.jpg
END:VEVENT
END:VCALENDAR