BEGIN:VCALENDAR
VERSION:2.0
PRODID:-//Drammen Hundepark - ECPv6.15.18//NONSGML v1.0//EN
CALSCALE:GREGORIAN
METHOD:PUBLISH
X-WR-CALNAME:Drammen Hundepark
X-ORIGINAL-URL:https://drammenhundepark.no
X-WR-CALDESC:Arrangement for Drammen Hundepark
REFRESH-INTERVAL;VALUE=DURATION:PT1H
X-Robots-Tag:noindex
X-PUBLISHED-TTL:PT1H
BEGIN:VTIMEZONE
TZID:Europe/Oslo
BEGIN:DAYLIGHT
TZOFFSETFROM:+0100
TZOFFSETTO:+0200
TZNAME:CEST
DTSTART:20250330T010000
END:DAYLIGHT
BEGIN:STANDARD
TZOFFSETFROM:+0200
TZOFFSETTO:+0100
TZNAME:CET
DTSTART:20251026T010000
END:STANDARD
BEGIN:DAYLIGHT
TZOFFSETFROM:+0100
TZOFFSETTO:+0200
TZNAME:CEST
DTSTART:20260329T010000
END:DAYLIGHT
BEGIN:STANDARD
TZOFFSETFROM:+0200
TZOFFSETTO:+0100
TZNAME:CET
DTSTART:20261025T010000
END:STANDARD
BEGIN:DAYLIGHT
TZOFFSETFROM:+0100
TZOFFSETTO:+0200
TZNAME:CEST
DTSTART:20270328T010000
END:DAYLIGHT
BEGIN:STANDARD
TZOFFSETFROM:+0200
TZOFFSETTO:+0100
TZNAME:CET
DTSTART:20271031T010000
END:STANDARD
END:VTIMEZONE
BEGIN:VEVENT
DTSTART;TZID=Europe/Oslo:20260224T170000
DTEND;TZID=Europe/Oslo:20260224T190000
DTSTAMP:20260423T165020
CREATED:20251115T203404Z
LAST-MODIFIED:20251115T203633Z
UID:10000502-1771952400-1771959600@drammenhundepark.no
SUMMARY:Belønningskurs
DESCRIPTION:Dette er kurset for deg som ønsker å få mer ut av belønningene dine! \n\nFinn ut hva som faktisk motiverer hunden din mest\nJobb opp belønningens verdi\nBli bevist på hvilke type belønning til hvilke bruk\nSett det inn i et system\nGode belønninger gir økt fokus og utholdenhet\n\nBelønning handler ikke bare om godbit og leke\, det handler om kommunikasjon. \nKurset går kl 17.00-19.00 tirsdag og torsdag i uke 9. \nInstruktør er Marianne Paulsen
URL:https://drammenhundepark.no/event/belonningskurs-3/
CATEGORIES:Temakurs
ATTACH;FMTTYPE=image/jpeg:https://drammenhundepark.no/wp-content/uploads/2025/10/DSC_5585-kopi.jpg
END:VEVENT
BEGIN:VEVENT
DTSTART;TZID=Europe/Oslo:20260224T173000
DTEND;TZID=Europe/Oslo:20260224T203000
DTSTAMP:20260423T165020
CREATED:20251115T210236Z
LAST-MODIFIED:20251211T202212Z
UID:10000504-1771954200-1771965000@drammenhundepark.no
SUMMARY:Rally Banekurs
DESCRIPTION:Dette banekurset i rallylydighet går kl 17.30-20.30 tirsdag og torsdag i uke 9. \nPå kurset jobber vi med å gå baner i rallylydighet!\nCathrine gir tips og tilbakemeldinger underveis på øvelsene dine\, og råd om hvordan du kan ta treningen videre. Vi snakker også om hvordan du kan briefe banen på en smart måte\, ta gode valg underveis i løpet\, og bygge opp utholdenheten til hunden slik at den holder fokus gjennom hele banen. \nKurset passer for deg som har lyst til å trene på å gå baner i rallylydighet.\nFor å få utbytte av kurset må du kunne skiltene i klasse 1. Vi tilpasser til alle klasser. Noter hvilke klasse du ønsker i din påmelding. \nInstruktør er Cathrine Samuelsen \n 
URL:https://drammenhundepark.no/event/rally-banekurs-klasse-3-elite/
CATEGORIES:Rallylydighet
ATTACH;FMTTYPE=image/jpeg:https://drammenhundepark.no/wp-content/uploads/2024/05/Drammen_Hundepark-15-3-e1730760478401.jpg
END:VEVENT
BEGIN:VEVENT
DTSTART;TZID=Europe/Oslo:20260224T190000
DTEND;TZID=Europe/Oslo:20260224T210000
DTSTAMP:20260423T165020
CREATED:20251115T204937Z
LAST-MODIFIED:20251126T164634Z
UID:10000503-1771959600-1771966800@drammenhundepark.no
SUMMARY:Passeringskurs
DESCRIPTION:Kurset går kl 19.00-21.00 tirsdag og torsdag i uke 9. innendørs i oppvarmet hall på kunstgress. \n\nFokus på å passere andre hunder på tur\nGå pent i bånd\nKontakt\nSelvbeherskelse og ro\n\nInstruktør er Marianne Paulsen
URL:https://drammenhundepark.no/event/passeringskurs-8/
CATEGORIES:Passeringskurs
ATTACH;FMTTYPE=image/jpeg:https://drammenhundepark.no/wp-content/uploads/2024/05/Drammen_Hundepark-3-3-e1737116271742.jpg
END:VEVENT
END:VCALENDAR