BEGIN:VCALENDAR
VERSION:2.0
PRODID:-//Drammen Hundepark - ECPv6.15.18//NONSGML v1.0//EN
CALSCALE:GREGORIAN
METHOD:PUBLISH
X-WR-CALNAME:Drammen Hundepark
X-ORIGINAL-URL:https://drammenhundepark.no
X-WR-CALDESC:Arrangement for Drammen Hundepark
REFRESH-INTERVAL;VALUE=DURATION:PT1H
X-Robots-Tag:noindex
X-PUBLISHED-TTL:PT1H
BEGIN:VTIMEZONE
TZID:Europe/Oslo
BEGIN:DAYLIGHT
TZOFFSETFROM:+0100
TZOFFSETTO:+0200
TZNAME:CEST
DTSTART:20250330T010000
END:DAYLIGHT
BEGIN:STANDARD
TZOFFSETFROM:+0200
TZOFFSETTO:+0100
TZNAME:CET
DTSTART:20251026T010000
END:STANDARD
BEGIN:DAYLIGHT
TZOFFSETFROM:+0100
TZOFFSETTO:+0200
TZNAME:CEST
DTSTART:20260329T010000
END:DAYLIGHT
BEGIN:STANDARD
TZOFFSETFROM:+0200
TZOFFSETTO:+0100
TZNAME:CET
DTSTART:20261025T010000
END:STANDARD
BEGIN:DAYLIGHT
TZOFFSETFROM:+0100
TZOFFSETTO:+0200
TZNAME:CEST
DTSTART:20270328T010000
END:DAYLIGHT
BEGIN:STANDARD
TZOFFSETFROM:+0200
TZOFFSETTO:+0100
TZNAME:CET
DTSTART:20271031T010000
END:STANDARD
END:VTIMEZONE
BEGIN:VEVENT
DTSTART;TZID=Europe/Oslo:20260414T170000
DTEND;TZID=Europe/Oslo:20260414T180000
DTSTAMP:20260423T144601
CREATED:20260324T202738Z
LAST-MODIFIED:20260324T202755Z
UID:10000561-1776186000-1776189600@drammenhundepark.no
SUMMARY:Valpekurs
DESCRIPTION:Valpekurs i Drammen – trygg start for deg og valpen \nDette valpekurset går over 6 tirsdager kl. 17.00–18.00\, og holdes innendørs på kunstgress hos Drammen Hundepark. Kurset passer for valper som skal få en trygg og positiv start på treningen. \nFokus på kurset er grunnleggende hverdagslydighet og samarbeid\, med øvelser som: \n\nHåndtering og ro\nKontakt mellom hund og eier\nInnkalling\nLegg deg og bli liggende\nIntroduksjon til å gå pent i bånd\nVent / bli / selvkontroll\nUtvikling av belønning og motivasjon\n\nTreningen er belønningsbasert\, og tilpasses både hund og eier. Det legges vekt på mestring\, trygghet og gode rutiner som er nyttige i hverdagen. \nInstruktør på kurset er Marianne Paulsen. \n 
URL:https://drammenhundepark.no/event/valpekurs-36/
CATEGORIES:Valpekurs
ATTACH;FMTTYPE=image/jpeg:https://drammenhundepark.no/wp-content/uploads/2025/01/DSC_1200-kopi-scaled-e1737121258972.jpg
END:VEVENT
BEGIN:VEVENT
DTSTART;TZID=Europe/Oslo:20260414T173000
DTEND;TZID=Europe/Oslo:20260414T183000
DTSTAMP:20260423T144601
CREATED:20260212T195110Z
LAST-MODIFIED:20260318T190827Z
UID:10000544-1776187800-1776191400@drammenhundepark.no
SUMMARY:Rally Intro
DESCRIPTION:Rally Intro\nDette kurset går over 6 tirsdager kl. 17.30–18.30. \nKurset passer for hunder som ikke har prøvd rallylydighet tidligere.Vi jobber med innlæring av skiltene i klasse 1\, og setter dem sammen i enkle kombinasjoner. Målet er å utvikle glede\, samarbeid og samspill mellom hund og fører i rallylydighet. \nInstruktør på kurset er Cathrine Samuelsen. \n  \n 
URL:https://drammenhundepark.no/event/rally-intro-14/
CATEGORIES:Rallylydighet
ATTACH;FMTTYPE=image/jpeg:https://drammenhundepark.no/wp-content/uploads/2024/05/Drammen_Hundepark-3-1-e1729960934856.jpg
END:VEVENT
BEGIN:VEVENT
DTSTART;TZID=Europe/Oslo:20260414T183000
DTEND;TZID=Europe/Oslo:20260414T193000
DTSTAMP:20260423T144601
CREATED:20260212T195614Z
LAST-MODIFIED:20260318T191023Z
UID:10000545-1776191400-1776195000@drammenhundepark.no
SUMMARY:Rally 2
DESCRIPTION:Dette kurset går over 6 tirsdager kl 18.30-19.30 innendørs i hall\, på kunstgress. \nVi jobber med skiltene i klasse 2. Glede\, mestring og samarbeid står fremdeles i fokus!\n(Man bør enten ha gått rally introkurs eller kunne klasse 1 skiltene for å få utbytte av kurset) \nInstruktør er Cathrine Samuelsen \n 
URL:https://drammenhundepark.no/event/rally-2-8/
CATEGORIES:Rallylydighet
ATTACH;FMTTYPE=image/jpeg:https://drammenhundepark.no/wp-content/uploads/2024/05/Drammen_Hundepark-5-3-e1729961895679.jpg
END:VEVENT
BEGIN:VEVENT
DTSTART;TZID=Europe/Oslo:20260414T190000
DTEND;TZID=Europe/Oslo:20260414T200000
DTSTAMP:20260423T144601
CREATED:20260204T092736Z
LAST-MODIFIED:20260204T092736Z
UID:10000539-1776193200-1776196800@drammenhundepark.no
SUMMARY:Videregående hverdagslydighet
DESCRIPTION:Videregående hverdagslydighet\nDette kurset er for deg som vil styrke hundens hverdagslydighet og samspill med fører i ulike hverdagssituasjoner. \nKurset strekker seg over 6 tirsdager kl. 19.00–20.00. Treningen foregår innendørs i en oppvarmet hall med kunstgress. \nI løpet av kurset jobber vi blant annet med: \n\nÅ forholde seg rolig rundt andre hunder\nHundemøter på tur – hvordan håndtere dem på en god måte\nÅ gå pent i bånd\nLek som belønning og sosial motivasjon\nSelvbeherskelse og impulskontroll\n«Ligg på plassen din»\nInnkalling\n\nInstruktør på kurset er Marianne Paulsen. \n 
URL:https://drammenhundepark.no/event/videregaende-hverdagslydighet-21/
CATEGORIES:Videregående hverdagslydighet
ATTACH;FMTTYPE=image/jpeg:https://drammenhundepark.no/wp-content/uploads/2024/10/DSC_0074-kopi-scaled-e1729960191636.jpg
END:VEVENT
END:VCALENDAR