BEGIN:VCALENDAR
VERSION:2.0
PRODID:-//Drammen Hundepark - ECPv6.15.18//NONSGML v1.0//EN
CALSCALE:GREGORIAN
METHOD:PUBLISH
X-ORIGINAL-URL:https://drammenhundepark.no
X-WR-CALDESC:Arrangement for Drammen Hundepark
REFRESH-INTERVAL;VALUE=DURATION:PT1H
X-Robots-Tag:noindex
X-PUBLISHED-TTL:PT1H
BEGIN:VTIMEZONE
TZID:Europe/Oslo
BEGIN:DAYLIGHT
TZOFFSETFROM:+0100
TZOFFSETTO:+0200
TZNAME:CEST
DTSTART:20250330T010000
END:DAYLIGHT
BEGIN:STANDARD
TZOFFSETFROM:+0200
TZOFFSETTO:+0100
TZNAME:CET
DTSTART:20251026T010000
END:STANDARD
BEGIN:DAYLIGHT
TZOFFSETFROM:+0100
TZOFFSETTO:+0200
TZNAME:CEST
DTSTART:20260329T010000
END:DAYLIGHT
BEGIN:STANDARD
TZOFFSETFROM:+0200
TZOFFSETTO:+0100
TZNAME:CET
DTSTART:20261025T010000
END:STANDARD
BEGIN:DAYLIGHT
TZOFFSETFROM:+0100
TZOFFSETTO:+0200
TZNAME:CEST
DTSTART:20270328T010000
END:DAYLIGHT
BEGIN:STANDARD
TZOFFSETFROM:+0200
TZOFFSETTO:+0100
TZNAME:CET
DTSTART:20271031T010000
END:STANDARD
END:VTIMEZONE
BEGIN:VEVENT
DTSTART;TZID=Europe/Oslo:20260106T173000
DTEND;TZID=Europe/Oslo:20260106T183000
DTSTAMP:20260421T152034
CREATED:20251107T084750Z
LAST-MODIFIED:20251107T084750Z
UID:10000496-1767720600-1767724200@drammenhundepark.no
SUMMARY:Rally 2
DESCRIPTION:Dette kurset går over 6 tirsdager kl 17.30-18.30 innendørs i hall\, på kunstgress. \nVi jobber med skiltene i klasse 2. Glede\, mestring og samarbeid står fremdeles i fokus!\n(Man bør enten ha gått rally introkurs eller kunne klasse 1 skiltene for å få utbytte av kurset) \nInstruktør er Cathrine Samuelsen
URL:https://drammenhundepark.no/event/rally-2-7/
CATEGORIES:Rallylydighet
ATTACH;FMTTYPE=image/jpeg:https://drammenhundepark.no/wp-content/uploads/2024/05/Drammen_Hundepark-5-2-e1729960790137.jpg
END:VEVENT
BEGIN:VEVENT
DTSTART;TZID=Europe/Oslo:20260106T183000
DTEND;TZID=Europe/Oslo:20260106T193000
DTSTAMP:20260421T152034
CREATED:20251102T221924Z
LAST-MODIFIED:20251102T221924Z
UID:10000493-1767724200-1767727800@drammenhundepark.no
SUMMARY:Rally Intro
DESCRIPTION:Dette kurset går over 6 tirsdager kl 18.30-19.30 \n\nPasser for hunder som ikke har prøvd rallylydighet før.\nVi tar for oss og trener på skiltene i klasse 1 og vil sette de sammen til små kombinasjoner.\nJobber med å utvikle glede og samspill mellom hund og fører.\n\nInstruktør er Cathrine Samuelsen \n  \n 
URL:https://drammenhundepark.no/event/rally-intro-12/
CATEGORIES:Rallylydighet
ATTACH;FMTTYPE=image/jpeg:https://drammenhundepark.no/wp-content/uploads/2024/05/Drammen_Hundepark-3-1-e1729960934856.jpg
END:VEVENT
BEGIN:VEVENT
DTSTART;TZID=Europe/Oslo:20260106T193000
DTEND;TZID=Europe/Oslo:20260106T203000
DTSTAMP:20260421T152034
CREATED:20251107T084234Z
LAST-MODIFIED:20251108T074928Z
UID:10000495-1767727800-1767731400@drammenhundepark.no
SUMMARY:Rally Elite
DESCRIPTION:Dette kurset går over 6 tirsdager kl 19.30-20.30 \nPå elitekurs i rallylydighet går vi gjennom innlæring av øvelsene i eliteklassen. Alle jobber samtidig med sin egen hund\, og du får hjelp og tips underveis.\nFor å få mest mulig ut av kurset bær du allerede ha trent rallylydighet en stund\, og ha vært gjennom øvelsene i de lavere klassene. \nInstruktør er Cathrine Samuelsen \n 
URL:https://drammenhundepark.no/event/rally-banekurs-2/
CATEGORIES:Rallylydighet
ATTACH;FMTTYPE=image/jpeg:https://drammenhundepark.no/wp-content/uploads/2024/05/Drammen_Hundepark-5-3-e1729961895679.jpg
END:VEVENT
BEGIN:VEVENT
DTSTART;TZID=Europe/Oslo:20260109T170000
DTEND;TZID=Europe/Oslo:20260109T190000
DTSTAMP:20260421T152034
CREATED:20251106T122322Z
LAST-MODIFIED:20251106T122725Z
UID:10000494-1767978000-1767985200@drammenhundepark.no
SUMMARY:Rally banekurs
DESCRIPTION:Dette banekurset i rallylydighet går over 3 fredager kl 17.00-19.00\n9. januar\, 23. januar og 30. januar. \nPå kurset jobber vi med å gå baner i rallylydighet!\nCathrine gir tips og tilbakemeldinger underveis på øvelsene dine\, og råd om hvordan du kan ta treningen videre. Vi snakker også om hvordan du kan briefe banen på en smart måte\, ta gode valg underveis i løpet\, og bygge opp utholdenheten til hunden slik at den holder fokus gjennom hele banen. \nKurset passer både for deg som trener mot konkurranse\, og for deg som ønsker å bruke rallylydighet som en morsom og aktiviserende treningsform for hunden sin.\nDu må ha kjennskap til skiltene i klasse 1 for å få godt utbytte av kurset.\nBanene bygges hovedsakelig med skilt fra klasse 1\, men skriv i påmeldingen dersom du ønsker øvelser fra høyere klasser. \nInstruktør er Cathrine Samuelsen \n 
URL:https://drammenhundepark.no/event/rally-banekurs/
CATEGORIES:Rallylydighet
ATTACH;FMTTYPE=image/jpeg:https://drammenhundepark.no/wp-content/uploads/2024/05/Drammen_Hundepark-15-3-e1730760478401.jpg
END:VEVENT
END:VCALENDAR