BEGIN:VCALENDAR
VERSION:2.0
PRODID:-//Drammen Hundepark - ECPv6.15.18//NONSGML v1.0//EN
CALSCALE:GREGORIAN
METHOD:PUBLISH
X-WR-CALNAME:Drammen Hundepark
X-ORIGINAL-URL:https://drammenhundepark.no
X-WR-CALDESC:Arrangement for Drammen Hundepark
REFRESH-INTERVAL;VALUE=DURATION:PT1H
X-Robots-Tag:noindex
X-PUBLISHED-TTL:PT1H
BEGIN:VTIMEZONE
TZID:Europe/Oslo
BEGIN:DAYLIGHT
TZOFFSETFROM:+0100
TZOFFSETTO:+0200
TZNAME:CEST
DTSTART:20250330T010000
END:DAYLIGHT
BEGIN:STANDARD
TZOFFSETFROM:+0200
TZOFFSETTO:+0100
TZNAME:CET
DTSTART:20251026T010000
END:STANDARD
BEGIN:DAYLIGHT
TZOFFSETFROM:+0100
TZOFFSETTO:+0200
TZNAME:CEST
DTSTART:20260329T010000
END:DAYLIGHT
BEGIN:STANDARD
TZOFFSETFROM:+0200
TZOFFSETTO:+0100
TZNAME:CET
DTSTART:20261025T010000
END:STANDARD
BEGIN:DAYLIGHT
TZOFFSETFROM:+0100
TZOFFSETTO:+0200
TZNAME:CEST
DTSTART:20270328T010000
END:DAYLIGHT
BEGIN:STANDARD
TZOFFSETFROM:+0200
TZOFFSETTO:+0100
TZNAME:CET
DTSTART:20271031T010000
END:STANDARD
END:VTIMEZONE
BEGIN:VEVENT
DTSTART;TZID=Europe/Oslo:20260604T193000
DTEND;TZID=Europe/Oslo:20260604T210000
DTSTAMP:20260419T145647
CREATED:20251216T153747Z
LAST-MODIFIED:20260212T124017Z
UID:10000514-1780601400-1780606800@drammenhundepark.no
SUMMARY:Rally Treningsgruppe klasse 1-2
DESCRIPTION:Treningsgruppe for klasse 1-2 \nTreningsgruppen som går over 12 kvelder\, hver torsdag for 1 ½ time med rallytrening med instruktør.\nTemaene for treningene varierer og det er åpent for ønsker fra deltagerne. \nI tillegg får gruppa mulighet til å trene gratis når det er drop-in trening i hallen (mandag og torsdag kl 12-14\, fredag kl 17-19) under hele kursets varighet. \nVi holder på kl 19.30-21.00 alle kveldene. \nDe tre første kveldene er før sommer ferien og de resterende etter.\nOppstart etter sommeren er 4. august \nInstruktør er Cathrine Samuelsen
URL:https://drammenhundepark.no/event/rally-treningsgruppe-klasse-1-2/
CATEGORIES:Rallylydighet
ATTACH;FMTTYPE=image/jpeg:https://drammenhundepark.no/wp-content/uploads/2024/05/Drammen_Hundepark-15-3-e1730760478401.jpg
END:VEVENT
BEGIN:VEVENT
DTSTART;TZID=Europe/Oslo:20260629T190000
DTEND;TZID=Europe/Oslo:20260629T203000
DTSTAMP:20260419T145647
CREATED:20260323T192718Z
LAST-MODIFIED:20260323T205000Z
UID:10000556-1782759600-1782765000@drammenhundepark.no
SUMMARY:Rally banekurs uke 27
DESCRIPTION:Dette banekurset i rallylydighet går kl 19.00-20.30 mandag\, tirsdag\, onsdag og torsdag i uke 27. \nPå kurset jobber vi med å gå baner i rallylydighet!\nCathrine gir tips og tilbakemeldinger underveis på øvelsene dine\, og råd om hvordan du kan ta treningen videre. Vi snakker også om hvordan du kan briefe banen på en smart måte\, ta gode valg underveis i løpet\, og bygge opp utholdenheten til hunden slik at den holder fokus gjennom hele banen. \nKurset passer både for deg som trener mot konkurranse\, og for deg som ønsker å bruke rallylydighet som en morsom og aktiviserende treningsform for hunden sin.\nDu må ha kjennskap til skiltene i klasse 1 for å få godt utbytte av kurset.\nBanene bygges hovedsakelig med skilt fra klasse 1\, men skriv i påmeldingen dersom du ønsker øvelser fra høyere klasser. \nInstruktør er Cathrine Samuelsen \n 
URL:https://drammenhundepark.no/event/rally-banekurs-3/
CATEGORIES:Rallylydighet,Sommerkurs
ATTACH;FMTTYPE=image/jpeg:https://drammenhundepark.no/wp-content/uploads/2024/05/Drammen_Hundepark-15-3-e1730760478401.jpg
END:VEVENT
END:VCALENDAR