BEGIN:VCALENDAR
VERSION:2.0
PRODID:-//Drammen Hundepark - ECPv6.15.18//NONSGML v1.0//EN
CALSCALE:GREGORIAN
METHOD:PUBLISH
X-WR-CALNAME:Drammen Hundepark
X-ORIGINAL-URL:https://drammenhundepark.no
X-WR-CALDESC:Arrangement for Drammen Hundepark
REFRESH-INTERVAL;VALUE=DURATION:PT1H
X-Robots-Tag:noindex
X-PUBLISHED-TTL:PT1H
BEGIN:VTIMEZONE
TZID:Europe/Oslo
BEGIN:DAYLIGHT
TZOFFSETFROM:+0100
TZOFFSETTO:+0200
TZNAME:CEST
DTSTART:20250330T010000
END:DAYLIGHT
BEGIN:STANDARD
TZOFFSETFROM:+0200
TZOFFSETTO:+0100
TZNAME:CET
DTSTART:20251026T010000
END:STANDARD
BEGIN:DAYLIGHT
TZOFFSETFROM:+0100
TZOFFSETTO:+0200
TZNAME:CEST
DTSTART:20260329T010000
END:DAYLIGHT
BEGIN:STANDARD
TZOFFSETFROM:+0200
TZOFFSETTO:+0100
TZNAME:CET
DTSTART:20261025T010000
END:STANDARD
BEGIN:DAYLIGHT
TZOFFSETFROM:+0100
TZOFFSETTO:+0200
TZNAME:CEST
DTSTART:20270328T010000
END:DAYLIGHT
BEGIN:STANDARD
TZOFFSETFROM:+0200
TZOFFSETTO:+0100
TZNAME:CET
DTSTART:20271031T010000
END:STANDARD
END:VTIMEZONE
BEGIN:VEVENT
DTSTART;TZID=Europe/Oslo:20260706T100000
DTEND;TZID=Europe/Oslo:20260706T150000
DTSTAMP:20260419T161643
CREATED:20251218T123541Z
LAST-MODIFIED:20260126T105003Z
UID:10000518-1783332000-1783350000@drammenhundepark.no
SUMMARY:Rally SOMMERCAMP 2026
DESCRIPTION: Sommercamp i rallylydighet  \nMandag 6. juli – torsdag 9. juli\nKl. 10.00–15.00 hver dag \n\nBli med på en inspirerende og sosial sommercamp i rallylydighet! Denne campen passer for deg som konkurrerer i klasse 2\, klasse 3 eller Elite\, og som ønsker å utvikle både deg selv og hunden din videre. \nVi jobber med: \n\nUtholdenhet i baner\nSmart og tydelig briefing\nFokus og engasjement\nHelhet i ekvipasjen – med rom for å nerde litt i detaljer\nÅpent for ønsker fra deltakerne\n\nBaner og oppgaver tilpasses nivået til hver enkelt ekvipasje\, slik at alle får både mestring og utfordringer. \nGlede\, samspill og fellesskap\nMålet vårt er at campen skal være like gøy for hund som for fører. Vi legger stor vekt på god stemning\, engasjement for hverandre og et trygt\, sosialt miljø der alle føler seg velkommen. \nSosial ramme\nVi tenner grillen hver dag og har felles lunsj – en perfekt anledning til å dele erfaringer\, le og bli kjent med andre rallyentusiaster. \nUansett vær\nVi håper på sol og utetrening\, men om værgudene ikke spiller på lag\, trekker vi inn i hallen. Campen blir koselig og lærerik – uansett vær! \nIkke vent med å planlegge sommerens hyggeligste hundeevent. Ta med en treningsvenn og bli med på noen inspirerende dager fylt med rallyglede! \n  \nInstruktør Cathrine Samuelsen \n\n  \n 
URL:https://drammenhundepark.no/event/rally-sommercamp-2026/
CATEGORIES:Rallylydighet,Sommerkurs
ATTACH;FMTTYPE=image/jpeg:https://drammenhundepark.no/wp-content/uploads/2024/05/Drammen_Hundepark-9-1-e1766061318528.jpg
END:VEVENT
END:VCALENDAR