BEGIN:VCALENDAR
VERSION:2.0
PRODID:-//Drammen Hundepark - ECPv6.15.18//NONSGML v1.0//EN
CALSCALE:GREGORIAN
METHOD:PUBLISH
X-ORIGINAL-URL:https://drammenhundepark.no
X-WR-CALDESC:Arrangement for Drammen Hundepark
REFRESH-INTERVAL;VALUE=DURATION:PT1H
X-Robots-Tag:noindex
X-PUBLISHED-TTL:PT1H
BEGIN:VTIMEZONE
TZID:Europe/Oslo
BEGIN:DAYLIGHT
TZOFFSETFROM:+0100
TZOFFSETTO:+0200
TZNAME:CEST
DTSTART:20240331T010000
END:DAYLIGHT
BEGIN:STANDARD
TZOFFSETFROM:+0200
TZOFFSETTO:+0100
TZNAME:CET
DTSTART:20241027T010000
END:STANDARD
BEGIN:DAYLIGHT
TZOFFSETFROM:+0100
TZOFFSETTO:+0200
TZNAME:CEST
DTSTART:20250330T010000
END:DAYLIGHT
BEGIN:STANDARD
TZOFFSETFROM:+0200
TZOFFSETTO:+0100
TZNAME:CET
DTSTART:20251026T010000
END:STANDARD
BEGIN:DAYLIGHT
TZOFFSETFROM:+0100
TZOFFSETTO:+0200
TZNAME:CEST
DTSTART:20260329T010000
END:DAYLIGHT
BEGIN:STANDARD
TZOFFSETFROM:+0200
TZOFFSETTO:+0100
TZNAME:CET
DTSTART:20261025T010000
END:STANDARD
END:VTIMEZONE
BEGIN:VEVENT
DTSTART;TZID=Europe/Oslo:20250225T190000
DTEND;TZID=Europe/Oslo:20250225T210000
DTSTAMP:20260422T073738
CREATED:20241210T153226Z
LAST-MODIFIED:20250213T125112Z
UID:10000360-1740510000-1740517200@drammenhundepark.no
SUMMARY:Rally Hinderkurs
DESCRIPTION:Dette kurset går over 3 dager i uke 9 (vinterferie uka i kommunen).  Tirsdag\, torsdag og fredag kl 19.00-21.00 \nPå dette kurset tar vi for oss alle hindrene man kan møte på en rallybane. Tunnel\, lengde\, slalåm og hoppehinder. I tillegg ser vi på fremmadsending til kjegle. Det vil også være mulig å komme med ønske dersom man sliter med eller ønsker innføring i en annen øvelse utover disse. -Noter eventuelt denne i kommentarfeltet ved påmelding. \nDet er fordel å ha grunnleggende kunnskap om rallylydighet for å delta (introkurs eller tilsvarende) \nInstruktør er Cathrine Samuelsen
URL:https://drammenhundepark.no/event/rally-hinderkurs/
CATEGORIES:Rallylydighet
ATTACH;FMTTYPE=image/jpeg:https://drammenhundepark.no/wp-content/uploads/2024/05/Drammen_Hundepark-5-3-e1729961895679.jpg
END:VEVENT
END:VCALENDAR