BEGIN:VCALENDAR
VERSION:2.0
PRODID:-//Drammen Hundepark - ECPv6.15.18//NONSGML v1.0//EN
CALSCALE:GREGORIAN
METHOD:PUBLISH
X-ORIGINAL-URL:https://drammenhundepark.no
X-WR-CALDESC:Arrangement for Drammen Hundepark
REFRESH-INTERVAL;VALUE=DURATION:PT1H
X-Robots-Tag:noindex
X-PUBLISHED-TTL:PT1H
BEGIN:VTIMEZONE
TZID:Europe/Oslo
BEGIN:DAYLIGHT
TZOFFSETFROM:+0100
TZOFFSETTO:+0200
TZNAME:CEST
DTSTART:20250330T010000
END:DAYLIGHT
BEGIN:STANDARD
TZOFFSETFROM:+0200
TZOFFSETTO:+0100
TZNAME:CET
DTSTART:20251026T010000
END:STANDARD
BEGIN:DAYLIGHT
TZOFFSETFROM:+0100
TZOFFSETTO:+0200
TZNAME:CEST
DTSTART:20260329T010000
END:DAYLIGHT
BEGIN:STANDARD
TZOFFSETFROM:+0200
TZOFFSETTO:+0100
TZNAME:CET
DTSTART:20261025T010000
END:STANDARD
BEGIN:DAYLIGHT
TZOFFSETFROM:+0100
TZOFFSETTO:+0200
TZNAME:CEST
DTSTART:20270328T010000
END:DAYLIGHT
BEGIN:STANDARD
TZOFFSETFROM:+0200
TZOFFSETTO:+0100
TZNAME:CET
DTSTART:20271031T010000
END:STANDARD
END:VTIMEZONE
BEGIN:VEVENT
DTSTART;TZID=Europe/Oslo:20260217T173000
DTEND;TZID=Europe/Oslo:20260217T183000
DTSTAMP:20260421T150822
CREATED:20260111T133541Z
LAST-MODIFIED:20260209T093025Z
UID:10000536-1771349400-1771353000@drammenhundepark.no
SUMMARY:Rally 2
DESCRIPTION:Dette kurset går over 6 tirsdager kl 17.30-18.30 innendørs i hall\, på kunstgress. \nVi jobber med skiltene i klasse 2. Glede\, mestring og samarbeid står fremdeles i fokus!\n(Man bør enten ha gått rally introkurs eller kunne klasse 1 skiltene for å få utbytte av kurset) \nDet er ikke kurs i uke 9\, da det er vinterferie i kommunen. \nInstruktør er Cathrine Samuelsen \n 
URL:https://drammenhundepark.no/event/rally-3-elite/
CATEGORIES:Rallylydighet
ATTACH;FMTTYPE=image/jpeg:https://drammenhundepark.no/wp-content/uploads/2024/05/Drammen_Hundepark-5-3-e1729961895679.jpg
END:VEVENT
BEGIN:VEVENT
DTSTART;TZID=Europe/Oslo:20260217T183000
DTEND;TZID=Europe/Oslo:20260217T193000
DTSTAMP:20260421T150822
CREATED:20251107T085240Z
LAST-MODIFIED:20260127T122529Z
UID:10000497-1771353000-1771356600@drammenhundepark.no
SUMMARY:Rally Intro
DESCRIPTION:Rally Intro\nDette kurset går over 6 tirsdager kl. 18.30–19.30. \nKurset passer for hunder som ikke har prøvd rallylydighet tidligere.Vi jobber med innlæring av skiltene i klasse 1\, og setter dem sammen i enkle kombinasjoner. Målet er å utvikle glede\, samarbeid og samspill mellom hund og fører i rallylydighet. \nDet er ikke kurs i uke 9 grunnet vinterferie i kommunen. \nInstruktør på kurset er Cathrine Samuelsen. \n  \n 
URL:https://drammenhundepark.no/event/rally-intro-13/
CATEGORIES:Rallylydighet
ATTACH;FMTTYPE=image/jpeg:https://drammenhundepark.no/wp-content/uploads/2024/05/Drammen_Hundepark-3-1-e1729960934856.jpg
END:VEVENT
BEGIN:VEVENT
DTSTART;TZID=Europe/Oslo:20260217T193000
DTEND;TZID=Europe/Oslo:20260217T210000
DTSTAMP:20260421T150822
CREATED:20250814T180339Z
LAST-MODIFIED:20250923T111950Z
UID:10000450-1771356600-1771362000@drammenhundepark.no
SUMMARY:Rally Treningsgruppe
DESCRIPTION:Etter at vårens treningsgruppe fylte seg så raskt opp legger vi ut høstens gruppe allerede nå! \nNå har du mulighet til å være med på en treningsgruppe som går over 12 kvelder. Alle nivå er velkommen\, krav til forkunnskap er gjennomført rally intro eller tilsvarende. \nVi samles hver tirsdag for 1 ½ time med rallytrening med instruktør. Temaene for treningene varierer og det er åpent for ønsker fra deltagerne. I tillegg får gruppa mulighet til å trene gratis når det er drop-in trening i hallen (mandag og torsdag kl 12-14\, fredag kl 17-19) under hele kursets varighet. \nVi holder på kl 1930-2100 alle kveldene. \nDet er ikke kurs i uke 9 da det er vinterferie i kommunen. \nInstruktør er Cathrine Samuelsen
URL:https://drammenhundepark.no/event/rally-treningsgruppe-3/
CATEGORIES:Rallylydighet
ATTACH;FMTTYPE=image/jpeg:https://drammenhundepark.no/wp-content/uploads/2024/05/Drammen_Hundepark-15-3-e1730760478401.jpg
END:VEVENT
END:VCALENDAR