BEGIN:VCALENDAR
VERSION:2.0
PRODID:-//Drammen Hundepark - ECPv6.15.18//NONSGML v1.0//EN
CALSCALE:GREGORIAN
METHOD:PUBLISH
X-ORIGINAL-URL:https://drammenhundepark.no
X-WR-CALDESC:Arrangement for Drammen Hundepark
REFRESH-INTERVAL;VALUE=DURATION:PT1H
X-Robots-Tag:noindex
X-PUBLISHED-TTL:PT1H
BEGIN:VTIMEZONE
TZID:Europe/Oslo
BEGIN:DAYLIGHT
TZOFFSETFROM:+0100
TZOFFSETTO:+0200
TZNAME:CEST
DTSTART:20250330T010000
END:DAYLIGHT
BEGIN:STANDARD
TZOFFSETFROM:+0200
TZOFFSETTO:+0100
TZNAME:CET
DTSTART:20251026T010000
END:STANDARD
BEGIN:DAYLIGHT
TZOFFSETFROM:+0100
TZOFFSETTO:+0200
TZNAME:CEST
DTSTART:20260329T010000
END:DAYLIGHT
BEGIN:STANDARD
TZOFFSETFROM:+0200
TZOFFSETTO:+0100
TZNAME:CET
DTSTART:20261025T010000
END:STANDARD
BEGIN:DAYLIGHT
TZOFFSETFROM:+0100
TZOFFSETTO:+0200
TZNAME:CEST
DTSTART:20270328T010000
END:DAYLIGHT
BEGIN:STANDARD
TZOFFSETFROM:+0200
TZOFFSETTO:+0100
TZNAME:CET
DTSTART:20271031T010000
END:STANDARD
END:VTIMEZONE
BEGIN:VEVENT
DTSTART;TZID=Europe/Oslo:20260219T193000
DTEND;TZID=Europe/Oslo:20260219T210000
DTSTAMP:20260421T152754
CREATED:20250923T111810Z
LAST-MODIFIED:20250923T111810Z
UID:10000472-1771529400-1771534800@drammenhundepark.no
SUMMARY:Rally Treningsgruppe
DESCRIPTION:Disse treningsgruppene har fylt seg så fort opp at vi setter opp ende en gruppe! \nNå har du mulighet til å være med på en treningsgruppe som går over 12 kvelder. Alle nivå er velkommen\, krav til forkunnskap er gjennomført rally intro eller tilsvarende. \nVi samles hver torsdag for 1 ½ time med rallytrening med instruktør. Temaene for treningene varierer og det er åpent for ønsker fra deltagerne. I tillegg får gruppa mulighet til å trene gratis når det er drop-in trening i hallen (mandag og torsdag kl 12-14\, fredag kl 17-19) under hele kursets varighet. \nVi holder på kl 1930-2100 alle kveldene. \nDet er ikke kurs i uke 9 da det er vinterferie i kommunen. \nInstruktør er Cathrine Samuelsen
URL:https://drammenhundepark.no/event/rally-treningsgruppe-4/
CATEGORIES:Rallylydighet
ATTACH;FMTTYPE=image/jpeg:https://drammenhundepark.no/wp-content/uploads/2024/05/Drammen_Hundepark-15-3-e1730760478401.jpg
END:VEVENT
END:VCALENDAR