BEGIN:VCALENDAR
VERSION:2.0
PRODID:-//Drammen Hundepark - ECPv6.15.18//NONSGML v1.0//EN
CALSCALE:GREGORIAN
METHOD:PUBLISH
X-WR-CALNAME:Drammen Hundepark
X-ORIGINAL-URL:https://drammenhundepark.no
X-WR-CALDESC:Arrangement for Drammen Hundepark
REFRESH-INTERVAL;VALUE=DURATION:PT1H
X-Robots-Tag:noindex
X-PUBLISHED-TTL:PT1H
BEGIN:VTIMEZONE
TZID:Europe/Oslo
BEGIN:DAYLIGHT
TZOFFSETFROM:+0100
TZOFFSETTO:+0200
TZNAME:CEST
DTSTART:20240331T010000
END:DAYLIGHT
BEGIN:STANDARD
TZOFFSETFROM:+0200
TZOFFSETTO:+0100
TZNAME:CET
DTSTART:20241027T010000
END:STANDARD
BEGIN:DAYLIGHT
TZOFFSETFROM:+0100
TZOFFSETTO:+0200
TZNAME:CEST
DTSTART:20250330T010000
END:DAYLIGHT
BEGIN:STANDARD
TZOFFSETFROM:+0200
TZOFFSETTO:+0100
TZNAME:CET
DTSTART:20251026T010000
END:STANDARD
BEGIN:DAYLIGHT
TZOFFSETFROM:+0100
TZOFFSETTO:+0200
TZNAME:CEST
DTSTART:20260329T010000
END:DAYLIGHT
BEGIN:STANDARD
TZOFFSETFROM:+0200
TZOFFSETTO:+0100
TZNAME:CET
DTSTART:20261025T010000
END:STANDARD
END:VTIMEZONE
BEGIN:VEVENT
DTSTART;TZID=Europe/Oslo:20250401T171500
DTEND;TZID=Europe/Oslo:20250401T184500
DTSTAMP:20260420T055224
CREATED:20250116T123009Z
LAST-MODIFIED:20250401T130609Z
UID:10000373-1743527700-1743533100@drammenhundepark.no
SUMMARY:Valpekurs (Fullbooket)
DESCRIPTION:Dette kurset går over 5 tirsdager kl 17.15-18.45 innendørs i oppvarmet hall (ca 12 grader vinterstid) på kunstgress.\nFokuset vil være på vanlige hverdagslydighet som \n\nHåndtering/ro\nKontakt\nInnkalling\nLegg deg og bli liggende\nIntroduksjon gå pent i bånd\nVent/bli/selvkontroll\nBelønningsutvikling\n\nDet er ikke kurs i påskeuken \nInstruktør på kurset er Heidi Aaknes
URL:https://drammenhundepark.no/event/valpekurs-12/
CATEGORIES:Valpekurs
ATTACH;FMTTYPE=image/jpeg:https://drammenhundepark.no/wp-content/uploads/2024/10/DSC_1164-kopi-scaled-e1737030519735.jpg
END:VEVENT
BEGIN:VEVENT
DTSTART;TZID=Europe/Oslo:20250401T190000
DTEND;TZID=Europe/Oslo:20250401T203000
DTSTAMP:20260420T055224
CREATED:20250302T164744Z
LAST-MODIFIED:20250302T164744Z
UID:10000391-1743534000-1743539400@drammenhundepark.no
SUMMARY:Valpekurs
DESCRIPTION:Dette kurset går over 5 tirsdager kl 19.00-20.30 innendørs i oppvarmet hall (ca 12 grader vinterstid) på kunstgress.\nFokuset vil være på vanlige hverdagslydighet som; \n\nHåndtering/ro\nKontakt\nInnkalling\nLegg deg og bli liggende\nIntroduksjon gå pent i bånd\nVent/bli/selvkontroll\nBelønningsutvikling\n\nDet er ikke kurs i påskeuken. \nInstruktør på kurset er Heidi Aaknes
URL:https://drammenhundepark.no/event/valpekurs-13/
CATEGORIES:Valpekurs
ATTACH;FMTTYPE=image/jpeg:https://drammenhundepark.no/wp-content/uploads/2025/01/DSC_1107-kopi-scaled-e1737121037765.jpg
END:VEVENT
END:VCALENDAR