BEGIN:VCALENDAR
VERSION:2.0
PRODID:-//Drammen Hundepark - ECPv6.15.18//NONSGML v1.0//EN
CALSCALE:GREGORIAN
METHOD:PUBLISH
X-WR-CALNAME:Drammen Hundepark
X-ORIGINAL-URL:https://drammenhundepark.no
X-WR-CALDESC:Arrangement for Drammen Hundepark
REFRESH-INTERVAL;VALUE=DURATION:PT1H
X-Robots-Tag:noindex
X-PUBLISHED-TTL:PT1H
BEGIN:VTIMEZONE
TZID:Europe/Oslo
BEGIN:DAYLIGHT
TZOFFSETFROM:+0100
TZOFFSETTO:+0200
TZNAME:CEST
DTSTART:20250330T010000
END:DAYLIGHT
BEGIN:STANDARD
TZOFFSETFROM:+0200
TZOFFSETTO:+0100
TZNAME:CET
DTSTART:20251026T010000
END:STANDARD
BEGIN:DAYLIGHT
TZOFFSETFROM:+0100
TZOFFSETTO:+0200
TZNAME:CEST
DTSTART:20260329T010000
END:DAYLIGHT
BEGIN:STANDARD
TZOFFSETFROM:+0200
TZOFFSETTO:+0100
TZNAME:CET
DTSTART:20261025T010000
END:STANDARD
BEGIN:DAYLIGHT
TZOFFSETFROM:+0100
TZOFFSETTO:+0200
TZNAME:CEST
DTSTART:20270328T010000
END:DAYLIGHT
BEGIN:STANDARD
TZOFFSETFROM:+0200
TZOFFSETTO:+0100
TZNAME:CET
DTSTART:20271031T010000
END:STANDARD
END:VTIMEZONE
BEGIN:VEVENT
DTSTART;TZID=Europe/Oslo:20260512T200000
DTEND;TZID=Europe/Oslo:20260512T210000
DTSTAMP:20260419T160212
CREATED:20260407T110210Z
LAST-MODIFIED:20260407T110210Z
UID:10000565-1778616000-1778619600@drammenhundepark.no
SUMMARY:Videregående hverdagslydighet
DESCRIPTION:Videregående hverdagslydighet\nDette kurset er for deg som vil styrke hundens hverdagslydighet og samspill med fører i ulike hverdagssituasjoner. \nKurset strekker seg over 6 tirsdager kl. 20.00-21.00 Treningen foregår innendørs i en oppvarmet hall med kunstgress. \nI løpet av kurset jobber vi blant annet med: \n\nÅ forholde seg rolig rundt andre hunder\nHundemøter på tur – hvordan håndtere dem på en god måte\nÅ gå pent i bånd\nLek som belønning og sosial motivasjon\nSelvbeherskelse og impulskontroll\n«Ligg på plassen din»\nInnkalling\n\nInstruktør på kurset er Marianne Paulsen. \n 
URL:https://drammenhundepark.no/event/videregaende-hverdagslydighet-22/
CATEGORIES:Videregående hverdagslydighet
ATTACH;FMTTYPE=image/jpeg:https://drammenhundepark.no/wp-content/uploads/2024/10/DSC_0074-kopi-scaled-e1729960191636.jpg
END:VEVENT
END:VCALENDAR