BEGIN:VCALENDAR
VERSION:2.0
PRODID:-//Drammen Hundepark - ECPv6.15.18//NONSGML v1.0//EN
CALSCALE:GREGORIAN
METHOD:PUBLISH
X-ORIGINAL-URL:https://drammenhundepark.no
X-WR-CALDESC:Arrangement for Drammen Hundepark
REFRESH-INTERVAL;VALUE=DURATION:PT1H
X-Robots-Tag:noindex
X-PUBLISHED-TTL:PT1H
BEGIN:VTIMEZONE
TZID:Europe/Oslo
BEGIN:DAYLIGHT
TZOFFSETFROM:+0100
TZOFFSETTO:+0200
TZNAME:CEST
DTSTART:20240331T010000
END:DAYLIGHT
BEGIN:STANDARD
TZOFFSETFROM:+0200
TZOFFSETTO:+0100
TZNAME:CET
DTSTART:20241027T010000
END:STANDARD
BEGIN:DAYLIGHT
TZOFFSETFROM:+0100
TZOFFSETTO:+0200
TZNAME:CEST
DTSTART:20250330T010000
END:DAYLIGHT
BEGIN:STANDARD
TZOFFSETFROM:+0200
TZOFFSETTO:+0100
TZNAME:CET
DTSTART:20251026T010000
END:STANDARD
BEGIN:DAYLIGHT
TZOFFSETFROM:+0100
TZOFFSETTO:+0200
TZNAME:CEST
DTSTART:20260329T010000
END:DAYLIGHT
BEGIN:STANDARD
TZOFFSETFROM:+0200
TZOFFSETTO:+0100
TZNAME:CET
DTSTART:20261025T010000
END:STANDARD
END:VTIMEZONE
BEGIN:VEVENT
DTSTART;TZID=Europe/Oslo:20250401T171500
DTEND;TZID=Europe/Oslo:20250401T184500
DTSTAMP:20260425T032454
CREATED:20250116T123009Z
LAST-MODIFIED:20250401T130609Z
UID:10000373-1743527700-1743533100@drammenhundepark.no
SUMMARY:Valpekurs (Fullbooket)
DESCRIPTION:Dette kurset går over 5 tirsdager kl 17.15-18.45 innendørs i oppvarmet hall (ca 12 grader vinterstid) på kunstgress.\nFokuset vil være på vanlige hverdagslydighet som \n\nHåndtering/ro\nKontakt\nInnkalling\nLegg deg og bli liggende\nIntroduksjon gå pent i bånd\nVent/bli/selvkontroll\nBelønningsutvikling\n\nDet er ikke kurs i påskeuken \nInstruktør på kurset er Heidi Aaknes
URL:https://drammenhundepark.no/event/valpekurs-12/
CATEGORIES:Valpekurs
ATTACH;FMTTYPE=image/jpeg:https://drammenhundepark.no/wp-content/uploads/2024/10/DSC_1164-kopi-scaled-e1737030519735.jpg
END:VEVENT
BEGIN:VEVENT
DTSTART;TZID=Europe/Oslo:20250401T190000
DTEND;TZID=Europe/Oslo:20250401T203000
DTSTAMP:20260425T032454
CREATED:20250302T164744Z
LAST-MODIFIED:20250302T164744Z
UID:10000391-1743534000-1743539400@drammenhundepark.no
SUMMARY:Valpekurs
DESCRIPTION:Dette kurset går over 5 tirsdager kl 19.00-20.30 innendørs i oppvarmet hall (ca 12 grader vinterstid) på kunstgress.\nFokuset vil være på vanlige hverdagslydighet som; \n\nHåndtering/ro\nKontakt\nInnkalling\nLegg deg og bli liggende\nIntroduksjon gå pent i bånd\nVent/bli/selvkontroll\nBelønningsutvikling\n\nDet er ikke kurs i påskeuken. \nInstruktør på kurset er Heidi Aaknes
URL:https://drammenhundepark.no/event/valpekurs-13/
CATEGORIES:Valpekurs
ATTACH;FMTTYPE=image/jpeg:https://drammenhundepark.no/wp-content/uploads/2025/01/DSC_1107-kopi-scaled-e1737121037765.jpg
END:VEVENT
BEGIN:VEVENT
DTSTART;TZID=Europe/Oslo:20250403T183000
DTEND;TZID=Europe/Oslo:20250403T200000
DTSTAMP:20260425T032454
CREATED:20250228T173419Z
LAST-MODIFIED:20250326T155233Z
UID:10000385-1743705000-1743710400@drammenhundepark.no
SUMMARY:Agility Videregående (Fullbooket)
DESCRIPTION:Dette kurset går over 5 påfølgende torsdager kl 18.30-20.00. Innendørs i oppvarmet hall på kunstgress. \n\nDette er for hunder som har vært på introkurs eller har tilsvarende kunnskaper.\nVi bygger videre på det hunden har lært til nå. Vi begynner å sette sammen de forskjellige hindrene og lage kombinasjoner.\nDet blir jobbet mer med føring\, og du vil lære mer om hva handling går ut på.\nVi fortsetter jobben med hinder som krever mengdetrening\, som slalom og felthindrene.\nDet blir fokus på hindersug\, fart og motivasjon.\nNivået tilpasses hver ekvipasjes kunnskap og ambisjon.\n\nDet er nå agility virkelig begynner å bli moro! \nInstruktør er Tommy Kjennerud
URL:https://drammenhundepark.no/event/agility-videregaende-4/
CATEGORIES:Agilitykurs
ATTACH;FMTTYPE=image/jpeg:https://drammenhundepark.no/wp-content/uploads/2024/05/Drammen_Hundepark-5-3-e1729961895679.jpg
END:VEVENT
BEGIN:VEVENT
DTSTART;TZID=Europe/Oslo:20250408T173000
DTEND;TZID=Europe/Oslo:20250408T183000
DTSTAMP:20260425T032454
CREATED:20241213T085600Z
LAST-MODIFIED:20250302T180432Z
UID:10000366-1744133400-1744137000@drammenhundepark.no
SUMMARY:Rally Intro
DESCRIPTION:Dette kurset går over 6 tirsdager kl 17.30-18.30 innendørs i oppvarmet hall\, på kunstgress.\nDet er ikke kurs i påskeuka. \nPasser for hunder som ikke har prøvd rallylydighet før.  Vi tar for oss og trener på skiltene i klasse 1 og vil sette de sammen til små kombinasjoner. Vi jobber med å utvikle glede og samspill mellom hund og fører. \nInstruktør er Cathrine Samuelsen
URL:https://drammenhundepark.no/event/rally-intro-5/
CATEGORIES:Rallylydighet
ATTACH;FMTTYPE=image/jpeg:https://drammenhundepark.no/wp-content/uploads/2024/05/Drammen_Hundepark-15-3-e1730760478401.jpg
END:VEVENT
BEGIN:VEVENT
DTSTART;TZID=Europe/Oslo:20250408T180000
DTEND;TZID=Europe/Oslo:20250408T190000
DTSTAMP:20260425T032454
CREATED:20250214T180915Z
LAST-MODIFIED:20250402T124924Z
UID:10000384-1744135200-1744138800@drammenhundepark.no
SUMMARY:Gøy med hund (Fullbooket)
DESCRIPTION:Dette kurset går over 6 tirsdager kl 18.00-19.00 innendørs i oppvarmet hall. \nMålet med kurset er; \n\nÅ se nærmere på hvilke artige hundeaktiviteter som finnes der ute\nStyrke relasjonen mellom hund og fører\nBygge et godt samarbeid\nHa det gøy med hunden!\n\nInstruktør er Marianne Paulsen
URL:https://drammenhundepark.no/event/goy-med-hund-2/
CATEGORIES:Gøy med hund
ATTACH;FMTTYPE=image/jpeg:https://drammenhundepark.no/wp-content/uploads/2024/05/Drammen_Hundepark-16-1-e1737118563277.jpg
END:VEVENT
BEGIN:VEVENT
DTSTART;TZID=Europe/Oslo:20250408T190000
DTEND;TZID=Europe/Oslo:20250408T200000
DTSTAMP:20260425T032454
CREATED:20250214T175051Z
LAST-MODIFIED:20250326T155144Z
UID:10000382-1744138800-1744142400@drammenhundepark.no
SUMMARY:Videregående hverdagslydighet (Fullbooket)
DESCRIPTION:Dette kurset går over 6 tirsdager kl 19.00-20.00 Innendørs i oppvarmet hall med kunstgress. \nVi tar for oss hverdagslydighet som; \n\nForholde seg rolig rundt andre hunder\nHvordan opptre i møte med andre hunder på tur\nGå pent i bånd\nLek og sosial belønning\nSelvbeherskelse\nLigg på plassen din\nInnkalling\n\nInstruktør på kurset er Marianne Paulsen
URL:https://drammenhundepark.no/event/videregaende-hverdagslydighet-7/
CATEGORIES:Videregående hverdagslydighet
ATTACH;FMTTYPE=image/jpeg:https://drammenhundepark.no/wp-content/uploads/2024/05/Drammen_Hundepark-3-1-e1729960934856.jpg
END:VEVENT
BEGIN:VEVENT
DTSTART;TZID=Europe/Oslo:20250410T170000
DTEND;TZID=Europe/Oslo:20250410T183000
DTSTAMP:20260425T032454
CREATED:20250307T195321Z
LAST-MODIFIED:20250401T132849Z
UID:10000397-1744304400-1744309800@drammenhundepark.no
SUMMARY:Agility Videregående
DESCRIPTION:Dette kurset går over 5 torsdager kl 17.00-18.30 \n\n\n\nDette er for hunder som har vært på introkurs eller har tilsvarende kunnskaper.\nVi bygger videre på det hunden har lært til nå. Vi begynner å sette sammen de forskjellige hindrene og lage kombinasjoner.\nDet blir jobbet mer med føring\, og du vil lære mer om hva handling går ut på.\nVi fortsetter jobben med hinder som krever mengdetrening\, som slalom og felthindrene.\nDet blir fokus på hindersug\, fart og motivasjon.\nNivået tilpasses hver ekvipasjes kunnskap og ambisjon.\n\nDet er nå agility virkelig begynner å bli moro! \n\n\nInstruktør er Tommy Kjennerud \n-Det er ikke kurs i påskeuka og 1. mai-
URL:https://drammenhundepark.no/event/agility-intro-5/
CATEGORIES:Agilitykurs
ATTACH;FMTTYPE=image/jpeg:https://drammenhundepark.no/wp-content/uploads/2024/05/Drammen_Hundepark-2-6-e1729962237557.jpg
END:VEVENT
BEGIN:VEVENT
DTSTART;TZID=Europe/Oslo:20250410T174500
DTEND;TZID=Europe/Oslo:20250410T191500
DTSTAMP:20260425T032454
CREATED:20241204T200341Z
LAST-MODIFIED:20250313T101152Z
UID:10000357-1744307100-1744312500@drammenhundepark.no
SUMMARY:Miljøkurs
DESCRIPTION:Dette kurset går over 4 torsdager. Kl 17.45-19.15 \n\nFokus på å forholde seg rolig\nOppnå kontakt\nTa imot signaler og beskjeder.\nSe på alle muligheter for aktivisering og utfordringer vi har i nærmiljøet\n\nInstruktør er Kine Pedersen
URL:https://drammenhundepark.no/event/miljokurs/
CATEGORIES:Nosework
ATTACH;FMTTYPE=image/jpeg:https://drammenhundepark.no/wp-content/uploads/2024/10/DSC_1604-kopi-scaled-e1733342448500.jpg
END:VEVENT
BEGIN:VEVENT
DTSTART;TZID=Europe/Oslo:20250410T200000
DTEND;TZID=Europe/Oslo:20250410T210000
DTSTAMP:20260425T032454
CREATED:20250117T115422Z
LAST-MODIFIED:20250211T130853Z
UID:10000376-1744315200-1744318800@drammenhundepark.no
SUMMARY:Bronsemerkekurs
DESCRIPTION:Dette kurset går over 6 torsdager kl 20.00-21.00 \nDette er kurset for deg som; \n\nØnsker en introduksjon til hundesporten lydighet\nØnsker å aktivisere hunden ved å lære nye lydighetsøvelser\n\nInstruktør er Marianne Paulsen
URL:https://drammenhundepark.no/event/bronsemerkekurs-3/
CATEGORIES:Bronsemerkekurs
ATTACH;FMTTYPE=image/jpeg:https://drammenhundepark.no/wp-content/uploads/2024/05/Drammen_Hundepark-6-1-e1730758231832.jpg
END:VEVENT
BEGIN:VEVENT
DTSTART;TZID=Europe/Oslo:20250422T183000
DTEND;TZID=Europe/Oslo:20250422T193000
DTSTAMP:20260425T032454
CREATED:20250312T100008Z
LAST-MODIFIED:20250312T100008Z
UID:10000401-1745346600-1745350200@drammenhundepark.no
SUMMARY:Rally 2
DESCRIPTION:Dette kurset går over 5 tirsdager kl 18.30-19.30 innendørs i oppvarmet hall\, på kunstgress. \nVi jobber med skiltene i klasse 2. Glede\, mestring og samarbeid står fremdeles i fokus!\n(Man bør enten ha gått rally introkurs eller kunne klasse 1 skiltene for å få utbytte av kurset) \nInstruktør er Cathrine Samuelsen
URL:https://drammenhundepark.no/event/rally-2-3/
CATEGORIES:Rallylydighet
ATTACH;FMTTYPE=image/jpeg:https://drammenhundepark.no/wp-content/uploads/2024/05/Drammen_Hundepark-5-2-e1729960790137.jpg
END:VEVENT
BEGIN:VEVENT
DTSTART;TZID=Europe/Oslo:20250424T180000
DTEND;TZID=Europe/Oslo:20250424T190000
DTSTAMP:20260425T032454
CREATED:20250302T173605Z
LAST-MODIFIED:20250302T173805Z
UID:10000394-1745517600-1745521200@drammenhundepark.no
SUMMARY:Passeringskurs
DESCRIPTION:Dette kurset går over 6 torsdager kl 18.00-19.00 innendørs på kunstgress i oppvarmet hall. \n\nFokus på å passere andre hunder på tur\nGå pent i bånd\nKontakt\nSelvbeherskelse og ro\n\nDet er ikke kurs 1. mai og i påskeuka\, så her blir det oppfølging over en lengre periode. \nInstruktør er Marianne Paulsen
URL:https://drammenhundepark.no/event/passeringskurs-4/
CATEGORIES:Passeringskurs
ATTACH;FMTTYPE=image/jpeg:https://drammenhundepark.no/wp-content/uploads/2024/05/Drammen_Hundepark-3-3-e1737116271742.jpg
END:VEVENT
END:VCALENDAR