BEGIN:VCALENDAR
VERSION:2.0
PRODID:-//Drammen Hundepark - ECPv6.15.18//NONSGML v1.0//EN
CALSCALE:GREGORIAN
METHOD:PUBLISH
X-WR-CALNAME:Drammen Hundepark
X-ORIGINAL-URL:https://drammenhundepark.no
X-WR-CALDESC:Arrangement for Drammen Hundepark
REFRESH-INTERVAL;VALUE=DURATION:PT1H
X-Robots-Tag:noindex
X-PUBLISHED-TTL:PT1H
BEGIN:VTIMEZONE
TZID:Europe/Oslo
BEGIN:DAYLIGHT
TZOFFSETFROM:+0100
TZOFFSETTO:+0200
TZNAME:CEST
DTSTART:20240331T010000
END:DAYLIGHT
BEGIN:STANDARD
TZOFFSETFROM:+0200
TZOFFSETTO:+0100
TZNAME:CET
DTSTART:20241027T010000
END:STANDARD
BEGIN:DAYLIGHT
TZOFFSETFROM:+0100
TZOFFSETTO:+0200
TZNAME:CEST
DTSTART:20250330T010000
END:DAYLIGHT
BEGIN:STANDARD
TZOFFSETFROM:+0200
TZOFFSETTO:+0100
TZNAME:CET
DTSTART:20251026T010000
END:STANDARD
BEGIN:DAYLIGHT
TZOFFSETFROM:+0100
TZOFFSETTO:+0200
TZNAME:CEST
DTSTART:20260329T010000
END:DAYLIGHT
BEGIN:STANDARD
TZOFFSETFROM:+0200
TZOFFSETTO:+0100
TZNAME:CET
DTSTART:20261025T010000
END:STANDARD
END:VTIMEZONE
BEGIN:VEVENT
DTSTART;TZID=Europe/Oslo:20250623T170000
DTEND;TZID=Europe/Oslo:20250623T183000
DTSTAMP:20260424T142735
CREATED:20250301T111018Z
LAST-MODIFIED:20250529T173352Z
UID:10000388-1750698000-1750703400@drammenhundepark.no
SUMMARY:Rally Intro uke 26 (Fullbooket)
DESCRIPTION:Dette sommerkurset i rallylydighet går kl 17.00-18.30 mandag\, tirsdag\, onsdag og torsdag i uke 26. \n\nPasser for hunder som ikke har prøvd rallylydighet før.\nHer trener vi på skiltene i klasse 1 og vil sette de sammen til små kombinasjoner.\nVi jobber med å utvikle glede og samspill mellom hund og fører.\n\nInstruktør er Cathrine Samuelsen
URL:https://drammenhundepark.no/event/rally-intro-uke-26/
CATEGORIES:Rallylydighet,Sommerkurs
ATTACH;FMTTYPE=image/jpeg:https://drammenhundepark.no/wp-content/uploads/2024/05/Drammen_Hundepark-15-3-e1730760478401.jpg
END:VEVENT
BEGIN:VEVENT
DTSTART;TZID=Europe/Oslo:20250623T170000
DTEND;TZID=Europe/Oslo:20250623T183000
DTSTAMP:20260424T142735
CREATED:20250302T174846Z
LAST-MODIFIED:20250623T075207Z
UID:10000395-1750698000-1750703400@drammenhundepark.no
SUMMARY:Passeringskurs uke 26 (Fullbooket)
DESCRIPTION:Dette sommerkurset i passering går kl 17.00-18.30 mandag\, tirsdag\, onsdag og torsdag i uke 26. \n\nFokus på å passere andre hunder på tur\nGå pent i bånd\nKontakt\nSelvbeherskelse og ro\n\nInstruktør er Marianne Paulsen
URL:https://drammenhundepark.no/event/passeringskurs-uke-26/
CATEGORIES:Passeringskurs,Sommerkurs
ATTACH;FMTTYPE=image/jpeg:https://drammenhundepark.no/wp-content/uploads/2025/02/1-kurshund.jpg
END:VEVENT
BEGIN:VEVENT
DTSTART;TZID=Europe/Oslo:20250623T183000
DTEND;TZID=Europe/Oslo:20250623T200000
DTSTAMP:20260424T142735
CREATED:20250420T162629Z
LAST-MODIFIED:20250526T202756Z
UID:10000408-1750703400-1750708800@drammenhundepark.no
SUMMARY:Valp sommerkurs (Fullbooket)
DESCRIPTION:Dette sommerkurset for valper går kl 18.30-20.00 mandag\, tirsdag\, onsdag og torsdag i uke 26\nFokuset vil være på vanlig hverdagslydighet som; \n\nHåndtering/ro\nKontakt\nInnkalling\nLegg deg og bli liggende\nIntroduksjon gå pent i bånd\nVent/bli/selvkontroll\nBelønningsutvikling\n\nInstruktør på kurset er Marianne Paulsen
URL:https://drammenhundepark.no/event/valpe-sommerkurs/
CATEGORIES:Sommerkurs,Valpekurs
ATTACH;FMTTYPE=image/jpeg:https://drammenhundepark.no/wp-content/uploads/2025/01/DSC_1200-kopi-scaled-e1737121258972.jpg
END:VEVENT
BEGIN:VEVENT
DTSTART;TZID=Europe/Oslo:20250623T184500
DTEND;TZID=Europe/Oslo:20250623T201500
DTSTAMP:20260424T142735
CREATED:20250302T180117Z
LAST-MODIFIED:20250526T202718Z
UID:10000396-1750704300-1750709700@drammenhundepark.no
SUMMARY:Rally banekurs uke 26 (Fullbooket)
DESCRIPTION:Dette sommerkurset i rallylydighet går kl 18.45-20.15 mandag\, tirsdag\, onsdag og torsdag i uke 26. \nDenne uken jobber vi med å gå baner i rallylydighet!\nCathrine bygger baner som tidligere har blitt brukt på konkurranser. Hun vil gi tips og tilbakemelding på øvelsene i løpene dine og gi råd om neste steg i treningen. Kurset er både for konkurranseekvipasjer\, og de som bruker øvelsene i rallylydighet som aktivisering for sin hund. \nDu må kjenne til skiltene i klasse 1 for å få utbytte av kurset\, skriv i påmelding om du ønsker øvelser i høyere klasse. \nInstruktør er Cathrine Samuelsen
URL:https://drammenhundepark.no/event/rally-banekurs-uke-26/
CATEGORIES:Rallylydighet,Sommerkurs
ATTACH;FMTTYPE=image/jpeg:https://drammenhundepark.no/wp-content/uploads/2024/05/Drammen_Hundepark-15-3-e1730760478401.jpg
END:VEVENT
BEGIN:VEVENT
DTSTART;TZID=Europe/Oslo:20250630T170000
DTEND;TZID=Europe/Oslo:20250630T183000
DTSTAMP:20260424T142735
CREATED:20250228T190332Z
LAST-MODIFIED:20250605T183132Z
UID:10000386-1751302800-1751308200@drammenhundepark.no
SUMMARY:Agility Intro uke 27 (Fullbooket)
DESCRIPTION:Dette sommerkurset i agility går kl 17.00-18.30 mandag\, tirsdag\, onsdag og torsdag i uke 27. \n\nDette er kurs for hunder som ikke har vært borti agility før.\nPasser alle som har lyst til å ha det moro med hunden sin.\nHer blir hunden introdusert for alle hindrene som inngår i en agilitybane.\nNår hunden begynner å kunne flere av hindrene\, vil vi sette de sammen til små kombinasjoner.\nDet vil bli lagt mye vekt på hindersikkerhet\, belønningsmetoder\, og hvordan vi får fram motivasjon i hundene våre.Agility er gøy for både hund og fører!\n\nInstruktør er Tommy Kjennerud
URL:https://drammenhundepark.no/event/agility-intro-uke-27/
CATEGORIES:Agilitykurs,Sommerkurs
ATTACH;FMTTYPE=image/jpeg:https://drammenhundepark.no/wp-content/uploads/2025/02/1-agility.jpg
END:VEVENT
BEGIN:VEVENT
DTSTART;TZID=Europe/Oslo:20250630T183000
DTEND;TZID=Europe/Oslo:20250630T200000
DTSTAMP:20260424T142735
CREATED:20250228T191012Z
LAST-MODIFIED:20250605T105010Z
UID:10000387-1751308200-1751313600@drammenhundepark.no
SUMMARY:Agility Videregående uke 27 (Fullbooket)
DESCRIPTION:Dette sommerkurset i agility går kl 18.30-20.00 mandag\, tirsdag\, onsdag og torsdag i uke 27. \n\n\n\nDette er for hunder som har vært på introkurs eller har tilsvarende kunnskaper.\nVi bygger videre på det hunden har lært til nå. Vi begynner å sette sammen de forskjellige hindrene og lage kombinasjoner.\nDet blir jobbet mer med føring\, og du vil lære mer om hva handling går ut på.\nVi fortsetter jobben med hinder som krever mengdetrening\, som slalom og felthindrene.\nDet blir fokus på hindersug\, fart og motivasjon.\nNivået tilpasses hver ekvipasjes kunnskap og ambisjon.\n\nDet er nå agility virkelig begynner å bli moro! \nInstruktør er Tommy Kjennerud
URL:https://drammenhundepark.no/event/agility-videregaende-uke-27/
CATEGORIES:Agilitykurs,Sommerkurs
ATTACH;FMTTYPE=image/jpeg:https://drammenhundepark.no/wp-content/uploads/2025/02/1-agility.jpg
END:VEVENT
END:VCALENDAR