BEGIN:VCALENDAR
VERSION:2.0
PRODID:-//Drammen Hundepark - ECPv6.15.18//NONSGML v1.0//EN
CALSCALE:GREGORIAN
METHOD:PUBLISH
X-ORIGINAL-URL:https://drammenhundepark.no
X-WR-CALDESC:Arrangement for Drammen Hundepark
REFRESH-INTERVAL;VALUE=DURATION:PT1H
X-Robots-Tag:noindex
X-PUBLISHED-TTL:PT1H
BEGIN:VTIMEZONE
TZID:Europe/Oslo
BEGIN:DAYLIGHT
TZOFFSETFROM:+0100
TZOFFSETTO:+0200
TZNAME:CEST
DTSTART:20240331T010000
END:DAYLIGHT
BEGIN:STANDARD
TZOFFSETFROM:+0200
TZOFFSETTO:+0100
TZNAME:CET
DTSTART:20241027T010000
END:STANDARD
BEGIN:DAYLIGHT
TZOFFSETFROM:+0100
TZOFFSETTO:+0200
TZNAME:CEST
DTSTART:20250330T010000
END:DAYLIGHT
BEGIN:STANDARD
TZOFFSETFROM:+0200
TZOFFSETTO:+0100
TZNAME:CET
DTSTART:20251026T010000
END:STANDARD
BEGIN:DAYLIGHT
TZOFFSETFROM:+0100
TZOFFSETTO:+0200
TZNAME:CEST
DTSTART:20260329T010000
END:DAYLIGHT
BEGIN:STANDARD
TZOFFSETFROM:+0200
TZOFFSETTO:+0100
TZNAME:CET
DTSTART:20261025T010000
END:STANDARD
END:VTIMEZONE
BEGIN:VEVENT
DTSTART;TZID=Europe/Oslo:20250707T170000
DTEND;TZID=Europe/Oslo:20250707T183000
DTSTAMP:20260424T102824
CREATED:20250526T154422Z
LAST-MODIFIED:20250705T053823Z
UID:10000422-1751907600-1751913000@drammenhundepark.no
SUMMARY:Agility Intro uke 28
DESCRIPTION:Dette sommerkurset i agility går kl 17.00-18.30 mandag\, tirsdag\, onsdag og torsdag i uke 28. \n\nDette er kurs for hunder som ikke har vært borti agility før.\nPasser alle som har lyst til å ha det moro med hunden sin.\nHer blir hunden introdusert for alle hindrene som inngår i en agilitybane.\nNår hunden begynner å kunne flere av hindrene\, vil vi sette de sammen til små kombinasjoner.\nDet vil bli lagt mye vekt på hindersikkerhet\, belønningsmetoder\, og hvordan vi får fram motivasjon i hundene våre.Agility er gøy for både hund og fører!\n\nInstruktør er Tommy Kjennerud
URL:https://drammenhundepark.no/event/agility-intro-uke-28/
CATEGORIES:Agilitykurs,Sommerkurs
ATTACH;FMTTYPE=image/jpeg:https://drammenhundepark.no/wp-content/uploads/2025/02/1-agility.jpg
END:VEVENT
BEGIN:VEVENT
DTSTART;TZID=Europe/Oslo:20250707T170000
DTEND;TZID=Europe/Oslo:20250707T183000
DTSTAMP:20260424T102824
CREATED:20250529T173722Z
LAST-MODIFIED:20250627T104339Z
UID:10000423-1751907600-1751913000@drammenhundepark.no
SUMMARY:Rally Intro uke 28 (Fullbooket)
DESCRIPTION:Dette sommerkurset i rallylydighet går kl 17.00-18.30 mandag\, tirsdag\, onsdag og torsdag i uke 28. \n\nPasser for hunder som ikke har prøvd rallylydighet før.\nHer trener vi på skiltene i klasse 1 og vil sette de sammen til små kombinasjoner.\nVi jobber med å utvikle glede og samspill mellom hund og fører.\n\nInstruktør er Cathrine Samuelsen
URL:https://drammenhundepark.no/event/rally-intro-uke-26-2/
CATEGORIES:Rallylydighet,Sommerkurs
ATTACH;FMTTYPE=image/jpeg:https://drammenhundepark.no/wp-content/uploads/2024/05/Drammen_Hundepark-15-3-e1730760478401.jpg
END:VEVENT
BEGIN:VEVENT
DTSTART;TZID=Europe/Oslo:20250707T170000
DTEND;TZID=Europe/Oslo:20250707T183000
DTSTAMP:20260424T102824
CREATED:20250602T144321Z
LAST-MODIFIED:20250613T214314Z
UID:10000426-1751907600-1751913000@drammenhundepark.no
SUMMARY:Valp sommerkurs uke 28 (Fullbooket)
DESCRIPTION:Dette sommerkurset for valper går kl 17.00-18.30 mandag\, tirsdag\, onsdag og torsdag i uke 28\nFokuset vil være på vanlig hverdagslydighet som; \n\nHåndtering/ro\nKontakt\nInnkalling\nLegg deg og bli liggende\nIntroduksjon gå pent i bånd\nVent/bli/selvkontroll\nBelønningsutvikling\n\nInstruktør på kurset er Marianne Paulsen
URL:https://drammenhundepark.no/event/valp-sommerkurs-uke-28/
CATEGORIES:Sommerkurs,Valpekurs
ATTACH;FMTTYPE=image/jpeg:https://drammenhundepark.no/wp-content/uploads/2025/01/DSC_0687-kopi-scaled-e1737120796510.jpg
END:VEVENT
BEGIN:VEVENT
DTSTART;TZID=Europe/Oslo:20250707T183000
DTEND;TZID=Europe/Oslo:20250707T200000
DTSTAMP:20260424T102824
CREATED:20250529T174342Z
LAST-MODIFIED:20250529T174342Z
UID:10000425-1751913000-1751918400@drammenhundepark.no
SUMMARY:Agility Videregående uke 28
DESCRIPTION:Dette sommerkurset i agility går kl 18.30-20.00 mandag\, tirsdag\, onsdag og torsdag i uke 28. \n\n\n\nDette er for hunder som har vært på introkurs eller har tilsvarende kunnskaper.\nVi bygger videre på det hunden har lært til nå. Vi begynner å sette sammen de forskjellige hindrene og lage kombinasjoner.\nDet blir jobbet mer med føring\, og du vil lære mer om hva handling går ut på.\nVi fortsetter jobben med hinder som krever mengdetrening\, som slalom og felthindrene.\nDet blir fokus på hindersug\, fart og motivasjon.\nNivået tilpasses hver ekvipasjes kunnskap og ambisjon.\n\nDet er nå agility virkelig begynner å bli moro! \nInstruktør er Tommy Kjennerud
URL:https://drammenhundepark.no/event/agility-videregaende-uke-28/
CATEGORIES:Agilitykurs,Sommerkurs
ATTACH;FMTTYPE=image/jpeg:https://drammenhundepark.no/wp-content/uploads/2025/02/1-agility.jpg
END:VEVENT
BEGIN:VEVENT
DTSTART;TZID=Europe/Oslo:20250707T183000
DTEND;TZID=Europe/Oslo:20250707T200000
DTSTAMP:20260424T102824
CREATED:20250612T120218Z
LAST-MODIFIED:20250707T140839Z
UID:10000435-1751913000-1751918400@drammenhundepark.no
SUMMARY:Valp sommerkurs uke 28 (Fullbooket)
DESCRIPTION:Dette sommerkurset for valper går kl 18.30-20.00 mandag\, tirsdag\, onsdag og torsdag i uke 28\nFokuset vil være på vanlig hverdagslydighet som; \n\nHåndtering/ro\nKontakt\nInnkalling\nLegg deg og bli liggende\nIntroduksjon gå pent i bånd\nVent/bli/selvkontroll\nBelønningsutvikling\n\nInstruktør på kurset er Marianne Paulsen
URL:https://drammenhundepark.no/event/valp-sommerkurs-uke-28-2/
CATEGORIES:Sommerkurs,Valpekurs
ATTACH;FMTTYPE=image/jpeg:https://drammenhundepark.no/wp-content/uploads/2025/01/DSC_0628-kopi-scaled-e1737120770525.jpg
END:VEVENT
BEGIN:VEVENT
DTSTART;TZID=Europe/Oslo:20250707T184500
DTEND;TZID=Europe/Oslo:20250707T201500
DTSTAMP:20260424T102824
CREATED:20250529T173959Z
LAST-MODIFIED:20250605T103722Z
UID:10000424-1751913900-1751919300@drammenhundepark.no
SUMMARY:Rally banekurs uke 28
DESCRIPTION:Dette sommerkurset i rallylydighet går kl 18.45-20.15 mandag\, tirsdag\, onsdag og torsdag i uke 28. \nDenne uken jobber vi med å gå baner i rallylydighet!\nCathrine bygger baner som tidligere har blitt brukt på konkurranser. Hun vil gi tips og tilbakemelding på øvelsene i løpene dine og gi råd om neste steg i treningen. Kurset er både for konkurranseekvipasjer\, og de som bruker øvelsene i rallylydighet som aktivisering for sin hund. \nDu må kjenne til skiltene i klasse 1 for å få utbytte av kurset\, skriv i påmelding om du ønsker øvelser i høyere klasse. \nInstruktør er Cathrine Samuelsen
URL:https://drammenhundepark.no/event/rally-banekurs-uke-28/
CATEGORIES:Rallylydighet,Sommerkurs
ATTACH;FMTTYPE=image/jpeg:https://drammenhundepark.no/wp-content/uploads/2024/05/Drammen_Hundepark-15-3-e1730760478401.jpg
END:VEVENT
BEGIN:VEVENT
DTSTART;TZID=Europe/Oslo:20250715T170000
DTEND;TZID=Europe/Oslo:20250715T183000
DTSTAMP:20260424T102824
CREATED:20250623T075858Z
LAST-MODIFIED:20250623T075858Z
UID:10000438-1752598800-1752604200@drammenhundepark.no
SUMMARY:Agility Intro uke 29
DESCRIPTION:Dette sommerkurset i agility går kl 17.00-18.30 tirsdag\, onsdag\, torsdag og fredag i uke 29. \n\nDette er kurs for hunder som ikke har vært borti agility før.\nPasser alle som har lyst til å ha det moro med hunden sin.\nHer blir hunden introdusert for alle hindrene som inngår i en agilitybane.\nNår hunden begynner å kunne flere av hindrene\, vil vi sette de sammen til små kombinasjoner.\nDet vil bli lagt mye vekt på hindersikkerhet\, belønningsmetoder\, og hvordan vi får fram motivasjon i hundene våre.\nAgility er gøy for både hund og fører!\n\nInstruktør er Tommy Kjennerud
URL:https://drammenhundepark.no/event/agility-intro-uke-29/
CATEGORIES:Agilitykurs,Sommerkurs
ATTACH;FMTTYPE=image/jpeg:https://drammenhundepark.no/wp-content/uploads/2025/02/1-agility.jpg
END:VEVENT
BEGIN:VEVENT
DTSTART;TZID=Europe/Oslo:20250721T170000
DTEND;TZID=Europe/Oslo:20250721T183000
DTSTAMP:20260424T102824
CREATED:20250508T113759Z
LAST-MODIFIED:20250721T091306Z
UID:10000416-1753117200-1753122600@drammenhundepark.no
SUMMARY:Valp sommerkurs uke 30 (Fullbooket)
DESCRIPTION:Dette sommerkurset for valper går kl 17.00-18.30 mandag\, tirsdag\, onsdag og torsdag i uke 30\nFokuset vil være på vanlig hverdagslydighet som; \n\nHåndtering/ro\nKontakt\nInnkalling\nLegg deg og bli liggende\nIntroduksjon gå pent i bånd\nVent/bli/selvkontroll\nBelønningsutvikling\n\nInstruktør på kurset er Heidi Aaknes
URL:https://drammenhundepark.no/event/valp-sommerkurs/
CATEGORIES:Sommerkurs,Valpekurs
ATTACH;FMTTYPE=image/jpeg:https://drammenhundepark.no/wp-content/uploads/2025/01/DSC_0687-kopi-scaled-e1737120796510.jpg
END:VEVENT
BEGIN:VEVENT
DTSTART;TZID=Europe/Oslo:20250721T183000
DTEND;TZID=Europe/Oslo:20250721T210000
DTSTAMP:20260424T102824
CREATED:20250508T114259Z
LAST-MODIFIED:20250610T215151Z
UID:10000417-1753122600-1753131600@drammenhundepark.no
SUMMARY:Valp sommerkurs uke 30
DESCRIPTION:Dette sommerkurset for valper går kl 18.30-20.00 mandag\, tirsdag\, onsdag og torsdag i uke 30\nFokuset vil være på vanlig hverdagslydighet som; \n\nHåndtering/ro\nKontakt\nInnkalling\nLegg deg og bli liggende\nIntroduksjon gå pent i bånd\nVent/bli/selvkontroll\nBelønningsutvikling\n\nInstruktør på kurset er Heidi Aaknes
URL:https://drammenhundepark.no/event/valp-sommerkurs-2/
CATEGORIES:Sommerkurs,Valpekurs
ATTACH;FMTTYPE=image/jpeg:https://drammenhundepark.no/wp-content/uploads/2025/01/DSC_0991-kopi-scaled-e1737120961894.jpg
END:VEVENT
END:VCALENDAR