BEGIN:VCALENDAR
VERSION:2.0
PRODID:-//Drammen Hundepark - ECPv6.15.18//NONSGML v1.0//EN
CALSCALE:GREGORIAN
METHOD:PUBLISH
X-ORIGINAL-URL:https://drammenhundepark.no
X-WR-CALDESC:Arrangement for Drammen Hundepark
REFRESH-INTERVAL;VALUE=DURATION:PT1H
X-Robots-Tag:noindex
X-PUBLISHED-TTL:PT1H
BEGIN:VTIMEZONE
TZID:Europe/Oslo
BEGIN:DAYLIGHT
TZOFFSETFROM:+0100
TZOFFSETTO:+0200
TZNAME:CEST
DTSTART:20250330T010000
END:DAYLIGHT
BEGIN:STANDARD
TZOFFSETFROM:+0200
TZOFFSETTO:+0100
TZNAME:CET
DTSTART:20251026T010000
END:STANDARD
BEGIN:DAYLIGHT
TZOFFSETFROM:+0100
TZOFFSETTO:+0200
TZNAME:CEST
DTSTART:20260329T010000
END:DAYLIGHT
BEGIN:STANDARD
TZOFFSETFROM:+0200
TZOFFSETTO:+0100
TZNAME:CET
DTSTART:20261025T010000
END:STANDARD
BEGIN:DAYLIGHT
TZOFFSETFROM:+0100
TZOFFSETTO:+0200
TZNAME:CEST
DTSTART:20270328T010000
END:DAYLIGHT
BEGIN:STANDARD
TZOFFSETFROM:+0200
TZOFFSETTO:+0100
TZNAME:CET
DTSTART:20271031T010000
END:STANDARD
END:VTIMEZONE
BEGIN:VEVENT
DTSTART;TZID=Europe/Oslo:20260423T180000
DTEND;TZID=Europe/Oslo:20260423T190000
DTSTAMP:20260423T132159
CREATED:20260407T113611Z
LAST-MODIFIED:20260407T113611Z
UID:10000567-1776967200-1776970800@drammenhundepark.no
SUMMARY:Valpekurs
DESCRIPTION:Valpekurs i Drammen – trygg start for deg og valpen \nDette valpekurset går over 6 torsdager kl. 18.00-19.00\, og holdes innendørs på kunstgress hos Drammen Hundepark. Kurset passer for valper som skal få en trygg og positiv start på treningen. \nFokus på kurset er grunnleggende hverdagslydighet og samarbeid\, med øvelser som: \n\nHåndtering og ro\nKontakt mellom hund og eier\nInnkalling\nLegg deg og bli liggende\nIntroduksjon til å gå pent i bånd\nVent / bli / selvkontroll\nUtvikling av belønning og motivasjon\n\nTreningen er belønningsbasert\, og tilpasses både hund og eier. Det legges vekt på mestring\, trygghet og gode rutiner som er nyttige i hverdagen. \nInstruktør på kurset er Marianne Paulsen. \n 
URL:https://drammenhundepark.no/event/valpekurs-37/
CATEGORIES:Valpekurs
ATTACH;FMTTYPE=image/jpeg:https://drammenhundepark.no/wp-content/uploads/2025/01/DSC_1200-kopi-scaled-e1737121258972.jpg
END:VEVENT
BEGIN:VEVENT
DTSTART;TZID=Europe/Oslo:20260430T170000
DTEND;TZID=Europe/Oslo:20260430T183000
DTSTAMP:20260423T132159
CREATED:20260212T122359Z
LAST-MODIFIED:20260212T122359Z
UID:10000542-1777568400-1777573800@drammenhundepark.no
SUMMARY:Agility Intro
DESCRIPTION:Agilitykurs for nybegynnere – morsom og aktiv trening for deg og hunden din\nDette nybegynnerkurset i agility går over 5 torsdager kl. 17.00–18.30\, og holdes innendørs i oppvarmet hall. \nKurset passer perfekt for hunder som ikke har prøvd agility før\, og for eiere som ønsker en aktiv\, morsom og motiverende treningsform sammen med hunden sin. Agility er en flott måte å styrke samarbeid\, kroppskontroll og selvtillit hos hunden – samtidig som dere har det gøy! \nI løpet av kurset vil hunden bli trygt introdusert for alle hinderne som inngår i en agilitybane\, som hopp\, tunnel\, slalåm og balansehinder. Etter hvert som hunden mestrer flere hindre\, setter vi dem sammen i enkle kombinasjoner og korte baner. \nDet legges stor vekt på: \n\nHindersikkerhet og trygg innlæring\nRiktige belønningsmetoder\nMotivasjon og mestring hos hunden\nGod kommunikasjon mellom hund og fører\n\nAgility passer for de aller fleste hunder og eiere – her trenger du ingen forkunnskaper\, bare lyst til å lære og ha det moro sammen. \nInstruktør: Tommy Kjennerud
URL:https://drammenhundepark.no/event/agility-intro-14/
CATEGORIES:Agilitykurs
ATTACH;FMTTYPE=image/jpeg:https://drammenhundepark.no/wp-content/uploads/2024/05/Drammen_Hundepark-2-6-e1729962237557.jpg
END:VEVENT
BEGIN:VEVENT
DTSTART;TZID=Europe/Oslo:20260430T173000
DTEND;TZID=Europe/Oslo:20260430T190000
DTSTAMP:20260423T132159
CREATED:20260105T102558Z
LAST-MODIFIED:20260409T092633Z
UID:10000524-1777570200-1777575600@drammenhundepark.no
SUMMARY:Nosework Intro
DESCRIPTION:Nosework  – en morsom hverdagsaktivitet i Drammen \nBli med på vårt snusekurs for hund i Drammen Hundepark\, og oppdag hundens fantastiske luktesans! Kurset foregår innendørs i trygge og kontrollerte omgivelser\, der én og én hund jobber av gangen. Du vil likevel kunne møte andre hunder i området rundt hallen. Hunden må kunne vente i bilen mellom treningsøktene. \nKurset passer for alle hunder\, uansett alder eller forkunnskaper\, og gir mental stimulering\, mestringsfølelse og en morsom aktivitet som styrker samarbeidet mellom hund og fører. \nPraktisk informasjon: \n\n\nTidspunkt: 4 torsdager kl. 17.30–19.00 \n\n\nMaks 5 deltakere – tett oppfølging og individuell veiledning \n\n\nTa med gode godbiter (gjerne ost\, hundepølse ect.) \n\nInstruktør: Cathrine Samuelsen\n\nBli med på en inspirerende reise inn i hundens luktunivers – vi gleder oss til å se dere!
URL:https://drammenhundepark.no/event/nosework-intro-3/
CATEGORIES:Nosework
ATTACH;FMTTYPE=image/jpeg:https://drammenhundepark.no/wp-content/uploads/2025/04/snusekurs-scaled-e1746038117648.jpg
END:VEVENT
BEGIN:VEVENT
DTSTART;TZID=Europe/Oslo:20260430T183000
DTEND;TZID=Europe/Oslo:20260430T200000
DTSTAMP:20260423T132159
CREATED:20260212T122654Z
LAST-MODIFIED:20260212T123711Z
UID:10000543-1777573800-1777579200@drammenhundepark.no
SUMMARY:Agility Videregående
DESCRIPTION:Agilitykurs – videregående nivå\nDette agilitykurset går over 5 torsdager kl. 18.30–20.00\, og gjennomføres innendørs i oppvarmet hall. \nKurset er beregnet for hunder som har deltatt på introkurs i agility eller har tilsvarende forkunnskaper. Her bygger vi videre på det hunden allerede har lært\, og jobber mot bedre flyt\, samarbeid og forståelse av agility som sport. \nVi begynner å sette sammen flere hinder til kombinasjoner og korte baner\, og det blir jobbet mer målrettet med føring og handling. Du vil lære hvordan kroppsspråk\, timing og bevegelser påvirker hundens vei gjennom banen. \nKurset har spesielt fokus på: \n\nVidereutvikling av hinderforståelse\nMengdetrening på slalom og felthinder\nFøringsteknikker og handling\nHindersug\, fart og motivasjon\nGod flyt og selvtillit hos både hund og fører\n\nNivået tilpasses hver enkelt ekvipasjes kunnskap\, mål og ambisjoner\, slik at både nybegynnere på videregående nivå og mer erfarne førere får godt utbytte. \n👉 Det er her agility virkelig begynner å bli moro! \nInstruktør: Tommy Kjennerud \n 
URL:https://drammenhundepark.no/event/agility-videregaende-12/
CATEGORIES:Agilitykurs
ATTACH;FMTTYPE=image/jpeg:https://drammenhundepark.no/wp-content/uploads/2024/05/Drammen_Hundepark-3-4-e1729962421751.jpg
END:VEVENT
BEGIN:VEVENT
DTSTART;TZID=Europe/Oslo:20260430T200000
DTEND;TZID=Europe/Oslo:20260430T210000
DTSTAMP:20260423T132159
CREATED:20260327T144908Z
LAST-MODIFIED:20260327T144908Z
UID:10000562-1777579200-1777582800@drammenhundepark.no
SUMMARY:Agility Videregående
DESCRIPTION:Agilitykurs – videregående nivå\nDette agilitykurset går over 5 torsdager kl. 20.00-21.00\, og gjennomføres innendørs i oppvarmet hall.\nMaks 4 hunder på dette kurset! \nKurset er beregnet for hunder som har deltatt på introkurs i agility eller har tilsvarende forkunnskaper. Her bygger vi videre på det hunden allerede har lært\, og jobber mot bedre flyt\, samarbeid og forståelse av agility som sport. \nVi begynner å sette sammen flere hinder til kombinasjoner og korte baner\, og det blir jobbet mer målrettet med føring og handling. Du vil lære hvordan kroppsspråk\, timing og bevegelser påvirker hundens vei gjennom banen. \nKurset har spesielt fokus på: \n\nVidereutvikling av hinderforståelse\nMengdetrening på slalom og felthinder\nFøringsteknikker og handling\nHindersug\, fart og motivasjon\nGod flyt og selvtillit hos både hund og fører\n\nNivået tilpasses hver enkelt ekvipasjes kunnskap\, mål og ambisjoner\, slik at både nybegynnere på videregående nivå og mer erfarne førere får godt utbytte. \nDet er her agility virkelig begynner å bli moro! \nInstruktør: Tommy Kjennerud \n 
URL:https://drammenhundepark.no/event/agility-videregaende-13/
CATEGORIES:Agilitykurs
ATTACH;FMTTYPE=image/jpeg:https://drammenhundepark.no/wp-content/uploads/2024/05/Drammen_Hundepark-3-4-e1729962421751.jpg
END:VEVENT
END:VCALENDAR