BEGIN:VCALENDAR
VERSION:2.0
PRODID:-//Drammen Hundepark - ECPv6.15.18//NONSGML v1.0//EN
CALSCALE:GREGORIAN
METHOD:PUBLISH
X-ORIGINAL-URL:https://drammenhundepark.no
X-WR-CALDESC:Arrangement for Drammen Hundepark
REFRESH-INTERVAL;VALUE=DURATION:PT1H
X-Robots-Tag:noindex
X-PUBLISHED-TTL:PT1H
BEGIN:VTIMEZONE
TZID:Europe/Oslo
BEGIN:DAYLIGHT
TZOFFSETFROM:+0100
TZOFFSETTO:+0200
TZNAME:CEST
DTSTART:20240331T010000
END:DAYLIGHT
BEGIN:STANDARD
TZOFFSETFROM:+0200
TZOFFSETTO:+0100
TZNAME:CET
DTSTART:20241027T010000
END:STANDARD
BEGIN:DAYLIGHT
TZOFFSETFROM:+0100
TZOFFSETTO:+0200
TZNAME:CEST
DTSTART:20250330T010000
END:DAYLIGHT
BEGIN:STANDARD
TZOFFSETFROM:+0200
TZOFFSETTO:+0100
TZNAME:CET
DTSTART:20251026T010000
END:STANDARD
BEGIN:DAYLIGHT
TZOFFSETFROM:+0100
TZOFFSETTO:+0200
TZNAME:CEST
DTSTART:20260329T010000
END:DAYLIGHT
BEGIN:STANDARD
TZOFFSETFROM:+0200
TZOFFSETTO:+0100
TZNAME:CET
DTSTART:20261025T010000
END:STANDARD
END:VTIMEZONE
BEGIN:VEVENT
DTSTART;TZID=Europe/Oslo:20250306T190000
DTEND;TZID=Europe/Oslo:20250306T200000
DTSTAMP:20260425T140450
CREATED:20241219T111753Z
LAST-MODIFIED:20250303T213409Z
UID:10000369-1741287600-1741291200@drammenhundepark.no
SUMMARY:Konkurranselydighet klasse 1-2
DESCRIPTION:Dette kurset går over 6 torsdager kl 19.00-20.00\nInnendørs i oppvarmet hall\, på kunstgress. \n\nFokus på å gjøre lydighet gøy!\n\nInstruktør er Marianne Paulsen
URL:https://drammenhundepark.no/event/konkurranselydighet-klasse-1-2-2/
CATEGORIES:Konkurransekurs i lydighet
END:VEVENT
BEGIN:VEVENT
DTSTART;TZID=Europe/Oslo:20250306T180000
DTEND;TZID=Europe/Oslo:20250306T190000
DTSTAMP:20260425T140450
CREATED:20250211T101346Z
LAST-MODIFIED:20250228T111835Z
UID:10000381-1741284000-1741287600@drammenhundepark.no
SUMMARY:Videregående hverdagslydighet (Fullbooket)
DESCRIPTION:Dette kurset går over 6 torsdager kl 18.00-19.00. Innendørs i oppvarmet hall med kunstgress. \nVi tar for oss hverdagslydighet som; \n\nForholde seg rolig rundt andre hunder\nHvordan opptre i møte med andre hunder på tur\nGå pent i bånd\nLek og sosial belønning\nSelvbeherskelse\nLigg på plassen din\nInnkalling\n\nInstruktør på kurset er Marianne Paulsen
URL:https://drammenhundepark.no/event/videregaende-hverdagslydighet-6/
CATEGORIES:Videregående hverdagslydighet
ATTACH;FMTTYPE=image/jpeg:https://drammenhundepark.no/wp-content/uploads/2024/05/Drammen_Hundepark-5-e1729961450549.jpg
END:VEVENT
BEGIN:VEVENT
DTSTART;TZID=Europe/Oslo:20250306T170000
DTEND;TZID=Europe/Oslo:20250306T183000
DTSTAMP:20260425T140450
CREATED:20241204T164640Z
LAST-MODIFIED:20250306T140313Z
UID:10000356-1741280400-1741285800@drammenhundepark.no
SUMMARY:Agility Intro
DESCRIPTION:Dette kurset går over 5 torsdager kl 17.00-18.30 \nInstruktør er Tommy Kjennerud
URL:https://drammenhundepark.no/event/agility-intro-4/
CATEGORIES:Agilitykurs
ATTACH;FMTTYPE=image/jpeg:https://drammenhundepark.no/wp-content/uploads/2024/05/Drammen_Hundepark-2-6-e1729962237557.jpg
END:VEVENT
BEGIN:VEVENT
DTSTART;TZID=Europe/Oslo:20250306T170000
DTEND;TZID=Europe/Oslo:20250306T180000
DTSTAMP:20260425T140450
CREATED:20250117T125808Z
LAST-MODIFIED:20250117T125828Z
UID:10000378-1741280400-1741284000@drammenhundepark.no
SUMMARY:Gøy med hund
DESCRIPTION:Dette kurset går over 6 torsdager kl 17.00-18.00 innendørs i oppvarmet hall. \nMålet med kurset er; \n\nÅ se nærmere på hvilke artige hundeaktiviteter som finnes der ute\nStyrke relasjonen mellom hund og fører\nBygge et godt samarbeid\nHa det gøy med hunden!\n\nInstruktør er Marianne Paulsen
URL:https://drammenhundepark.no/event/goy-med-hund-fullbooket/
CATEGORIES:Gøy med hund
ATTACH;FMTTYPE=image/jpeg:https://drammenhundepark.no/wp-content/uploads/2024/05/Drammen_Hundepark-16-1-e1737118563277.jpg
END:VEVENT
BEGIN:VEVENT
DTSTART;TZID=Europe/Oslo:20250304T184500
DTEND;TZID=Europe/Oslo:20250304T194500
DTSTAMP:20260425T140450
CREATED:20241213T082827Z
LAST-MODIFIED:20250219T135645Z
UID:10000364-1741113900-1741117500@drammenhundepark.no
SUMMARY:Rally 2
DESCRIPTION:Dette kurset går over 6 tirsdager kl 18.45-19.45 innendørs i oppvarmet hall\, på kunstgress. \nVi jobber med skiltene i klasse 2. Glede\, mestring og samarbeid står fremdeles i fokus!\n(Man bør enten ha gått rally introkurs eller kunne klasse 1 skiltene for å få utbytte av kurset) \nInstruktør er Cathrine Samuelsen
URL:https://drammenhundepark.no/event/rally-2-2/
CATEGORIES:Rallylydighet
ATTACH;FMTTYPE=image/jpeg:https://drammenhundepark.no/wp-content/uploads/2024/05/Drammen_Hundepark-5-2-e1729960790137.jpg
END:VEVENT
BEGIN:VEVENT
DTSTART;TZID=Europe/Oslo:20250227T183000
DTEND;TZID=Europe/Oslo:20250227T200000
DTSTAMP:20260425T140450
CREATED:20250117T130654Z
LAST-MODIFIED:20250211T114751Z
UID:10000379-1740681000-1740686400@drammenhundepark.no
SUMMARY:Agility Videregående
DESCRIPTION:Dette kurset går over 5 påfølgende torsdager kl 18.30-20.00. Innendørs i oppvarmet hall. \n\nDette er for hunder som har vært på introkurs eller har tilsvarende kunnskaper.\nVi bygger videre på det hunden har lært til nå. Vi begynner å sette sammen de forskjellige hindrene og lage kombinasjoner.\nDet blir jobbet mer med føring\, og du vil lære mer om hva handling går ut på.\nVi fortsetter jobben med hinder som krever mengdetrening\, som slalom og felthindrene.\nDet blir fokus på hindersug\, fart og motivasjon.\nNivået tilpasses hver ekvipasjes kunnskap og ambisjon.\n\nDet er nå agility virkelig begynner å bli moro! \nInstruktør er Tommy Kjennerud
URL:https://drammenhundepark.no/event/agility-videregaende-3/
CATEGORIES:Agilitykurs
ATTACH;FMTTYPE=image/jpeg:https://drammenhundepark.no/wp-content/uploads/2024/05/Drammen_Hundepark-5-3-e1729961895679.jpg
END:VEVENT
BEGIN:VEVENT
DTSTART;TZID=Europe/Oslo:20250225T190000
DTEND;TZID=Europe/Oslo:20250225T210000
DTSTAMP:20260425T140450
CREATED:20241210T153226Z
LAST-MODIFIED:20250213T125112Z
UID:10000360-1740510000-1740517200@drammenhundepark.no
SUMMARY:Rally Hinderkurs
DESCRIPTION:Dette kurset går over 3 dager i uke 9 (vinterferie uka i kommunen).  Tirsdag\, torsdag og fredag kl 19.00-21.00 \nPå dette kurset tar vi for oss alle hindrene man kan møte på en rallybane. Tunnel\, lengde\, slalåm og hoppehinder. I tillegg ser vi på fremmadsending til kjegle. Det vil også være mulig å komme med ønske dersom man sliter med eller ønsker innføring i en annen øvelse utover disse. -Noter eventuelt denne i kommentarfeltet ved påmelding. \nDet er fordel å ha grunnleggende kunnskap om rallylydighet for å delta (introkurs eller tilsvarende) \nInstruktør er Cathrine Samuelsen
URL:https://drammenhundepark.no/event/rally-hinderkurs/
CATEGORIES:Rallylydighet
ATTACH;FMTTYPE=image/jpeg:https://drammenhundepark.no/wp-content/uploads/2024/05/Drammen_Hundepark-5-3-e1729961895679.jpg
END:VEVENT
BEGIN:VEVENT
DTSTART;TZID=Europe/Oslo:20250220T190000
DTEND;TZID=Europe/Oslo:20250220T200000
DTSTAMP:20260425T140450
CREATED:20241204T201054Z
LAST-MODIFIED:20241204T201054Z
UID:10000358-1740078000-1740081600@drammenhundepark.no
SUMMARY:Grunnkurs
DESCRIPTION:Dette kurset går over 6 torsdager kl 19.00-20.00 innendørs i oppvarmet hall (ca 12 grader vinterstid) på kunstgress.\nDet er ikke kurs i uke 9 da det er vinterferie i kommunen. \nFokuset vil være på vanlige hverdagsutfordringer som \n\nHåndtering\nRo\nInnkalling\nLegg deg og bli liggende\nGå pent i bånd\nHvordan handle i passeringssituasjoner\n\nInstruktør på kurset er Kine Pedersen
URL:https://drammenhundepark.no/event/grunnkurs-3/
CATEGORIES:Grunnkurs i hverdagslydighet
ATTACH;FMTTYPE=image/jpeg:https://drammenhundepark.no/wp-content/uploads/2024/05/Drammen_Hundepark-3-1-e1729960934856.jpg
END:VEVENT
BEGIN:VEVENT
DTSTART;TZID=Europe/Oslo:20250220T180000
DTEND;TZID=Europe/Oslo:20250220T190000
DTSTAMP:20260425T140450
CREATED:20241218T183948Z
LAST-MODIFIED:20241218T183948Z
UID:10000368-1740074400-1740078000@drammenhundepark.no
SUMMARY:Valpekurs
DESCRIPTION:Dette kurset går over 6 torsdager kl 18.00-19.00 innendørs i oppvarmet hall (ca 12 grader vinterstid) på kunstgress.\nFokuset vil være på vanlige hverdagslydighet som \n\nHåndtering/ro\nKontakt\nInnkalling\nLegg deg og bli liggende\nIntroduksjon gå pent i bånd\nVent/bli/selvkontroll\nBelønningsutvikling\n\nInstruktør på kurset er Kine Pedersen \n-Det er ikke kurs i uke 9 da det er vinterferie i kommunen.
URL:https://drammenhundepark.no/event/valpekurs-9/
CATEGORIES:Valpekurs
ATTACH;FMTTYPE=image/jpeg:https://drammenhundepark.no/wp-content/uploads/2024/10/DSC_0734-kopi-scaled-e1729697721786.jpg
END:VEVENT
BEGIN:VEVENT
DTSTART;TZID=Europe/Oslo:20250218T190000
DTEND;TZID=Europe/Oslo:20250218T210000
DTSTAMP:20260425T140450
CREATED:20250130T152931Z
LAST-MODIFIED:20250212T102856Z
UID:10000380-1739905200-1739912400@drammenhundepark.no
SUMMARY:Rally Banekveld (Fullbooket)
DESCRIPTION:Dette kurset går tirsdag 18. februar kl 19.00-21.00 \nDenne kurskvelden jobber vi med å gå baner i rallylydighet! Du vil ikke bli bedømt med kritikkskjema\, men Cathrine gir tilbakemelding på øvelsene i løpet ditt og hva som er lurt å jobbe videre med. Dette er både for konkurranseekvipasjer\, og de som bruker øvelsene i rallylydighet som aktivisering for sin hund. \nDu må kjenne til skiltene i klasse 1 for å få utbytte av kurset\, skriv i påmelding om du ønsker øvelser i høyere klasse. \nMAKS 4 deltakere. \nInstruktør er Cathrine Samuelsen
URL:https://drammenhundepark.no/event/rally-intro-6/
CATEGORIES:Rallylydighet
ATTACH;FMTTYPE=image/jpeg:https://drammenhundepark.no/wp-content/uploads/2024/05/Drammen_Hundepark-15-3-e1730760478401.jpg
END:VEVENT
BEGIN:VEVENT
DTSTART;TZID=Europe/Oslo:20250218T190000
DTEND;TZID=Europe/Oslo:20250218T203000
DTSTAMP:20260425T140450
CREATED:20250116T122236Z
LAST-MODIFIED:20250116T123530Z
UID:10000372-1739905200-1739910600@drammenhundepark.no
SUMMARY:Valpekurs
DESCRIPTION:Dette kurset går over 5 tirsdager kl 19.00.20.30 innendørs i oppvarmet hall (ca 12 grader vinterstid) på kunstgress.\nFokuset vil være på vanlige hverdagslydighet som; \n\nHåndtering/ro\nKontakt\nInnkalling\nLegg deg og bli liggende\nIntroduksjon gå pent i bånd\nVent/bli/selvkontroll\nBelønningsutvikling\n\nInstruktør på kurset er Heidi Aaknes \n-Det er ikke kurs i uke 9 da det er vinterferie i kommunen.
URL:https://drammenhundepark.no/event/valpekurs-11/
CATEGORIES:Valpekurs
ATTACH;FMTTYPE=image/jpeg:https://drammenhundepark.no/wp-content/uploads/2024/05/Drammen_Hundepark-16-e1729697605640.jpg
END:VEVENT
BEGIN:VEVENT
DTSTART;TZID=Europe/Oslo:20250218T190000
DTEND;TZID=Europe/Oslo:20250218T200000
DTSTAMP:20260425T140450
CREATED:20250109T115236Z
LAST-MODIFIED:20250211T101502Z
UID:10000371-1739905200-1739908800@drammenhundepark.no
SUMMARY:Videregående hverdagslydighet (Fullbooket)
DESCRIPTION:Dette kurset går over 6 tirsdager kl 19.00-20.00. Innendørs i oppvarmet hall med kunstgress. \nVi tar for oss hverdagslydighet som; \n\nForholde seg rolig rundt andre hunder\nHvordan opptre i møte med andre hunder på tur\nGå pent i bånd\nLek og sosial belønning\nSelvbeherskelse\nLigg på plassen din\nInnkalling\n\nInstruktør på kurset er Marianne Paulsen \nDet er ikke kurs i uke 9 da det er vinterferei i kommunen.
URL:https://drammenhundepark.no/event/videregaende-hverdagslydighet-4/
CATEGORIES:Videregående hverdagslydighet
ATTACH;FMTTYPE=image/jpeg:https://drammenhundepark.no/wp-content/uploads/2024/05/Drammen_Hundepark-5-e1729961450549.jpg
END:VEVENT
BEGIN:VEVENT
DTSTART;TZID=Europe/Oslo:20250218T180000
DTEND;TZID=Europe/Oslo:20250218T190000
DTSTAMP:20260425T140450
CREATED:20250117T122045Z
LAST-MODIFIED:20250117T122045Z
UID:10000377-1739901600-1739905200@drammenhundepark.no
SUMMARY:Passeringskurs
DESCRIPTION:Dette kurset går over 6 tirsdager kl 18.00-19.00 innendørs på kunstgress i oppvarmet hall. \n\nFokus på å passere andre hunder på tur\nGå pent i bånd\nKontakt\nSelvbeherskelse og ro\n\nInstruktør er Marianne Paulsen
URL:https://drammenhundepark.no/event/passeringskurs-3/
CATEGORIES:Passeringskurs
ATTACH;FMTTYPE=image/jpeg:https://drammenhundepark.no/wp-content/uploads/2024/05/Drammen_Hundepark-3-3-e1737116271742.jpg
END:VEVENT
BEGIN:VEVENT
DTSTART;TZID=Europe/Oslo:20250218T174500
DTEND;TZID=Europe/Oslo:20250218T184500
DTSTAMP:20260425T140450
CREATED:20241213T083631Z
LAST-MODIFIED:20250211T154359Z
UID:10000365-1739900700-1739904300@drammenhundepark.no
SUMMARY:Rally Intro (fullbooket)
DESCRIPTION:Dette kurset går over 6 tirsdager kl 17.45-18.45 innendørs i oppvarmet hall\, på kunstgress.\nDet er ikke kurs i uke 9 da det er vinterferie i kommunen. \nPasser for hunder som ikke har prøvd rallylydighet før.  Vi tar for oss og trener på skiltene i klasse 1 og vil sette de sammen til små kombinasjoner. Vi jobber med å utvikle glede og samspill mellom hund og fører. \nInstruktør er Cathrine Samuelsen
URL:https://drammenhundepark.no/event/rally-intro-4/
CATEGORIES:Rallylydighet
ATTACH;FMTTYPE=image/jpeg:https://drammenhundepark.no/wp-content/uploads/2024/05/Drammen_Hundepark-15-3-e1730760478401.jpg
END:VEVENT
BEGIN:VEVENT
DTSTART;TZID=Europe/Oslo:20250218T171500
DTEND;TZID=Europe/Oslo:20250218T171500
DTSTAMP:20260425T140450
CREATED:20241125T134111Z
LAST-MODIFIED:20250110T113949Z
UID:10000353-1739898900-1739898900@drammenhundepark.no
SUMMARY:Valpekurs
DESCRIPTION:Dette kurset går over 5 tirsdager kl 17.15-18.45 innendørs i oppvarmet hall (ca 12 grader vinterstid) på kunstgress.\nFokuset vil være på vanlige hverdagslydighet som \n\nHåndtering/ro\nKontakt\nInnkalling\nLegg deg og bli liggende\nIntroduksjon gå pent i bånd\nVent/bli/selvkontroll\nBelønningsutvikling\n\nInstruktør på kurset er Heidi Aaknes \n-Det er ikke kurs i uke 9 da det er vinterferie i kommunen.
URL:https://drammenhundepark.no/event/valpekurs-8/
CATEGORIES:Valpekurs
ATTACH;FMTTYPE=image/jpeg:https://drammenhundepark.no/wp-content/uploads/2024/10/DSC_0734-kopi-scaled-e1729697721786.jpg
END:VEVENT
BEGIN:VEVENT
DTSTART;TZID=Europe/Oslo:20250128T200000
DTEND;TZID=Europe/Oslo:20250128T210000
DTSTAMP:20260425T140450
CREATED:20241115T134937Z
LAST-MODIFIED:20250117T103914Z
UID:10000348-1738094400-1738098000@drammenhundepark.no
SUMMARY:Bronsemerkekurs
DESCRIPTION:Dette kurset går over 6 tirsdager kl 20.00-21.00 \nInstruktør er Marianne Paulsen
URL:https://drammenhundepark.no/event/bronsemerkekurs-2/
CATEGORIES:Bronsemerkekurs
ATTACH;FMTTYPE=image/jpeg:https://drammenhundepark.no/wp-content/uploads/2024/05/Drammen_Hundepark-5-e1729961450549.jpg
END:VEVENT
BEGIN:VEVENT
DTSTART;TZID=Europe/Oslo:20250123T200000
DTEND;TZID=Europe/Oslo:20250123T210000
DTSTAMP:20260425T140450
CREATED:20241204T163546Z
LAST-MODIFIED:20250117T103019Z
UID:10000355-1737662400-1737666000@drammenhundepark.no
SUMMARY:Agility Videregående (Fullbooket)
DESCRIPTION:Dette kurset går over 6 torsdager kl 20.00-21.00 \nInstruktør er Tommy Kjennerud
URL:https://drammenhundepark.no/event/agility-videregaende-2/
CATEGORIES:Agilitykurs
ATTACH;FMTTYPE=image/jpeg:https://drammenhundepark.no/wp-content/uploads/2024/05/Drammen_Hundepark-2-6-e1729962237557.jpg
END:VEVENT
BEGIN:VEVENT
DTSTART;TZID=Europe/Oslo:20250123T183000
DTEND;TZID=Europe/Oslo:20250123T200000
DTSTAMP:20260425T140450
CREATED:20241118T130553Z
LAST-MODIFIED:20250106T212741Z
UID:10000349-1737657000-1737662400@drammenhundepark.no
SUMMARY:Agility Intro (Fullbooket)
DESCRIPTION:Dette kurset går over 5 påfølgende torsdager innendørs i oppvarmet hall. \nInstruktør er Tommy Kjennerud
URL:https://drammenhundepark.no/event/agility-intro-3/
CATEGORIES:Agilitykurs
ATTACH;FMTTYPE=image/jpeg:https://drammenhundepark.no/wp-content/uploads/2024/05/Drammen_Hundepark-5-3-e1729961895679.jpg
END:VEVENT
BEGIN:VEVENT
DTSTART;TZID=Europe/Oslo:20250123T170000
DTEND;TZID=Europe/Oslo:20250123T183000
DTSTAMP:20260425T140450
CREATED:20241026T170143Z
LAST-MODIFIED:20250107T130431Z
UID:10000338-1737651600-1737657000@drammenhundepark.no
SUMMARY:Agility Intro (Fullbooket)
DESCRIPTION:Dette kurset går over 5 påfølgende torsdager innendørs i oppvarmet hall. \nInstruktør er Tommy Kjennerud
URL:https://drammenhundepark.no/event/agility-intro-2/
CATEGORIES:Agilitykurs
ATTACH;FMTTYPE=image/jpeg:https://drammenhundepark.no/wp-content/uploads/2024/05/Drammen_Hundepark-5-3-e1729961895679.jpg
END:VEVENT
BEGIN:VEVENT
DTSTART;TZID=Europe/Oslo:20250121T170000
DTEND;TZID=Europe/Oslo:20250121T180000
DTSTAMP:20260425T140450
CREATED:20241026T165620Z
LAST-MODIFIED:20250110T114536Z
UID:10000337-1737478800-1737482400@drammenhundepark.no
SUMMARY:Gøy med hund (Fullbooket)
DESCRIPTION:Dette kurset går over 6 tirsdager innendørs i oppvarmet hall.\nDet er ikke kurs i uke 9\, da det er vinterferie i kommunen. \nInstruktør er Marianne Paulsen
URL:https://drammenhundepark.no/event/goy-med-hund/
CATEGORIES:Gøy med hund
ATTACH;FMTTYPE=image/jpeg:https://drammenhundepark.no/wp-content/uploads/2024/05/Drammen_Hundepark-5-e1729961450549.jpg
END:VEVENT
BEGIN:VEVENT
DTSTART;TZID=Europe/Oslo:20250116T200000
DTEND;TZID=Europe/Oslo:20250116T210000
DTSTAMP:20260425T140450
CREATED:20241026T165103Z
LAST-MODIFIED:20250106T210241Z
UID:10000336-1737057600-1737061200@drammenhundepark.no
SUMMARY:Bronsemerkekurs (Fullbooket)
DESCRIPTION:Dette kurset går over 6 torsdager kl 20.00-21.00\nDatoer for kurs er 16. jan\, 30. jan\, 13. feb\, 6. mars\, 20. mars og 3. april. \nInstruktør er Marianne Paulsen
URL:https://drammenhundepark.no/event/bronsemerkekurs/
CATEGORIES:Bronsemerkekurs
ATTACH;FMTTYPE=image/jpeg:https://drammenhundepark.no/wp-content/uploads/2024/05/Drammen_Hundepark-5-e1729961450549.jpg
END:VEVENT
BEGIN:VEVENT
DTSTART;TZID=Europe/Oslo:20250116T180000
DTEND;TZID=Europe/Oslo:20250116T190000
DTSTAMP:20260425T140450
CREATED:20241218T182029Z
LAST-MODIFIED:20241218T182029Z
UID:10000367-1737050400-1737054000@drammenhundepark.no
SUMMARY:Passeringskurs
DESCRIPTION:Dette kurset går over 6 torsdager kl 18.00-19.00 innendørs på kunstgress i oppvarmet hall. \n\nFokus på å passere andre hunder på tur\nGå pent i bånd\nKontakt\nSelvbeherskelse og ro\n\nInstruktør er Marianne Paulsen
URL:https://drammenhundepark.no/event/passeringskurs/
CATEGORIES:Passeringskurs
ATTACH;FMTTYPE=image/jpeg:https://drammenhundepark.no/wp-content/uploads/2024/05/Drammen_Hundepark-12-2-e1734545997109.jpg
END:VEVENT
BEGIN:VEVENT
DTSTART;TZID=Europe/Oslo:20250116T170000
DTEND;TZID=Europe/Oslo:20250116T180000
DTSTAMP:20260425T140450
CREATED:20250102T184619Z
LAST-MODIFIED:20250116T123331Z
UID:10000370-1737046800-1737050400@drammenhundepark.no
SUMMARY:Valpekurs
DESCRIPTION:Dette kurset går over 6 torsdager kl 17.00-18.00 innendørs i oppvarmet hall (ca 12 grader) på kunstgress.\nFokuset vil være på vanlige hverdagslydighet som \n\nHåndtering/ro\nKontakt\nInnkalling\nLegg deg og bli liggende\nIntroduksjon gå pent i bånd\nVent/bli/selvkontroll\nBelønningsutvikling\n\nInstruktør på kurset er Marianne
URL:https://drammenhundepark.no/event/valpekurs-10/
CATEGORIES:Valpekurs
ATTACH;FMTTYPE=image/jpeg:https://drammenhundepark.no/wp-content/uploads/2024/10/DSC_0734-kopi-scaled-e1729697721786.jpg
END:VEVENT
BEGIN:VEVENT
DTSTART;TZID=Europe/Oslo:20250114T190000
DTEND;TZID=Europe/Oslo:20250114T203000
DTSTAMP:20260425T140450
CREATED:20241014T133307Z
LAST-MODIFIED:20250101T194307Z
UID:10000322-1736881200-1736886600@drammenhundepark.no
SUMMARY:Valpekurs (Fullbooket)
DESCRIPTION:Dette kurset går over 5 tirsdager kl 19.00-20.30 innendørs i oppvarmet hall (ca 12 grader vinterstid) på kunstgress.\nFokuset vil være på vanlige hverdagslydighet som; \n\nHåndtering/ro\nKontakt\nInnkalling\nLegg deg og bli liggende\nIntroduksjon gå pent i bånd\nVent/bli/selvkontroll\nBelønningsutvikling\n\nInstruktør på kurset er Heidi Aaknes
URL:https://drammenhundepark.no/event/valpekurs-3/
CATEGORIES:Valpekurs
ATTACH;FMTTYPE=image/jpeg:https://drammenhundepark.no/wp-content/uploads/2024/10/DSC_0165-kopi-scaled-e1729697217239.jpg
END:VEVENT
BEGIN:VEVENT
DTSTART;TZID=Europe/Oslo:20250114T171500
DTEND;TZID=Europe/Oslo:20250114T184500
DTSTAMP:20260425T140450
CREATED:20241106T141351Z
LAST-MODIFIED:20250103T174644Z
UID:10000343-1736874900-1736880300@drammenhundepark.no
SUMMARY:Valpekurs (Fullbooket)
DESCRIPTION:Dette kurset går over 5 tirsdager kl 17.15-18.45 innendørs i oppvarmet hall (ca 12 grader vinterstid) på kunstgress.\nFokuset vil være på vanlige hverdagslydighet som \n\nHåndtering/ro\nKontakt\nInnkalling\nLegg deg og bli liggende\nIntroduksjon gå pent i bånd\nVent/bli/selvkontroll\nBelønningsutvikling\n\nInstruktør på kurset er Heidi Aaknes
URL:https://drammenhundepark.no/event/valpekurs-2/
CATEGORIES:Valpekurs
ATTACH;FMTTYPE=image/jpeg:https://drammenhundepark.no/wp-content/uploads/2024/10/DSC_0165-kopi-scaled-e1729697217239.jpg
END:VEVENT
BEGIN:VEVENT
DTSTART;TZID=Europe/Oslo:20250114T164500
DTEND;TZID=Europe/Oslo:20250114T174500
DTSTAMP:20260425T140450
CREATED:20241112T225208Z
LAST-MODIFIED:20241220T125310Z
UID:10000345-1736873100-1736876700@drammenhundepark.no
SUMMARY:Rally Intro (Fullbooket)
DESCRIPTION:Dette kurset går over 6 tirsdager innendørs i oppvarmet hall. \nInstruktør er Cathrine Samuelsen
URL:https://drammenhundepark.no/event/rally-intro-2/
CATEGORIES:Rallylydighet
ATTACH;FMTTYPE=image/jpeg:https://drammenhundepark.no/wp-content/uploads/2024/05/Drammen_Hundepark-15-3-e1730760478401.jpg
END:VEVENT
BEGIN:VEVENT
DTSTART;TZID=Europe/Oslo:20250109T200000
DTEND;TZID=Europe/Oslo:20250109T210000
DTSTAMP:20260425T140450
CREATED:20241019T101133Z
LAST-MODIFIED:20241220T122847Z
UID:10000335-1736452800-1736456400@drammenhundepark.no
SUMMARY:Konkurranselydighet klasse 1-2 (Fullbooket)
DESCRIPTION:Dette kurset går over 6 torsdager. Ca annenhver uke for å gi rom til å trene hjemme og få best mulig utbytte av kurset.\nKurskvelder: 9. jan\, 23 jan\, 6. feb\, 20. feb\, 13. mars og 27. mars \nInstruktør er Marianne Paulsen
URL:https://drammenhundepark.no/event/konkurranselydighet-klasse-1-2/
CATEGORIES:Konkurransekurs i lydighet
END:VEVENT
BEGIN:VEVENT
DTSTART;TZID=Europe/Oslo:20250109T190000
DTEND;TZID=Europe/Oslo:20250109T200000
DTSTAMP:20260425T140450
CREATED:20241121T121402Z
LAST-MODIFIED:20241121T160859Z
UID:10000350-1736449200-1736452800@drammenhundepark.no
SUMMARY:Grunnkurs
DESCRIPTION:Dette kurset går over 6 torsdager kl 19.00-20.00 innendørs i oppvarmet hall (ca 12 grader vinterstid) på kunstgress.\nFokuset vil være på vanlige hverdagsutfordringer som \n\nHåndtering\nRo\nInnkalling\nLegg deg og bli liggende\nGå pent i bånd\nHvordan handle i passeringssituasjoner\n\nInstruktør på kurset er Kine Pedersen
URL:https://drammenhundepark.no/event/grunnkurs-2/
CATEGORIES:Grunnkurs i hverdagslydighet
ATTACH;FMTTYPE=image/jpeg:https://drammenhundepark.no/wp-content/uploads/2024/05/Drammen_Hundepark-3-1-e1729960934856.jpg
END:VEVENT
BEGIN:VEVENT
DTSTART;TZID=Europe/Oslo:20250109T190000
DTEND;TZID=Europe/Oslo:20250109T200000
DTSTAMP:20260425T140450
CREATED:20241018T163211Z
LAST-MODIFIED:20250103T112927Z
UID:10000334-1736449200-1736452800@drammenhundepark.no
SUMMARY:Videregående hverdagslydighet
DESCRIPTION:Dette kurset går over 6 torsdager\, innendørs i oppvarmet hall.\nInstruktør er Marianne Paulsen
URL:https://drammenhundepark.no/event/videregaende-hverdagslydighet/
CATEGORIES:Videregående hverdagslydighet
ATTACH;FMTTYPE=image/jpeg:https://drammenhundepark.no/wp-content/uploads/2024/05/Drammen_Hundepark-3-1-e1729960934856.jpg
END:VEVENT
BEGIN:VEVENT
DTSTART;TZID=Europe/Oslo:20250109T180000
DTEND;TZID=Europe/Oslo:20250109T190000
DTSTAMP:20260425T140450
CREATED:20241125T132327Z
LAST-MODIFIED:20250102T174508Z
UID:10000352-1736445600-1736449200@drammenhundepark.no
SUMMARY:Valpekurs (Fullbooket)
DESCRIPTION:Dette kurset går over 6 torsdager kl 18.00-19.00 innendørs i oppvarmet hall (ca 12 grader vinterstid) på kunstgress.\nFokuset vil være på vanlige hverdagslydighet som \n\nHåndtering/ro\nKontakt\nInnkalling\nLegg deg og bli liggende\nIntroduksjon gå pent i bånd\nVent/bli/selvkontroll\nBelønningsutvikling\n\nInstruktør på kurset er Kine Pedersen
URL:https://drammenhundepark.no/event/valpekurs-7/
CATEGORIES:Valpekurs
ATTACH;FMTTYPE=image/jpeg:https://drammenhundepark.no/wp-content/uploads/2024/10/DSC_0734-kopi-scaled-e1729697721786.jpg
END:VEVENT
END:VCALENDAR