BEGIN:VCALENDAR
VERSION:2.0
PRODID:-//Drammen Hundepark - ECPv6.15.18//NONSGML v1.0//EN
CALSCALE:GREGORIAN
METHOD:PUBLISH
X-ORIGINAL-URL:https://drammenhundepark.no
X-WR-CALDESC:Arrangement for Drammen Hundepark
REFRESH-INTERVAL;VALUE=DURATION:PT1H
X-Robots-Tag:noindex
X-PUBLISHED-TTL:PT1H
BEGIN:VTIMEZONE
TZID:Europe/Oslo
BEGIN:DAYLIGHT
TZOFFSETFROM:+0100
TZOFFSETTO:+0200
TZNAME:CEST
DTSTART:20240331T010000
END:DAYLIGHT
BEGIN:STANDARD
TZOFFSETFROM:+0200
TZOFFSETTO:+0100
TZNAME:CET
DTSTART:20241027T010000
END:STANDARD
BEGIN:DAYLIGHT
TZOFFSETFROM:+0100
TZOFFSETTO:+0200
TZNAME:CEST
DTSTART:20250330T010000
END:DAYLIGHT
BEGIN:STANDARD
TZOFFSETFROM:+0200
TZOFFSETTO:+0100
TZNAME:CET
DTSTART:20251026T010000
END:STANDARD
BEGIN:DAYLIGHT
TZOFFSETFROM:+0100
TZOFFSETTO:+0200
TZNAME:CEST
DTSTART:20260329T010000
END:DAYLIGHT
BEGIN:STANDARD
TZOFFSETFROM:+0200
TZOFFSETTO:+0100
TZNAME:CET
DTSTART:20261025T010000
END:STANDARD
END:VTIMEZONE
BEGIN:VEVENT
DTSTART;TZID=Europe/Oslo:20250930T173000
DTEND;TZID=Europe/Oslo:20250930T203000
DTSTAMP:20260424T020323
CREATED:20250802T085240Z
LAST-MODIFIED:20250802T085240Z
UID:10000443-1759253400-1759264200@drammenhundepark.no
SUMMARY:Rally banekurs uke 40
DESCRIPTION:Dette banekurset i rallylydighet går kl 17.30-20.30 tirsdag og torsdag i uke 40. \nPå kurset jobber vi med å gå baner i rallylydighet!\nCathrine bygger baner som tidligere har blitt brukt på konkurranser. Hun vil gi tips og tilbakemelding på øvelsene i løpene dine og gi råd om neste steg i treningen. Kurset er både for konkurranseekvipasjer\, og de som bruker øvelsene i rallylydighet som aktivisering for sin hund. \nDu må kjenne til skiltene i klasse 1 for å få utbytte av kurset\, skriv i påmelding om du ønsker øvelser i høyere klasse. \nInstruktør er Cathrine Samuelsen
URL:https://drammenhundepark.no/event/rally-banekurs-uke-40/
CATEGORIES:Rallylydighet,Sommerkurs
ATTACH;FMTTYPE=image/jpeg:https://drammenhundepark.no/wp-content/uploads/2024/05/Drammen_Hundepark-15-3-e1730760478401.jpg
END:VEVENT
BEGIN:VEVENT
DTSTART;TZID=Europe/Oslo:20250925T170000
DTEND;TZID=Europe/Oslo:20250925T180000
DTSTAMP:20260424T020323
CREATED:20250911T182626Z
LAST-MODIFIED:20250913T112353Z
UID:10000468-1758819600-1758823200@drammenhundepark.no
SUMMARY:Gøy med hund
DESCRIPTION:Dette kurset går over 6 torsdager kl 17.00-18.00 innendørs i oppvarmet hall. \nMålet med kurset er; \n\nÅ se nærmere på hvilke artige hundeaktiviteter som finnes der ute (agility\, søk\, rallylydighet\, triks\, lydighet samt belønningsteknikk)\nStyrke relasjonen mellom hund og fører\nBygge et godt samarbeid\nHa det gøy med hunden!\n\nInstruktør er Marianne Paulsen \n  \nDet er ikke kurs i uke 40 da det er høstferie i kommunen.
URL:https://drammenhundepark.no/event/goy-med-hund-6/
CATEGORIES:Gøy med hund
ATTACH;FMTTYPE=image/jpeg:https://drammenhundepark.no/wp-content/uploads/2025/01/DSC_0213-kopi-scaled-e1737121691653.jpg
END:VEVENT
BEGIN:VEVENT
DTSTART;TZID=Europe/Oslo:20250923T193000
DTEND;TZID=Europe/Oslo:20250923T210000
DTSTAMP:20260424T020323
CREATED:20250312T091519Z
LAST-MODIFIED:20250528T141302Z
UID:10000399-1758655800-1758661200@drammenhundepark.no
SUMMARY:Rally Treningsgruppe (Fullbooket)
DESCRIPTION:Etter at vårens treningsgruppe fylte seg så raskt opp legger vi ut høstens gruppe allerede nå! \nNå har du mulighet til å være med på en treningsgruppe som går over 12 kvelder. Alle nivå er velkommen\, krav til forkunnskap er gjennomført rally intro eller tilsvarende. \nVi samles hver tirsdag for 1 ½ time med rallytrening med instruktør. Temaene for treningene varierer og det er åpent for ønsker fra deltagerne. I tillegg får gruppa mulighet til å trene gratis når det er drop-in trening i hallen (mandag og torsdag kl 12-14\, fredag kl 17-19) under hele kursets varighet. \nVi holder på kl 1930-2100 alle kveldene. \nInstruktør er Cathrine Samuelsen
URL:https://drammenhundepark.no/event/rally-treningsgruppe-2/
CATEGORIES:Rallylydighet
ATTACH;FMTTYPE=image/jpeg:https://drammenhundepark.no/wp-content/uploads/2024/05/Drammen_Hundepark-15-3-e1730760478401.jpg
END:VEVENT
BEGIN:VEVENT
DTSTART;TZID=Europe/Oslo:20250923T183000
DTEND;TZID=Europe/Oslo:20250923T193000
DTSTAMP:20260424T020323
CREATED:20250827T193545Z
LAST-MODIFIED:20250827T193545Z
UID:10000463-1758652200-1758655800@drammenhundepark.no
SUMMARY:Rally Intro
DESCRIPTION:Dette kurset går over 6 tirsdager kl 18.30-19.30 \n\nPasser for hunder som ikke har prøvd rallylydighet før.\nVi tar for oss og trener på skiltene i klasse 1 og vil sette de sammen til små kombinasjoner.\nJobber med å utvikle glede og samspill mellom hund og fører.\n\nInstruktør er Cathrine Samuelsen \nDet er ikke kurs i uke 40 da det er høstferie i kommunen. \n 
URL:https://drammenhundepark.no/event/rally-intro-10/
CATEGORIES:Rallylydighet
ATTACH;FMTTYPE=image/jpeg:https://drammenhundepark.no/wp-content/uploads/2024/05/Drammen_Hundepark-3-1-e1729960934856.jpg
END:VEVENT
BEGIN:VEVENT
DTSTART;TZID=Europe/Oslo:20250923T173000
DTEND;TZID=Europe/Oslo:20250923T183000
DTSTAMP:20260424T020323
CREATED:20250816T075855Z
LAST-MODIFIED:20250828T112427Z
UID:10000455-1758648600-1758652200@drammenhundepark.no
SUMMARY:Rally Intro (Fullbooket)
DESCRIPTION:Dette kurset går over 6 tirsdager kl 17.30-18.30 \n\nPasser for hunder som ikke har prøvd rallylydighet før.\nVi tar for oss og trener på skiltene i klasse 1 og vil sette de sammen til små kombinasjoner.\nJobber med å utvikle glede og samspill mellom hund og fører.\n\nInstruktør er Cathrine Samuelsen \nDet er ikke kurs i uke 40 da det er høstferie i kommunen. \n 
URL:https://drammenhundepark.no/event/rally-intro-9/
CATEGORIES:Rallylydighet
ATTACH;FMTTYPE=image/jpeg:https://drammenhundepark.no/wp-content/uploads/2024/05/Drammen_Hundepark-3-1-e1729960934856.jpg
END:VEVENT
BEGIN:VEVENT
DTSTART;TZID=Europe/Oslo:20250923T170000
DTEND;TZID=Europe/Oslo:20250923T180000
DTSTAMP:20260424T020323
CREATED:20250808T104117Z
LAST-MODIFIED:20250915T194148Z
UID:10000448-1758646800-1758650400@drammenhundepark.no
SUMMARY:Passeringskurs
DESCRIPTION:Dette kurset går over 6 tirsdager kl 17.00-18.00 innendørs på kunstgress. \n\nFokus på å passere andre hunder på tur\nGå pent i bånd\nKontakt\nSelvbeherskelse og ro\n\nInstruktør er Marianne Paulsen \n  \nDet er ikke kurs i uke 40 da det er høstferie i kommunen.
URL:https://drammenhundepark.no/event/passeringskurs-6/
CATEGORIES:Passeringskurs
ATTACH;FMTTYPE=image/jpeg:https://drammenhundepark.no/wp-content/uploads/2024/05/Drammen_Hundepark-3-3-e1737116271742.jpg
END:VEVENT
BEGIN:VEVENT
DTSTART;TZID=Europe/Oslo:20250920T090000
DTEND;TZID=Europe/Oslo:20250920T120000
DTSTAMP:20260424T020323
CREATED:20250814T152820Z
LAST-MODIFIED:20251112T100216Z
UID:10000451-1758358800-1758369600@drammenhundepark.no
SUMMARY:Lydighetskurs helg (Fullbooket)
DESCRIPTION:Lydighetskurs  \nDette kurset går lørdag og søndag 09.00-12.00 og er for konkurrerende ekvipasjer\, eller førere som har konkurrert med tidligere hunder.\nVi kommer til å trene en og en hund og hva vi skal trene på blir opp til hver enkelt. \nMaks 4 deltakere \nInstruktør Renate Lund
URL:https://drammenhundepark.no/event/lydighetskurs-helg/
CATEGORIES:Konkurransekurs i lydighet
ATTACH;FMTTYPE=image/jpeg:https://drammenhundepark.no/wp-content/uploads/2025/02/1-lp.jpg
END:VEVENT
BEGIN:VEVENT
DTSTART;TZID=Europe/Oslo:20250918T170000
DTEND;TZID=Europe/Oslo:20250918T210000
DTSTAMP:20260424T020323
CREATED:20250825T141317Z
LAST-MODIFIED:20250901T205859Z
UID:10000462-1758214800-1758229200@drammenhundepark.no
SUMMARY:Lydighetskurs (Fullbooket)
DESCRIPTION:Lydighetskurs  \nDette kurset går torsdag 18. september kl 17.00-21.00 og er for konkurrerende ekvipasjer\, eller førere som har konkurrert med tidligere hunder.\nVi kommer til å trene en og en hund og hva vi skal trene på blir opp til hver enkelt. \nMaks 4 deltakere \nInstruktør Renate Lund
URL:https://drammenhundepark.no/event/lydighetskurs/
CATEGORIES:Konkurransekurs i lydighet
ATTACH;FMTTYPE=image/jpeg:https://drammenhundepark.no/wp-content/uploads/2025/02/1-temakurs.jpg
END:VEVENT
BEGIN:VEVENT
DTSTART;TZID=Europe/Oslo:20250916T200000
DTEND;TZID=Europe/Oslo:20250916T210000
DTSTAMP:20260424T020323
CREATED:20250603T192703Z
LAST-MODIFIED:20250721T123107Z
UID:10000427-1758052800-1758056400@drammenhundepark.no
SUMMARY:Bronsemerkekurs
DESCRIPTION:Dette kurset går over 6 tirsdager kl 20.00-21.00 \nDette er kurset for deg som; \n\nØnsker en introduksjon til hundesporten lydighet\nØnsker å aktivisere hunden ved å lære nye lydighetsøvelser\n\nInstruktør er Marianne Paulsen
URL:https://drammenhundepark.no/event/bronsemerkekurs-4/
CATEGORIES:Bronsemerkekurs
ATTACH;FMTTYPE=image/jpeg:https://drammenhundepark.no/wp-content/uploads/2024/05/Drammen_Hundepark-6-1-e1730758231832.jpg
END:VEVENT
BEGIN:VEVENT
DTSTART;TZID=Europe/Oslo:20250916T190000
DTEND;TZID=Europe/Oslo:20250916T200000
DTSTAMP:20260424T020323
CREATED:20250721T122153Z
LAST-MODIFIED:20250910T142047Z
UID:10000440-1758049200-1758052800@drammenhundepark.no
SUMMARY:Videregående hverdagslydighet (Fullbooket)
DESCRIPTION:Dette kurset går over 6 tirsdager kl 19.00-20.00. Innendørs i oppvarmet hall med kunstgress. \nVi tar for oss hverdagslydighet som; \n\nForholde seg rolig rundt andre hunder\nHvordan opptre i møte med andre hunder på tur\nGå pent i bånd\nLek og sosial belønning\nSelvbeherskelse\nLigg på plassen din\nInnkalling\n\nInstruktør på kurset er Marianne Paulsen \n(Det er ikke kurs i uke 40 da det er høstferie i kommunen)
URL:https://drammenhundepark.no/event/videregaende-hverdagslydighet-13/
CATEGORIES:Videregående hverdagslydighet
ATTACH;FMTTYPE=image/jpeg:https://drammenhundepark.no/wp-content/uploads/2025/02/1-kurshund.jpg
END:VEVENT
BEGIN:VEVENT
DTSTART;TZID=Europe/Oslo:20250916T184500
DTEND;TZID=Europe/Oslo:20250916T201500
DTSTAMP:20260424T020323
CREATED:20250808T101817Z
LAST-MODIFIED:20250812T133431Z
UID:10000446-1758048300-1758053700@drammenhundepark.no
SUMMARY:Valpekurs
DESCRIPTION:Dette kurset går over 5 tirsdager kl 18.45-20.15 innendørs\, på kunstgress.\nFokuset vil være på vanlig hverdagslydighet som; \n\nHåndtering/ro\nKontakt\nInnkalling\nLegg deg og bli liggende\nIntroduksjon gå pent i bånd\nVent/bli/selvkontroll\nBelønningsutvikling\n\nInstruktør på kurset er Heidi Aaknes \nDet er ikke kurs i uke 40 da det er høstferie i kommunen.
URL:https://drammenhundepark.no/event/valpekurs-20/
CATEGORIES:Valpekurs
ATTACH;FMTTYPE=image/jpeg:https://drammenhundepark.no/wp-content/uploads/2025/01/DSC_1107-kopi-scaled-e1737121037765.jpg
END:VEVENT
BEGIN:VEVENT
DTSTART;TZID=Europe/Oslo:20250916T180000
DTEND;TZID=Europe/Oslo:20250916T190000
DTSTAMP:20260424T020323
CREATED:20250808T104948Z
LAST-MODIFIED:20250908T204436Z
UID:10000449-1758045600-1758049200@drammenhundepark.no
SUMMARY:Gøy med hund
DESCRIPTION:Dette kurset går over 6 tirsdager kl 18.00-19.00 innendørs i oppvarmet hall. \nMålet med kurset er; \n\nÅ se nærmere på hvilke artige hundeaktiviteter som finnes der ute (agility\, søk\, rallylydighet\, triks\, lydighet samt belønningsteknikk)\nStyrke relasjonen mellom hund og fører\nBygge et godt samarbeid\nHa det gøy med hunden!\n\nInstruktør er Marianne Paulsen \n  \nDet er ikke kurs i uke 40 da det er høstferie i kommunen.
URL:https://drammenhundepark.no/event/goy-med-hund-5/
CATEGORIES:Gøy med hund
ATTACH;FMTTYPE=image/jpeg:https://drammenhundepark.no/wp-content/uploads/2025/01/DSC_0213-kopi-scaled-e1737121691653.jpg
END:VEVENT
BEGIN:VEVENT
DTSTART;TZID=Europe/Oslo:20250916T170000
DTEND;TZID=Europe/Oslo:20250916T180000
DTSTAMP:20260424T020323
CREATED:20250731T110622Z
LAST-MODIFIED:20250915T194251Z
UID:10000442-1758042000-1758045600@drammenhundepark.no
SUMMARY:Grunnkurs
DESCRIPTION:Dette kurset går over 6 tirsdager kl 17.00-18.00 innendørs\, på kunstgress. \nFokuset vil være på vanlige hverdagsutfordringer som \n\nHåndtering\nRo\nInnkalling\nLegg deg og bli liggende\nGå pent i bånd\nHvordan handle i passeringssituasjoner\n\nInstruktør på kurset er Marianne Paulsen \nDet er ikke kurs i uke 40 da det er høstferie i kommunen.
URL:https://drammenhundepark.no/event/grunnkurs-7/
CATEGORIES:Grunnkurs i hverdagslydighet
ATTACH;FMTTYPE=image/jpeg:https://drammenhundepark.no/wp-content/uploads/2024/05/Drammen_Hundepark-3-1-e1729960934856.jpg
END:VEVENT
BEGIN:VEVENT
DTSTART;TZID=Europe/Oslo:20250911T191500
DTEND;TZID=Europe/Oslo:20250911T204500
DTSTAMP:20260424T020323
CREATED:20250808T095628Z
LAST-MODIFIED:20250825T101343Z
UID:10000444-1757618100-1757623500@drammenhundepark.no
SUMMARY:Snusekurs Intro
DESCRIPTION:Snusekurs – en morsom hverdagsaktivitet for deg og hunden din! \nKurset foregår innendørs i Drammen Hundepark – trygge og kontrollerte omgivelser hvor én og én hund jobber av gangen. Du vil likevel kunne møte andre hunder i området rundt hallen. \nTidspunkt: 4 torsdager kl. 19.15–20.45\n(Vi holder på opp til 15 minutter ekstra slik at alle skal få avsluttet øvelsene vi holder på med)\nMaks 5 deltakere – så her får du og hunden din god oppfølging og tett veiledning. \nBli med på en inspirerende reise inn i hundens luktunivers – vi gleder oss til å se dere! \n  \nInstruktør: Cathrine Samuelsen
URL:https://drammenhundepark.no/event/snusekurs-3/
CATEGORIES:Nosework,Temakurs
ATTACH;FMTTYPE=image/jpeg:https://drammenhundepark.no/wp-content/uploads/2025/04/snusekurs-scaled-e1746038117648.jpg
END:VEVENT
BEGIN:VEVENT
DTSTART;TZID=Europe/Oslo:20250911T183000
DTEND;TZID=Europe/Oslo:20250911T200000
DTSTAMP:20260424T020323
CREATED:20250818T202818Z
LAST-MODIFIED:20250827T180946Z
UID:10000456-1757615400-1757620800@drammenhundepark.no
SUMMARY:Agility Videregående
DESCRIPTION:Dette kurset går over 5 torsdager kl 18.30-20.00 \n\n\n\nDette er for hunder som har vært på introkurs eller har tilsvarende kunnskaper.\nVi bygger videre på det hunden har lært til nå. Vi begynner å sette sammen de forskjellige hindrene og lage kombinasjoner.\nDet blir jobbet mer med føring\, og du vil lære mer om hva handling går ut på.\nVi fortsetter jobben med hinder som krever mengdetrening\, som slalom og felthindrene.\nDet blir fokus på hindersug\, fart og motivasjon.\nNivået tilpasses hver ekvipasjes kunnskap og ambisjon.\n\nDet er nå agility virkelig begynner å bli moro! \n \n\nInstruktør er Tommy Kjennerud \n 
URL:https://drammenhundepark.no/event/agility-videregaende-6/
CATEGORIES:Agilitykurs
ATTACH;FMTTYPE=image/jpeg:https://drammenhundepark.no/wp-content/uploads/2024/05/Drammen_Hundepark-2-6-e1729962237557.jpg
END:VEVENT
BEGIN:VEVENT
DTSTART;TZID=Europe/Oslo:20250911T170000
DTEND;TZID=Europe/Oslo:20250911T183000
DTSTAMP:20260424T020323
CREATED:20250818T203132Z
LAST-MODIFIED:20250827T181443Z
UID:10000457-1757610000-1757615400@drammenhundepark.no
SUMMARY:Agility Intro
DESCRIPTION:Dette kurset i agility går over 5 torsdager kl 17.00-18.30 \n\nDette er kurs for hunder som ikke har vært borti agility før.\nPasser alle som har lyst til å ha det moro med hunden sin.\nHer blir hunden introdusert for alle hindrene som inngår i en agilitybane.\nNår hunden begynner å kunne flere av hindrene\, vil vi sette de sammen til små kombinasjoner.\nDet vil bli lagt mye vekt på hindersikkerhet\, belønningsmetoder\, og hvordan vi får fram motivasjon i hundene våre.\nAgility er gøy for både hund og fører!\n\nInstruktør er Tommy Kjennerud
URL:https://drammenhundepark.no/event/agility-intro-7/
CATEGORIES:Agilitykurs
ATTACH;FMTTYPE=image/jpeg:https://drammenhundepark.no/wp-content/uploads/2025/02/1-agility.jpg
END:VEVENT
BEGIN:VEVENT
DTSTART;TZID=Europe/Oslo:20250909T170000
DTEND;TZID=Europe/Oslo:20250909T183000
DTSTAMP:20260424T020323
CREATED:20250721T124155Z
LAST-MODIFIED:20250722T114549Z
UID:10000441-1757437200-1757442600@drammenhundepark.no
SUMMARY:Valpekurs
DESCRIPTION:Dette kurset går over 5 tirsdager kl 17.00-18.30 innendørs\, på kunstgress.\nFokuset vil være på vanlig hverdagslydighet som; \n\nHåndtering/ro\nKontakt\nInnkalling\nLegg deg og bli liggende\nIntroduksjon gå pent i bånd\nVent/bli/selvkontroll\nBelønningsutvikling\n\nInstruktør på kurset er Heidi Aaknes \nDet er ikke kurs i uke 40 da det er høstferie i kommunen.
URL:https://drammenhundepark.no/event/valpekurs-19/
CATEGORIES:Valpekurs
ATTACH;FMTTYPE=image/jpeg:https://drammenhundepark.no/wp-content/uploads/2025/01/DSC_0991-kopi-scaled-e1737120961894.jpg
END:VEVENT
BEGIN:VEVENT
DTSTART;TZID=Europe/Oslo:20250904T173000
DTEND;TZID=Europe/Oslo:20250904T190000
DTSTAMP:20260424T020323
CREATED:20250808T100209Z
LAST-MODIFIED:20250820T194957Z
UID:10000445-1757007000-1757012400@drammenhundepark.no
SUMMARY:Snusekurs 2
DESCRIPTION:Snusekurs 2  \nHar du og hunden din allerede deltatt på vårt snusekurs? Da er dette kurset neste steg! \n\nHer får dere nye og mer utfordrende oppgaver som bygger videre på det dere kan fra før.\nVi utforsker flere varierte og spennende søkssituasjoner\, øker vanskelighetsgraden og jobber mer med utholdenhet\, presisjon og selvstendighet i søket.\nDette gir hunden enda mer mental stimulering\, mestringsfølelse og trygghet – og styrker samarbeidet mellom dere ytterligere.Kurset foregår innendørs i Drammen Hundepark\, i trygge og kontrollerte omgivelser. Én og én hund jobber av gangen\, men du kan møte andre hunder i området rundt hallen.\n\nTidspunkt: 4 torsdager kl. 17.30-19.00\n(Vi holder på opp til 15 minutter ekstra slik at alle skal få avsluttet øvelsene vi holder på med)\nMaks 5 deltakere – så her får du og hunden din god oppfølging og tett veiledning. \n  \nInstruktør: Cathrine Samuelsen
URL:https://drammenhundepark.no/event/snusekurs-2-2/
CATEGORIES:Nosework,Temakurs
ATTACH;FMTTYPE=image/jpeg:https://drammenhundepark.no/wp-content/uploads/2025/04/snusekurs-scaled-e1746038117648.jpg
END:VEVENT
BEGIN:VEVENT
DTSTART;TZID=Europe/Oslo:20250812T193000
DTEND;TZID=Europe/Oslo:20250812T203000
DTSTAMP:20260424T020323
CREATED:20250520T105900Z
LAST-MODIFIED:20250717T113207Z
UID:10000419-1755027000-1755030600@drammenhundepark.no
SUMMARY:Rally 3 (Fullbooket)
DESCRIPTION:Dette kurset går over 6 tirsdager kl 19.30-20.30 innendørs i hall\, på kunstgress. \nVi jobber med skiltene i klasse 3. Glede\, mestring og samarbeid står fremdeles i fokus!\n(Man bør enten ha gått rallykurs tidligere eller kunne klasse 1 og 2 skiltene for å få utbytte av kurset) \nInstruktør er Cathrine Samuelsen
URL:https://drammenhundepark.no/event/rally-3/
CATEGORIES:Rallylydighet
ATTACH;FMTTYPE=image/jpeg:https://drammenhundepark.no/wp-content/uploads/2024/05/Drammen_Hundepark-5-3-e1729961895679.jpg
END:VEVENT
BEGIN:VEVENT
DTSTART;TZID=Europe/Oslo:20250812T184500
DTEND;TZID=Europe/Oslo:20250812T201500
DTSTAMP:20260424T020323
CREATED:20250420T163927Z
LAST-MODIFIED:20250810T125941Z
UID:10000410-1755024300-1755029700@drammenhundepark.no
SUMMARY:Valpekurs (Fullbooket)
DESCRIPTION:Dette kurset går over 5 tirsdager kl 18.45-20.15 innendørs\, på kunstgress.\nFokuset vil være på vanlig hverdagslydighet som; \n\nHåndtering/ro\nKontakt\nInnkalling\nLegg deg og bli liggende\nIntroduksjon gå pent i bånd\nVent/bli/selvkontroll\nBelønningsutvikling\n\nInstruktør på kurset er Heidi Aaknes
URL:https://drammenhundepark.no/event/valpekurs-16/
CATEGORIES:Valpekurs
ATTACH;FMTTYPE=image/jpeg:https://drammenhundepark.no/wp-content/uploads/2025/01/DSC_0707-kopi-scaled-e1737120910440.jpg
END:VEVENT
BEGIN:VEVENT
DTSTART;TZID=Europe/Oslo:20250812T183000
DTEND;TZID=Europe/Oslo:20250812T193000
DTSTAMP:20260424T020323
CREATED:20250916T151533Z
LAST-MODIFIED:20250916T151533Z
UID:10000470-1755023400-1755027000@drammenhundepark.no
SUMMARY:Rally 2
DESCRIPTION:Dette kurset går over 6 tirsdager kl 18.30-19.30 innendørs i hall\, på kunstgress. \nVi jobber med skiltene i klasse 2. Glede\, mestring og samarbeid står fremdeles i fokus!\n(Man bør enten ha gått rally introkurs eller kunne klasse 1 skiltene for å få utbytte av kurset) \nInstruktør er Cathrine Samuelsen
URL:https://drammenhundepark.no/event/rally-2-5/
CATEGORIES:Rallylydighet
ATTACH;FMTTYPE=image/jpeg:https://drammenhundepark.no/wp-content/uploads/2024/05/Drammen_Hundepark-5-2-e1729960790137.jpg
END:VEVENT
BEGIN:VEVENT
DTSTART;TZID=Europe/Oslo:20250812T183000
DTEND;TZID=Europe/Oslo:20250812T193000
DTSTAMP:20260424T020323
CREATED:20250520T105440Z
LAST-MODIFIED:20250520T105440Z
UID:10000418-1755023400-1755027000@drammenhundepark.no
SUMMARY:Rally 2
DESCRIPTION:Dette kurset går over 6 tirsdager kl 18.30-19.30 innendørs i hall\, på kunstgress. \nVi jobber med skiltene i klasse 2. Glede\, mestring og samarbeid står fremdeles i fokus!\n(Man bør enten ha gått rally introkurs eller kunne klasse 1 skiltene for å få utbytte av kurset) \nInstruktør er Cathrine Samuelsen
URL:https://drammenhundepark.no/event/rally-2-4/
CATEGORIES:Rallylydighet
ATTACH;FMTTYPE=image/jpeg:https://drammenhundepark.no/wp-content/uploads/2024/05/Drammen_Hundepark-5-2-e1729960790137.jpg
END:VEVENT
BEGIN:VEVENT
DTSTART;TZID=Europe/Oslo:20250812T173000
DTEND;TZID=Europe/Oslo:20250812T183000
DTSTAMP:20260424T020323
CREATED:20250520T110621Z
LAST-MODIFIED:20250810T130528Z
UID:10000420-1755019800-1755023400@drammenhundepark.no
SUMMARY:Rally Intro (Fullbooket)
DESCRIPTION:Dette kurset går over 6 tirsdager kl 17.30-18.30 \n\nPasser for hunder som ikke har prøvd rallylydighet før.\nVi tar for oss og trener på skiltene i klasse 1 og vil sette de sammen til små kombinasjoner.\nJobber med å utvikle glede og samspill mellom hund og fører.\n\nInstruktør er Cathrine Samuelsen
URL:https://drammenhundepark.no/event/rally-intro-8/
CATEGORIES:Rallylydighet
ATTACH;FMTTYPE=image/jpeg:https://drammenhundepark.no/wp-content/uploads/2024/05/Drammen_Hundepark-3-1-e1729960934856.jpg
END:VEVENT
BEGIN:VEVENT
DTSTART;TZID=Europe/Oslo:20250807T200000
DTEND;TZID=Europe/Oslo:20250807T210000
DTSTAMP:20260424T020323
CREATED:20250711T101047Z
LAST-MODIFIED:20250711T101332Z
UID:10000439-1754596800-1754600400@drammenhundepark.no
SUMMARY:Videregående hverdagslydighet
DESCRIPTION:Dette kurset går over 6 torsdager kl 20.00-21.00. Innendørs i oppvarmet hall med kunstgress. \nVi tar for oss hverdagslydighet som; \n\nForholde seg rolig rundt andre hunder\nHvordan opptre i møte med andre hunder på tur\nGå pent i bånd\nLek og sosial belønning\nSelvbeherskelse\nLigg på plassen din\nInnkalling\n\nInstruktør på kurset er Marianne Paulsen
URL:https://drammenhundepark.no/event/videregaende-hverdagslydighet-12/
CATEGORIES:Videregående hverdagslydighet
ATTACH;FMTTYPE=image/jpeg:https://drammenhundepark.no/wp-content/uploads/2025/02/1-kurshund.jpg
END:VEVENT
BEGIN:VEVENT
DTSTART;TZID=Europe/Oslo:20250807T191500
DTEND;TZID=Europe/Oslo:20250807T204500
DTSTAMP:20260424T020323
CREATED:20250430T184617Z
LAST-MODIFIED:20250526T153944Z
UID:10000413-1754594100-1754599500@drammenhundepark.no
SUMMARY:Snusekurs (Fullbooket)
DESCRIPTION:Snusekurs – en morsom hverdagsaktivitet for deg og hunden din! \nHar du en nysgjerrig snute hjemme som elsker å utforske verden gjennom lukter? Da er dette kurset midt i blinken! Her kan hunder i alle aldre få brukt sansene sine på en morsom\, lærerik og meningsfull måte – helt uten krav til forkunnskaper. \nÅ bruke nesen er en fantastisk form for mental stimulering som gir både ro og mestringsfølelse. Gjennom fire kvelder utforsker vi flere ulike og spennende søkssituasjoner. Dette er en aktivitet som styrker båndet mellom dere\, og bygger stor selvtillit hos den firbeinte. I tillegg får dere en spennende introduksjon til hundesporten nosework! \nKurset foregår innendørs i Drammen Hundepark – trygge og kontrollerte omgivelser hvor én og én hund jobber av gangen. Du vil likevel kunne møte andre hunder i området rundt hallen. \nTidspunkt: 4 torsdager kl. 19.15–20.45\n(Vi holder på opp til 15 minutter ekstra slik at alle skal få avsluttet øvelsene vi holder på med)\nMaks 5 deltakere – så her får du og hunden din god oppfølging og tett veiledning. \nBli med på en inspirerende reise inn i hundens luktunivers – vi gleder oss til å se dere! \n  \nInstruktør: Cathrine Samuelsen
URL:https://drammenhundepark.no/event/snusekurs/
CATEGORIES:Temakurs
ATTACH;FMTTYPE=image/jpeg:https://drammenhundepark.no/wp-content/uploads/2025/04/snusekurs-scaled-e1746038117648.jpg
END:VEVENT
BEGIN:VEVENT
DTSTART;TZID=Europe/Oslo:20250807T190000
DTEND;TZID=Europe/Oslo:20250807T200000
DTSTAMP:20260424T020323
CREATED:20250610T211732Z
LAST-MODIFIED:20250711T101923Z
UID:10000430-1754593200-1754596800@drammenhundepark.no
SUMMARY:Videregående hverdagslydighet (Fullbooket)
DESCRIPTION:Dette kurset går over 6 torsdager kl 19.00-20.00. Innendørs i oppvarmet hall med kunstgress. \nVi tar for oss hverdagslydighet som; \n\nForholde seg rolig rundt andre hunder\nHvordan opptre i møte med andre hunder på tur\nGå pent i bånd\nLek og sosial belønning\nSelvbeherskelse\nLigg på plassen din\nInnkalling\n\nInstruktør på kurset er Marianne Paulsen
URL:https://drammenhundepark.no/event/videregaende-hverdagslydighet-10/
CATEGORIES:Videregående hverdagslydighet
ATTACH;FMTTYPE=image/jpeg:https://drammenhundepark.no/wp-content/uploads/2025/02/1-kurshund.jpg
END:VEVENT
BEGIN:VEVENT
DTSTART;TZID=Europe/Oslo:20250807T183000
DTEND;TZID=Europe/Oslo:20250807T200000
DTSTAMP:20260424T020323
CREATED:20250610T221231Z
LAST-MODIFIED:20250610T221245Z
UID:10000432-1754591400-1754596800@drammenhundepark.no
SUMMARY:Agility Videregående
DESCRIPTION:Dette kurset går over 5 torsdager kl 18.30-20.00 \n\n\n\nDette er for hunder som har vært på introkurs eller har tilsvarende kunnskaper.\nVi bygger videre på det hunden har lært til nå. Vi begynner å sette sammen de forskjellige hindrene og lage kombinasjoner.\nDet blir jobbet mer med føring\, og du vil lære mer om hva handling går ut på.\nVi fortsetter jobben med hinder som krever mengdetrening\, som slalom og felthindrene.\nDet blir fokus på hindersug\, fart og motivasjon.\nNivået tilpasses hver ekvipasjes kunnskap og ambisjon.\n\nDet er nå agility virkelig begynner å bli moro! \n \n\nInstruktør er Tommy Kjennerud \n 
URL:https://drammenhundepark.no/event/agility-videregaende-5/
CATEGORIES:Agilitykurs
ATTACH;FMTTYPE=image/jpeg:https://drammenhundepark.no/wp-content/uploads/2024/05/Drammen_Hundepark-2-6-e1729962237557.jpg
END:VEVENT
BEGIN:VEVENT
DTSTART;TZID=Europe/Oslo:20250807T180000
DTEND;TZID=Europe/Oslo:20250807T190000
DTSTAMP:20260424T020323
CREATED:20250610T120122Z
LAST-MODIFIED:20250610T120122Z
UID:10000429-1754589600-1754593200@drammenhundepark.no
SUMMARY:Passeringskurs
DESCRIPTION:Dette kurset går over 6 torsdager kl 18.00-19.00 innendørs på kunstgress. \n\nFokus på å passere andre hunder på tur\nGå pent i bånd\nKontakt\nSelvbeherskelse og ro\n\nInstruktør er Marianne Paulsen
URL:https://drammenhundepark.no/event/passeringskurs-5/
CATEGORIES:Passeringskurs
ATTACH;FMTTYPE=image/jpeg:https://drammenhundepark.no/wp-content/uploads/2024/05/Drammen_Hundepark-3-3-e1737116271742.jpg
END:VEVENT
BEGIN:VEVENT
DTSTART;TZID=Europe/Oslo:20250807T173000
DTEND;TZID=Europe/Oslo:20250807T190000
DTSTAMP:20260424T020323
CREATED:20250523T121658Z
LAST-MODIFIED:20250726T111505Z
UID:10000421-1754587800-1754593200@drammenhundepark.no
SUMMARY:Snusekurs
DESCRIPTION:Snusekurs – en morsom hverdagsaktivitet for deg og hunden din! \nHar du en nysgjerrig snute hjemme som elsker å utforske verden gjennom lukter? Da er dette kurset midt i blinken! Her kan hunder i alle aldre få brukt sansene sine på en morsom\, lærerik og meningsfull måte – helt uten krav til forkunnskaper. \nÅ bruke nesen er en fantastisk form for mental stimulering som gir både ro og mestringsfølelse. Gjennom fire kvelder utforsker vi flere ulike og spennende søkssituasjoner. Dette er en aktivitet som styrker båndet mellom dere\, og bygger stor selvtillit hos den firbeinte. I tillegg får dere en spennende introduksjon til hundesporten nosework! \nKurset foregår innendørs i Drammen Hundepark – trygge og kontrollerte omgivelser hvor én og én hund jobber av gangen. Du vil likevel kunne møte andre hunder i området rundt hallen. \nTidspunkt: 4 torsdager kl. 17.30-19.00\n(Vi holder på opp til 15 minutter ekstra slik at alle skal få avsluttet øvelsene vi holder på med)\nMaks 5 deltakere – så her får du og hunden din god oppfølging og tett veiledning. \nBli med på en inspirerende reise inn i hundens luktunivers – vi gleder oss til å se dere! \n  \nInstruktør: Cathrine Samuelsen
URL:https://drammenhundepark.no/event/snusekurs-2/
CATEGORIES:Temakurs
ATTACH;FMTTYPE=image/jpeg:https://drammenhundepark.no/wp-content/uploads/2025/04/snusekurs-scaled-e1746038117648.jpg
END:VEVENT
BEGIN:VEVENT
DTSTART;TZID=Europe/Oslo:20250807T170000
DTEND;TZID=Europe/Oslo:20250807T183000
DTSTAMP:20260424T020323
CREATED:20250610T221813Z
LAST-MODIFIED:20250804T110451Z
UID:10000434-1754586000-1754591400@drammenhundepark.no
SUMMARY:Agility Intro (Fullbooket)
DESCRIPTION:Dette kurset i agility går torsdager kl 17.00-18.30 \n\nDette er kurs for hunder som ikke har vært borti agility før.\nPasser alle som har lyst til å ha det moro med hunden sin.\nHer blir hunden introdusert for alle hindrene som inngår i en agilitybane.\nNår hunden begynner å kunne flere av hindrene\, vil vi sette de sammen til små kombinasjoner.\nDet vil bli lagt mye vekt på hindersikkerhet\, belønningsmetoder\, og hvordan vi får fram motivasjon i hundene våre.Agility er gøy for både hund og fører!\n\nInstruktør er Tommy Kjennerud
URL:https://drammenhundepark.no/event/agility-intro-6/
CATEGORIES:Agilitykurs
ATTACH;FMTTYPE=image/jpeg:https://drammenhundepark.no/wp-content/uploads/2025/02/1-agility.jpg
END:VEVENT
END:VCALENDAR