BEGIN:VCALENDAR
VERSION:2.0
PRODID:-//Drammen Hundepark - ECPv6.15.18//NONSGML v1.0//EN
CALSCALE:GREGORIAN
METHOD:PUBLISH
X-ORIGINAL-URL:https://drammenhundepark.no
X-WR-CALDESC:Arrangement for Drammen Hundepark
REFRESH-INTERVAL;VALUE=DURATION:PT1H
X-Robots-Tag:noindex
X-PUBLISHED-TTL:PT1H
BEGIN:VTIMEZONE
TZID:Europe/Oslo
BEGIN:DAYLIGHT
TZOFFSETFROM:+0100
TZOFFSETTO:+0200
TZNAME:CEST
DTSTART:20230326T010000
END:DAYLIGHT
BEGIN:STANDARD
TZOFFSETFROM:+0200
TZOFFSETTO:+0100
TZNAME:CET
DTSTART:20231029T010000
END:STANDARD
BEGIN:DAYLIGHT
TZOFFSETFROM:+0100
TZOFFSETTO:+0200
TZNAME:CEST
DTSTART:20240331T010000
END:DAYLIGHT
BEGIN:STANDARD
TZOFFSETFROM:+0200
TZOFFSETTO:+0100
TZNAME:CET
DTSTART:20241027T010000
END:STANDARD
BEGIN:DAYLIGHT
TZOFFSETFROM:+0100
TZOFFSETTO:+0200
TZNAME:CEST
DTSTART:20250330T010000
END:DAYLIGHT
BEGIN:STANDARD
TZOFFSETFROM:+0200
TZOFFSETTO:+0100
TZNAME:CET
DTSTART:20251026T010000
END:STANDARD
BEGIN:DAYLIGHT
TZOFFSETFROM:+0100
TZOFFSETTO:+0200
TZNAME:CEST
DTSTART:20260329T010000
END:DAYLIGHT
BEGIN:STANDARD
TZOFFSETFROM:+0200
TZOFFSETTO:+0100
TZNAME:CET
DTSTART:20261025T010000
END:STANDARD
END:VTIMEZONE
BEGIN:VEVENT
DTSTART;TZID=Europe/Oslo:20250121T170000
DTEND;TZID=Europe/Oslo:20250121T180000
DTSTAMP:20260425T173444
CREATED:20241026T165620Z
LAST-MODIFIED:20250110T114536Z
UID:10000337-1737478800-1737482400@drammenhundepark.no
SUMMARY:Gøy med hund (Fullbooket)
DESCRIPTION:Dette kurset går over 6 tirsdager innendørs i oppvarmet hall.\nDet er ikke kurs i uke 9\, da det er vinterferie i kommunen. \nInstruktør er Marianne Paulsen
URL:https://drammenhundepark.no/event/goy-med-hund/
CATEGORIES:Gøy med hund
ATTACH;FMTTYPE=image/jpeg:https://drammenhundepark.no/wp-content/uploads/2024/05/Drammen_Hundepark-5-e1729961450549.jpg
END:VEVENT
BEGIN:VEVENT
DTSTART;TZID=Europe/Oslo:20250116T200000
DTEND;TZID=Europe/Oslo:20250116T210000
DTSTAMP:20260425T173444
CREATED:20241026T165103Z
LAST-MODIFIED:20250106T210241Z
UID:10000336-1737057600-1737061200@drammenhundepark.no
SUMMARY:Bronsemerkekurs (Fullbooket)
DESCRIPTION:Dette kurset går over 6 torsdager kl 20.00-21.00\nDatoer for kurs er 16. jan\, 30. jan\, 13. feb\, 6. mars\, 20. mars og 3. april. \nInstruktør er Marianne Paulsen
URL:https://drammenhundepark.no/event/bronsemerkekurs/
CATEGORIES:Bronsemerkekurs
ATTACH;FMTTYPE=image/jpeg:https://drammenhundepark.no/wp-content/uploads/2024/05/Drammen_Hundepark-5-e1729961450549.jpg
END:VEVENT
BEGIN:VEVENT
DTSTART;TZID=Europe/Oslo:20250116T180000
DTEND;TZID=Europe/Oslo:20250116T190000
DTSTAMP:20260425T173444
CREATED:20241218T182029Z
LAST-MODIFIED:20241218T182029Z
UID:10000367-1737050400-1737054000@drammenhundepark.no
SUMMARY:Passeringskurs
DESCRIPTION:Dette kurset går over 6 torsdager kl 18.00-19.00 innendørs på kunstgress i oppvarmet hall. \n\nFokus på å passere andre hunder på tur\nGå pent i bånd\nKontakt\nSelvbeherskelse og ro\n\nInstruktør er Marianne Paulsen
URL:https://drammenhundepark.no/event/passeringskurs/
CATEGORIES:Passeringskurs
ATTACH;FMTTYPE=image/jpeg:https://drammenhundepark.no/wp-content/uploads/2024/05/Drammen_Hundepark-12-2-e1734545997109.jpg
END:VEVENT
BEGIN:VEVENT
DTSTART;TZID=Europe/Oslo:20250116T170000
DTEND;TZID=Europe/Oslo:20250116T180000
DTSTAMP:20260425T173444
CREATED:20250102T184619Z
LAST-MODIFIED:20250116T123331Z
UID:10000370-1737046800-1737050400@drammenhundepark.no
SUMMARY:Valpekurs
DESCRIPTION:Dette kurset går over 6 torsdager kl 17.00-18.00 innendørs i oppvarmet hall (ca 12 grader) på kunstgress.\nFokuset vil være på vanlige hverdagslydighet som \n\nHåndtering/ro\nKontakt\nInnkalling\nLegg deg og bli liggende\nIntroduksjon gå pent i bånd\nVent/bli/selvkontroll\nBelønningsutvikling\n\nInstruktør på kurset er Marianne
URL:https://drammenhundepark.no/event/valpekurs-10/
CATEGORIES:Valpekurs
ATTACH;FMTTYPE=image/jpeg:https://drammenhundepark.no/wp-content/uploads/2024/10/DSC_0734-kopi-scaled-e1729697721786.jpg
END:VEVENT
BEGIN:VEVENT
DTSTART;TZID=Europe/Oslo:20250114T190000
DTEND;TZID=Europe/Oslo:20250114T203000
DTSTAMP:20260425T173444
CREATED:20241014T133307Z
LAST-MODIFIED:20250101T194307Z
UID:10000322-1736881200-1736886600@drammenhundepark.no
SUMMARY:Valpekurs (Fullbooket)
DESCRIPTION:Dette kurset går over 5 tirsdager kl 19.00-20.30 innendørs i oppvarmet hall (ca 12 grader vinterstid) på kunstgress.\nFokuset vil være på vanlige hverdagslydighet som; \n\nHåndtering/ro\nKontakt\nInnkalling\nLegg deg og bli liggende\nIntroduksjon gå pent i bånd\nVent/bli/selvkontroll\nBelønningsutvikling\n\nInstruktør på kurset er Heidi Aaknes
URL:https://drammenhundepark.no/event/valpekurs-3/
CATEGORIES:Valpekurs
ATTACH;FMTTYPE=image/jpeg:https://drammenhundepark.no/wp-content/uploads/2024/10/DSC_0165-kopi-scaled-e1729697217239.jpg
END:VEVENT
BEGIN:VEVENT
DTSTART;TZID=Europe/Oslo:20250114T171500
DTEND;TZID=Europe/Oslo:20250114T184500
DTSTAMP:20260425T173444
CREATED:20241106T141351Z
LAST-MODIFIED:20250103T174644Z
UID:10000343-1736874900-1736880300@drammenhundepark.no
SUMMARY:Valpekurs (Fullbooket)
DESCRIPTION:Dette kurset går over 5 tirsdager kl 17.15-18.45 innendørs i oppvarmet hall (ca 12 grader vinterstid) på kunstgress.\nFokuset vil være på vanlige hverdagslydighet som \n\nHåndtering/ro\nKontakt\nInnkalling\nLegg deg og bli liggende\nIntroduksjon gå pent i bånd\nVent/bli/selvkontroll\nBelønningsutvikling\n\nInstruktør på kurset er Heidi Aaknes
URL:https://drammenhundepark.no/event/valpekurs-2/
CATEGORIES:Valpekurs
ATTACH;FMTTYPE=image/jpeg:https://drammenhundepark.no/wp-content/uploads/2024/10/DSC_0165-kopi-scaled-e1729697217239.jpg
END:VEVENT
BEGIN:VEVENT
DTSTART;TZID=Europe/Oslo:20250114T164500
DTEND;TZID=Europe/Oslo:20250114T174500
DTSTAMP:20260425T173444
CREATED:20241112T225208Z
LAST-MODIFIED:20241220T125310Z
UID:10000345-1736873100-1736876700@drammenhundepark.no
SUMMARY:Rally Intro (Fullbooket)
DESCRIPTION:Dette kurset går over 6 tirsdager innendørs i oppvarmet hall. \nInstruktør er Cathrine Samuelsen
URL:https://drammenhundepark.no/event/rally-intro-2/
CATEGORIES:Rallylydighet
ATTACH;FMTTYPE=image/jpeg:https://drammenhundepark.no/wp-content/uploads/2024/05/Drammen_Hundepark-15-3-e1730760478401.jpg
END:VEVENT
BEGIN:VEVENT
DTSTART;TZID=Europe/Oslo:20250109T200000
DTEND;TZID=Europe/Oslo:20250109T210000
DTSTAMP:20260425T173444
CREATED:20241019T101133Z
LAST-MODIFIED:20241220T122847Z
UID:10000335-1736452800-1736456400@drammenhundepark.no
SUMMARY:Konkurranselydighet klasse 1-2 (Fullbooket)
DESCRIPTION:Dette kurset går over 6 torsdager. Ca annenhver uke for å gi rom til å trene hjemme og få best mulig utbytte av kurset.\nKurskvelder: 9. jan\, 23 jan\, 6. feb\, 20. feb\, 13. mars og 27. mars \nInstruktør er Marianne Paulsen
URL:https://drammenhundepark.no/event/konkurranselydighet-klasse-1-2/
CATEGORIES:Konkurransekurs i lydighet
END:VEVENT
BEGIN:VEVENT
DTSTART;TZID=Europe/Oslo:20250109T190000
DTEND;TZID=Europe/Oslo:20250109T200000
DTSTAMP:20260425T173444
CREATED:20241121T121402Z
LAST-MODIFIED:20241121T160859Z
UID:10000350-1736449200-1736452800@drammenhundepark.no
SUMMARY:Grunnkurs
DESCRIPTION:Dette kurset går over 6 torsdager kl 19.00-20.00 innendørs i oppvarmet hall (ca 12 grader vinterstid) på kunstgress.\nFokuset vil være på vanlige hverdagsutfordringer som \n\nHåndtering\nRo\nInnkalling\nLegg deg og bli liggende\nGå pent i bånd\nHvordan handle i passeringssituasjoner\n\nInstruktør på kurset er Kine Pedersen
URL:https://drammenhundepark.no/event/grunnkurs-2/
CATEGORIES:Grunnkurs i hverdagslydighet
ATTACH;FMTTYPE=image/jpeg:https://drammenhundepark.no/wp-content/uploads/2024/05/Drammen_Hundepark-3-1-e1729960934856.jpg
END:VEVENT
BEGIN:VEVENT
DTSTART;TZID=Europe/Oslo:20250109T190000
DTEND;TZID=Europe/Oslo:20250109T200000
DTSTAMP:20260425T173444
CREATED:20241018T163211Z
LAST-MODIFIED:20250103T112927Z
UID:10000334-1736449200-1736452800@drammenhundepark.no
SUMMARY:Videregående hverdagslydighet
DESCRIPTION:Dette kurset går over 6 torsdager\, innendørs i oppvarmet hall.\nInstruktør er Marianne Paulsen
URL:https://drammenhundepark.no/event/videregaende-hverdagslydighet/
CATEGORIES:Videregående hverdagslydighet
ATTACH;FMTTYPE=image/jpeg:https://drammenhundepark.no/wp-content/uploads/2024/05/Drammen_Hundepark-3-1-e1729960934856.jpg
END:VEVENT
BEGIN:VEVENT
DTSTART;TZID=Europe/Oslo:20250109T180000
DTEND;TZID=Europe/Oslo:20250109T190000
DTSTAMP:20260425T173444
CREATED:20241125T132327Z
LAST-MODIFIED:20250102T174508Z
UID:10000352-1736445600-1736449200@drammenhundepark.no
SUMMARY:Valpekurs (Fullbooket)
DESCRIPTION:Dette kurset går over 6 torsdager kl 18.00-19.00 innendørs i oppvarmet hall (ca 12 grader vinterstid) på kunstgress.\nFokuset vil være på vanlige hverdagslydighet som \n\nHåndtering/ro\nKontakt\nInnkalling\nLegg deg og bli liggende\nIntroduksjon gå pent i bånd\nVent/bli/selvkontroll\nBelønningsutvikling\n\nInstruktør på kurset er Kine Pedersen
URL:https://drammenhundepark.no/event/valpekurs-7/
CATEGORIES:Valpekurs
ATTACH;FMTTYPE=image/jpeg:https://drammenhundepark.no/wp-content/uploads/2024/10/DSC_0734-kopi-scaled-e1729697721786.jpg
END:VEVENT
BEGIN:VEVENT
DTSTART;TZID=Europe/Oslo:20250107T200000
DTEND;TZID=Europe/Oslo:20250107T210000
DTSTAMP:20260425T173444
CREATED:20241105T102115Z
LAST-MODIFIED:20241218T170830Z
UID:10000342-1736280000-1736283600@drammenhundepark.no
SUMMARY:Videregående hverdagslydighet
DESCRIPTION:Dette kurset går over 6 tirsdager\, innendørs i oppvarmet hall.\nInstruktør er Cathrine Samuelsen
URL:https://drammenhundepark.no/event/videregaende-hverdagslydighet-3/
CATEGORIES:Videregående hverdagslydighet
ATTACH;FMTTYPE=image/jpeg:https://drammenhundepark.no/wp-content/uploads/2024/05/Drammen_Hundepark-5-e1729961450549.jpg
END:VEVENT
BEGIN:VEVENT
DTSTART;TZID=Europe/Oslo:20250107T190000
DTEND;TZID=Europe/Oslo:20250107T200000
DTSTAMP:20260425T173444
CREATED:20241128T194548Z
LAST-MODIFIED:20241221T153221Z
UID:10000354-1736276400-1736280000@drammenhundepark.no
SUMMARY:Rally Intro (Fullbooket)
DESCRIPTION:Dette kurset går over 6 tirsdager innendørs i oppvarmet hall. \nInstruktør er Marianne Paulsen
URL:https://drammenhundepark.no/event/rally-intro-3/
CATEGORIES:Rallylydighet
ATTACH;FMTTYPE=image/jpeg:https://drammenhundepark.no/wp-content/uploads/2024/05/Drammen_Hundepark-15-3-e1730760478401.jpg
END:VEVENT
BEGIN:VEVENT
DTSTART;TZID=Europe/Oslo:20250107T184500
DTEND;TZID=Europe/Oslo:20250107T194500
DTSTAMP:20260425T173444
CREATED:20241104T224919Z
LAST-MODIFIED:20250107T122455Z
UID:10000341-1736275500-1736279100@drammenhundepark.no
SUMMARY:Rally 2 (Fullbooket)
DESCRIPTION:Dette kurset går over 6 tirsdager innendørs i oppvarmet hall. \nInstruktør er Cathrine Samuelsen
URL:https://drammenhundepark.no/event/rally-2/
CATEGORIES:Rallylydighet
ATTACH;FMTTYPE=image/jpeg:https://drammenhundepark.no/wp-content/uploads/2024/05/Drammen_Hundepark-15-3-e1730760478401.jpg
END:VEVENT
BEGIN:VEVENT
DTSTART;TZID=Europe/Oslo:20250107T180000
DTEND;TZID=Europe/Oslo:20250107T190000
DTSTAMP:20260425T173444
CREATED:20241017T084635Z
LAST-MODIFIED:20250106T204457Z
UID:10000328-1736272800-1736276400@drammenhundepark.no
SUMMARY:Passeringskurs (Fullbooket)
DESCRIPTION:Dette kurset går over 6 tirsdager innendørs i oppvarmet hall.\nInstruktør er Marianne Paulsen
URL:https://drammenhundepark.no/event/passeringskurs-2/
CATEGORIES:Passeringskurs
ATTACH;FMTTYPE=image/jpeg:https://drammenhundepark.no/wp-content/uploads/2024/10/DSC_0074-kopi-scaled-e1729960191636.jpg
END:VEVENT
BEGIN:VEVENT
DTSTART;TZID=Europe/Oslo:20250107T174500
DTEND;TZID=Europe/Oslo:20250107T184500
DTSTAMP:20260425T173444
CREATED:20241017T091425Z
LAST-MODIFIED:20241203T114404Z
UID:10000330-1736271900-1736275500@drammenhundepark.no
SUMMARY:Rally Intro (Fullbooket)
DESCRIPTION:Dette kurset går over 6 tirsdager innendørs i oppvarmet hall. \nInstruktør er Cathrine Samuelsen
URL:https://drammenhundepark.no/event/rally-intro/
CATEGORIES:Rallylydighet
ATTACH;FMTTYPE=image/jpeg:https://drammenhundepark.no/wp-content/uploads/2024/05/Drammen_Hundepark-15-3-e1730760478401.jpg
END:VEVENT
BEGIN:VEVENT
DTSTART;TZID=Europe/Oslo:20241128T183000
DTEND;TZID=Europe/Oslo:20241128T200000
DTSTAMP:20260425T173444
CREATED:20241018T141625Z
LAST-MODIFIED:20241121T132615Z
UID:10000333-1732818600-1732824000@drammenhundepark.no
SUMMARY:Agility Videregående
DESCRIPTION:Dette kurset går over 5 torsdager innendørs i oppvarmet hall.\nTre kurskvelder før jul og to etter. \nDatoer for kurskveldene er: 28. november\, 5. desember\, 12. desember\, 9. januar og 16. januar \nInstruktør er Tommy Kjennerud
URL:https://drammenhundepark.no/event/agility-videregaende/
CATEGORIES:Agilitykurs
ATTACH;FMTTYPE=image/jpeg:https://drammenhundepark.no/wp-content/uploads/2024/05/Drammen_Hundepark-4-4-e1729960464888.jpg
END:VEVENT
BEGIN:VEVENT
DTSTART;TZID=Europe/Oslo:20241128T170000
DTEND;TZID=Europe/Oslo:20241128T183000
DTSTAMP:20260425T173444
CREATED:20241017T105009Z
LAST-MODIFIED:20241203T114325Z
UID:10000331-1732813200-1732818600@drammenhundepark.no
SUMMARY:Agility Intro (Fullbooket)
DESCRIPTION:Dette kurset går over 5 torsdager innendørs i oppvarmet hall.\nTre kurskvelder før jul og to etter. \nDatoer for kurskveldene er: 28. november\, 5. desember\, 12. desember\, 9. januar og 16. januar \nInstruktør er Tommy Kjennerud
URL:https://drammenhundepark.no/event/agility-intro/
CATEGORIES:Agilitykurs
ATTACH;FMTTYPE=image/jpeg:https://drammenhundepark.no/wp-content/uploads/2024/05/Drammen_Hundepark-2-6-e1729962237557.jpg
END:VEVENT
BEGIN:VEVENT
DTSTART;TZID=Europe/Oslo:20241126T200000
DTEND;TZID=Europe/Oslo:20241126T210000
DTSTAMP:20260425T173444
CREATED:20241104T224208Z
LAST-MODIFIED:20241125T215918Z
UID:10000340-1732651200-1732654800@drammenhundepark.no
SUMMARY:Videregående hverdagslydighet
DESCRIPTION:Dette kurset går over 6 tirsdager\, innendørs i oppvarmet hall.\n3 kurskvelder på jul og 3 etter. Dato for kurskveldene er 26. nov\, 3. des\, 10. des\, 7. jan\, 14. jan og 21 januar. \nInstruktør er Marianne Paulsen
URL:https://drammenhundepark.no/event/videregaende-hverdagslydighet-2/
CATEGORIES:Videregående hverdagslydighet
ATTACH;FMTTYPE=image/jpeg:https://drammenhundepark.no/wp-content/uploads/2024/05/Drammen_Hundepark-15-2-e1730760114138.jpg
END:VEVENT
BEGIN:VEVENT
DTSTART;TZID=Europe/Oslo:20241126T184500
DTEND;TZID=Europe/Oslo:20241126T204500
DTSTAMP:20260425T173445
CREATED:20241017T091040Z
LAST-MODIFIED:20241121T132649Z
UID:10000329-1732646700-1732653900@drammenhundepark.no
SUMMARY:Banekurs
DESCRIPTION:På dette kurset blir det bygget to forskjellige baner hver kurskveld. Man briefer første bane\, går gjennom den og får tilbakemeldinger. Når alle har vært gjennom den bygges det ny bane og man jobber seg gjennom denne også. Banene tilpasses klassen du er i. \nKurset går kl 18.45-20.45 over 3 påfølgende tirsdager. \nInstruktør er Cathrine Samuelsen \nRallylydighet hundekurs i drammen
URL:https://drammenhundepark.no/event/banekurs/
CATEGORIES:Rallylydighet
END:VEVENT
BEGIN:VEVENT
DTSTART;TZID=Europe/Oslo:20241121T180000
DTEND;TZID=Europe/Oslo:20241121T200000
DTSTAMP:20260425T173445
CREATED:20241107T105417Z
LAST-MODIFIED:20241121T132806Z
UID:10000344-1732212000-1732219200@drammenhundepark.no
SUMMARY:Konkurranselydighet
DESCRIPTION:Dette kurset går over tre torsdager kl 18.00-20.00 innendørs i oppvarmet hall.\nVi jobber med lydighetsøvelsene i klasse 1 programmet. \nInstruktør er Marianne Paulsen
URL:https://drammenhundepark.no/event/konkurranselydighet/
CATEGORIES:Konkurransekurs i lydighet
ATTACH;FMTTYPE=image/jpeg:https://drammenhundepark.no/wp-content/uploads/2024/05/Drammen_Hundepark-6-1-e1730758231832.jpg
END:VEVENT
BEGIN:VEVENT
DTSTART;TZID=Europe/Oslo:20241119T190000
DTEND;TZID=Europe/Oslo:20241119T203000
DTSTAMP:20260425T173445
CREATED:20241104T223352Z
LAST-MODIFIED:20241121T132818Z
UID:10000339-1732042800-1732048200@drammenhundepark.no
SUMMARY:Valpekurs
DESCRIPTION:Dette kurset går over 5 tirsdager innendørs i oppvarmet hall.\nHeidi Aaknes er instruktør på kurset. \n 
URL:https://drammenhundepark.no/event/valpekurs/
CATEGORIES:Valpekurs
ATTACH;FMTTYPE=image/jpeg:https://drammenhundepark.no/wp-content/uploads/2024/05/Drammen_Hundepark-16-e1729697605640.jpg
END:VEVENT
BEGIN:VEVENT
DTSTART;TZID=Europe/Oslo:20241119T171500
DTEND;TZID=Europe/Oslo:20241119T184500
DTSTAMP:20260425T173445
CREATED:20241017T082011Z
LAST-MODIFIED:20241121T132827Z
UID:10000326-1732036500-1732041900@drammenhundepark.no
SUMMARY:Valpekurs
DESCRIPTION:Dette kurset går over 5 tirsdager innendørs i oppvarmet hall.\nHeidi Aaknes er instruktør på kurset. \n 
URL:https://drammenhundepark.no/event/valpekurs-5/
CATEGORIES:Valpekurs
ATTACH;FMTTYPE=image/jpeg:https://drammenhundepark.no/wp-content/uploads/2024/05/Drammen_Hundepark-16-e1729697605640.jpg
END:VEVENT
BEGIN:VEVENT
DTSTART;TZID=Europe/Oslo:20241119T170000
DTEND;TZID=Europe/Oslo:20241119T180000
DTSTAMP:20260425T173445
CREATED:20241014T095924Z
LAST-MODIFIED:20241121T132837Z
UID:10000320-1732035600-1732039200@drammenhundepark.no
SUMMARY:Grunnkurs
DESCRIPTION:Dette kurset går over 6 tirsdager kl 17.00-18.00 \nFire av kurskveldene er før jul og de to siste er etter jul. Datoer for kurs er:\n19. nov\, 26. nov\, 3. des\, 10. des\, 7. jan og 14. jan. \nInstruktør er Marianne Paulsen \nHundekurs i Drammen
URL:https://drammenhundepark.no/event/grunnkurs/
CATEGORIES:Grunnkurs i hverdagslydighet
END:VEVENT
BEGIN:VEVENT
DTSTART;TZID=Europe/Oslo:20241107T180000
DTEND;TZID=Europe/Oslo:20241107T190000
DTSTAMP:20260425T173445
CREATED:20241016T103632Z
LAST-MODIFIED:20241121T132904Z
UID:10000323-1731002400-1731006000@drammenhundepark.no
SUMMARY:Valpekurs
DESCRIPTION:Dette kurset går over 6 torsdager\, innendørs i oppvarmet hall.\nInstruktør er Kine Pedersen
URL:https://drammenhundepark.no/event/valpekurs-4/
CATEGORIES:Valpekurs
ATTACH;FMTTYPE=image/jpeg:https://drammenhundepark.no/wp-content/uploads/2024/10/DSC_0734-kopi-scaled-e1729697721786.jpg
END:VEVENT
BEGIN:VEVENT
DTSTART;TZID=Europe/Oslo:20241105T181500
DTEND;TZID=Europe/Oslo:20241105T194500
DTSTAMP:20260425T173445
CREATED:20241016T102930Z
LAST-MODIFIED:20241121T132913Z
UID:10000324-1730830500-1730835900@drammenhundepark.no
SUMMARY:Agility Intro
DESCRIPTION:Etter ekstrem stor etterspørsel av agilitykurs har vi nå satt opp et nytt kurs med en annen instruktør.\nPå dette kurset tar vi for oss innlæring av de forskjellige agilityhinderne\, samt å sette sammen enkle kombinasjoner. \nKurset går over 5 tirsdager kl 18.15-19.45 \nInstruktør er Marianne Paulsen
URL:https://drammenhundepark.no/event/agility-hinderinnlaering/
CATEGORIES:Agilitykurs
ATTACH;FMTTYPE=image/jpeg:https://drammenhundepark.no/wp-content/uploads/2024/05/Drammen_Hundepark-3-4-e1729962421751.jpg
END:VEVENT
END:VCALENDAR