BEGIN:VCALENDAR
VERSION:2.0
PRODID:-//Drammen Hundepark - ECPv6.15.18//NONSGML v1.0//EN
CALSCALE:GREGORIAN
METHOD:PUBLISH
X-ORIGINAL-URL:https://drammenhundepark.no
X-WR-CALDESC:Arrangement for Drammen Hundepark
REFRESH-INTERVAL;VALUE=DURATION:PT1H
X-Robots-Tag:noindex
X-PUBLISHED-TTL:PT1H
BEGIN:VTIMEZONE
TZID:Europe/Oslo
BEGIN:DAYLIGHT
TZOFFSETFROM:+0100
TZOFFSETTO:+0200
TZNAME:CEST
DTSTART:20240331T010000
END:DAYLIGHT
BEGIN:STANDARD
TZOFFSETFROM:+0200
TZOFFSETTO:+0100
TZNAME:CET
DTSTART:20241027T010000
END:STANDARD
BEGIN:DAYLIGHT
TZOFFSETFROM:+0100
TZOFFSETTO:+0200
TZNAME:CEST
DTSTART:20250330T010000
END:DAYLIGHT
BEGIN:STANDARD
TZOFFSETFROM:+0200
TZOFFSETTO:+0100
TZNAME:CET
DTSTART:20251026T010000
END:STANDARD
BEGIN:DAYLIGHT
TZOFFSETFROM:+0100
TZOFFSETTO:+0200
TZNAME:CEST
DTSTART:20260329T010000
END:DAYLIGHT
BEGIN:STANDARD
TZOFFSETFROM:+0200
TZOFFSETTO:+0100
TZNAME:CET
DTSTART:20261025T010000
END:STANDARD
END:VTIMEZONE
BEGIN:VEVENT
DTSTART;TZID=Europe/Oslo:20251120T183000
DTEND;TZID=Europe/Oslo:20251120T200000
DTSTAMP:20260423T232321
CREATED:20251015T145630Z
LAST-MODIFIED:20251015T145630Z
UID:10000478-1763663400-1763668800@drammenhundepark.no
SUMMARY:Agility Videregående
DESCRIPTION:Dette kurset går over 5 torsdager kl 18.30-20.00. Innendørs i oppvarmet hall. \n\n\n\nDette er for hunder som har vært på introkurs eller har tilsvarende kunnskaper.\nVi bygger videre på det hunden har lært til nå. Vi begynner å sette sammen de forskjellige hindrene og lage kombinasjoner.\nDet blir jobbet mer med føring\, og du vil lære mer om hva handling går ut på.\nVi fortsetter jobben med hinder som krever mengdetrening\, som slalom og felthindrene.\nDet blir fokus på hindersug\, fart og motivasjon.\nNivået tilpasses hver ekvipasjes kunnskap og ambisjon.\n\nDet er nå agility virkelig begynner å bli moro! \n \n\nInstruktør er Tommy Kjennerud \n 
URL:https://drammenhundepark.no/event/agility-videregaende-8/
CATEGORIES:Agilitykurs
ATTACH;FMTTYPE=image/jpeg:https://drammenhundepark.no/wp-content/uploads/2024/05/Drammen_Hundepark-3-4-e1729962421751.jpg
END:VEVENT
BEGIN:VEVENT
DTSTART;TZID=Europe/Oslo:20251120T170000
DTEND;TZID=Europe/Oslo:20251120T183000
DTSTAMP:20260423T232321
CREATED:20250818T203915Z
LAST-MODIFIED:20250827T194203Z
UID:10000459-1763658000-1763663400@drammenhundepark.no
SUMMARY:Agility Intro
DESCRIPTION:Dette kurset i agility går over 5 torsdager kl 17.00-18.30. Innendørs i oppvarmet hall. \n\nDette er kurs for hunder som ikke har vært borti agility før.\nPasser alle som har lyst til å ha det moro med hunden sin.\nHer blir hunden introdusert for alle hindrene som inngår i en agilitybane.\nNår hunden begynner å kunne flere av hindrene\, vil vi sette de sammen til små kombinasjoner.\nDet vil bli lagt mye vekt på hindersikkerhet\, belønningsmetoder\, og hvordan vi får fram motivasjon i hundene våre.Agility er gøy for både hund og fører!\n\nInstruktør er Tommy Kjennerud
URL:https://drammenhundepark.no/event/agility-intro-9/
CATEGORIES:Agilitykurs
ATTACH;FMTTYPE=image/jpeg:https://drammenhundepark.no/wp-content/uploads/2024/05/Drammen_Hundepark-2-6-e1729962237557.jpg
END:VEVENT
BEGIN:VEVENT
DTSTART;TZID=Europe/Oslo:20251118T200000
DTEND;TZID=Europe/Oslo:20251118T210000
DTSTAMP:20260423T232321
CREATED:20251014T183115Z
LAST-MODIFIED:20251116T204421Z
UID:10000477-1763496000-1763499600@drammenhundepark.no
SUMMARY:Valpekurs
DESCRIPTION:Dette kurset går over 6 tirsdager kl 20.00-21.00. Innendørs i oppvarmet hall med kunstgress.\nDe fem første kurskveldene vil gå påfølgende før jul og den siste vil være 6. januar. \nFokuset vil være på vanlig hverdagslydighet som; \n\nHåndtering/ro\nKontakt\nInnkalling\nLegg deg og bli liggende\nIntroduksjon gå pent i bånd\nVent/bli/selvkontroll\nBelønningsutvikling\n\nInstruktør på kurset er Marianne Paulsen \n 
URL:https://drammenhundepark.no/event/videregaende-hverdagslydighet-15/
CATEGORIES:Valpekurs
ATTACH;FMTTYPE=image/jpeg:https://drammenhundepark.no/wp-content/uploads/2024/10/DSC_0074-kopi-scaled-e1729960191636.jpg
END:VEVENT
BEGIN:VEVENT
DTSTART;TZID=Europe/Oslo:20251113T180000
DTEND;TZID=Europe/Oslo:20251113T190000
DTSTAMP:20260423T232322
CREATED:20251211T113208Z
LAST-MODIFIED:20251211T113208Z
UID:10000510-1763056800-1763060400@drammenhundepark.no
SUMMARY:Passeringskurs
DESCRIPTION:Dette kurset går over 5 torsdager kl 18.00-19.00 innendørs i oppvarmet hall (ca 12 grader) på kunstgress. \n\nFokus på å passere andre hunder på tur\nGå pent i bånd\nKontakt\nSelvbeherskelse og ro\n\nInstruktør er Marianne Paulsen
URL:https://drammenhundepark.no/event/passeringskurs-9/
CATEGORIES:Passeringskurs
ATTACH;FMTTYPE=image/jpeg:https://drammenhundepark.no/wp-content/uploads/2024/05/Drammen_Hundepark-3-3-e1737116271742.jpg
END:VEVENT
BEGIN:VEVENT
DTSTART;TZID=Europe/Oslo:20251113T170000
DTEND;TZID=Europe/Oslo:20251113T180000
DTSTAMP:20260423T232322
CREATED:20251020T211209Z
LAST-MODIFIED:20251020T211526Z
UID:10000481-1763053200-1763056800@drammenhundepark.no
SUMMARY:Passeringskurs
DESCRIPTION:Dette kurset går over 5 torsdager kl 17.00-18.00 innendørs på kunstgress. \n\nFokus på å passere andre hunder på tur\nGå pent i bånd\nKontakt\nSelvbeherskelse og ro\n\nInstruktør er Marianne Paulsen
URL:https://drammenhundepark.no/event/passeringskurs-7/
CATEGORIES:Passeringskurs
ATTACH;FMTTYPE=image/jpeg:https://drammenhundepark.no/wp-content/uploads/2024/05/Drammen_Hundepark-3-3-e1737116271742.jpg
END:VEVENT
BEGIN:VEVENT
DTSTART;TZID=Europe/Oslo:20251111T183000
DTEND;TZID=Europe/Oslo:20251111T193000
DTSTAMP:20260423T232322
CREATED:20250916T151825Z
LAST-MODIFIED:20251107T084433Z
UID:10000471-1762885800-1762889400@drammenhundepark.no
SUMMARY:Rally 2
DESCRIPTION:Dette kurset går over 6 tirsdager kl 18.30-19.30 innendørs i hall\, på kunstgress. \nVi jobber med skiltene i klasse 2. Glede\, mestring og samarbeid står fremdeles i fokus!\n(Man bør enten ha gått rally introkurs eller kunne klasse 1 skiltene for å få utbytte av kurset) \nInstruktør er Cathrine Samuelsen
URL:https://drammenhundepark.no/event/rally-2-6/
CATEGORIES:Rallylydighet
ATTACH;FMTTYPE=image/jpeg:https://drammenhundepark.no/wp-content/uploads/2024/05/Drammen_Hundepark-5-2-e1729960790137.jpg
END:VEVENT
BEGIN:VEVENT
DTSTART;TZID=Europe/Oslo:20251111T170000
DTEND;TZID=Europe/Oslo:20251111T180000
DTSTAMP:20260423T232322
CREATED:20250923T115021Z
LAST-MODIFIED:20250923T115021Z
UID:10000473-1762880400-1762884000@drammenhundepark.no
SUMMARY:Grunnkurs
DESCRIPTION:Dette kurset går over 6 tirsdager kl 17.00-18.00 innendørs\, på kunstgress. \nFokuset vil være på vanlige hverdagsutfordringer som \n\nHåndtering\nRo\nInnkalling\nLegg deg og bli liggende\nGå pent i bånd\nHvordan handle i passeringssituasjoner\n\nInstruktør på kurset er Marianne Paulsen \n 
URL:https://drammenhundepark.no/event/grunnkurs-8/
CATEGORIES:Grunnkurs i hverdagslydighet
ATTACH;FMTTYPE=image/jpeg:https://drammenhundepark.no/wp-content/uploads/2024/05/Drammen_Hundepark-3-1-e1729960934856.jpg
END:VEVENT
BEGIN:VEVENT
DTSTART;TZID=Europe/Oslo:20251108T090000
DTEND;TZID=Europe/Oslo:20251108T150000
DTSTAMP:20260423T232322
CREATED:20250814T154221Z
LAST-MODIFIED:20250828T105456Z
UID:10000453-1762592400-1762614000@drammenhundepark.no
SUMMARY:Lydighetskurs helg (Fullbooket)
DESCRIPTION:Lydighetskurs  \nDette kurset går lørdag og søndag 8 og 9 november. Lørdagen instrueres det fra kl 09.00-13.00. Etter dette vil det være 2 timer med egentrening\, uten instruktør. Søndagen instrueres det fra kl 09.00-12.00. Vi er hele tiden innendørs i oppvarmet hall med kunstgress. \nKurset passer for konkurrerende ekvipasjer\, eller førere som har konkurrert med tidligere hunder.\nVi kommer til å trene en og en hund og hva vi skal trene på blir opp til hver enkelt. \nMaks 4 deltakere \nInstruktør Renate Lund
URL:https://drammenhundepark.no/event/lydighetskurs-helg-3/
CATEGORIES:Konkurransekurs i lydighet
ATTACH;FMTTYPE=image/jpeg:https://drammenhundepark.no/wp-content/uploads/2025/01/DSC_3828-kopi-scaled-e1737121722387.jpg
END:VEVENT
BEGIN:VEVENT
DTSTART;TZID=Europe/Oslo:20251106T170000
DTEND;TZID=Europe/Oslo:20251106T180000
DTSTAMP:20260423T232322
CREATED:20251015T150207Z
LAST-MODIFIED:20251015T154548Z
UID:10000479-1762448400-1762452000@drammenhundepark.no
SUMMARY:Rally Intro
DESCRIPTION:Dette kurset går over 6 torsdager kl 17.00-18.00 \n\nPasser for hunder som ikke har prøvd rallylydighet før.\nVi tar for oss og trener på skiltene i klasse 1 og vil sette de sammen til små kombinasjoner.\nJobber med å utvikle glede og samspill mellom hund og fører.\n\nInstruktør er Cathrine Samuelsen \n  \n 
URL:https://drammenhundepark.no/event/rally-intro-11/
CATEGORIES:Rallylydighet
ATTACH;FMTTYPE=image/jpeg:https://drammenhundepark.no/wp-content/uploads/2024/05/Drammen_Hundepark-3-1-e1729960934856.jpg
END:VEVENT
BEGIN:VEVENT
DTSTART;TZID=Europe/Oslo:20251104T190000
DTEND;TZID=Europe/Oslo:20251104T200000
DTSTAMP:20260423T232322
CREATED:20250827T201929Z
LAST-MODIFIED:20250827T201929Z
UID:10000465-1762282800-1762286400@drammenhundepark.no
SUMMARY:Videregående hverdagslydighet
DESCRIPTION:Dette kurset går over 6 tirsdager kl 19.00-20.00. Innendørs i oppvarmet hall med kunstgress. \nVi tar for oss hverdagslydighet som; \n\nForholde seg rolig rundt andre hunder\nHvordan opptre i møte med andre hunder på tur\nGå pent i bånd\nLek og sosial belønning\nSelvbeherskelse\nLigg på plassen din\nInnkalling\n\nInstruktør på kurset er Marianne Paulsen \n 
URL:https://drammenhundepark.no/event/videregaende-hverdagslydighet-14/
CATEGORIES:Videregående hverdagslydighet
ATTACH;FMTTYPE=image/jpeg:https://drammenhundepark.no/wp-content/uploads/2025/02/1-kurshund.jpg
END:VEVENT
BEGIN:VEVENT
DTSTART;TZID=Europe/Oslo:20251104T184500
DTEND;TZID=Europe/Oslo:20251104T201500
DTSTAMP:20260423T232322
CREATED:20250827T194843Z
LAST-MODIFIED:20250913T111457Z
UID:10000464-1762281900-1762287300@drammenhundepark.no
SUMMARY:Valpekurs
DESCRIPTION:Dette kurset går over 5 tirsdager kl 18.45-20.15 innendørs\, på kunstgress. \nFokuset vil være på vanlig hverdagslydighet som; \n\nHåndtering/ro\nKontakt\nInnkalling\nLegg deg og bli liggende\nIntroduksjon gå pent i bånd\nVent/bli/selvkontroll\nBelønningsutvikling\n\nInstruktør på kurset er Heidi Aaknes \n 
URL:https://drammenhundepark.no/event/valpekurs-23/
CATEGORIES:Valpekurs
ATTACH;FMTTYPE=image/jpeg:https://drammenhundepark.no/wp-content/uploads/2025/01/DSC_1123-kopi-scaled-e1737121100973.jpg
END:VEVENT
BEGIN:VEVENT
DTSTART;TZID=Europe/Oslo:20251104T180000
DTEND;TZID=Europe/Oslo:20251104T190000
DTSTAMP:20260423T232322
CREATED:20250913T110014Z
LAST-MODIFIED:20250913T110014Z
UID:10000469-1762279200-1762282800@drammenhundepark.no
SUMMARY:Gøy med hund
DESCRIPTION:Dette kurset går over 6 tirsdager kl 18.00-19.00 innendørs i oppvarmet hall. \nMålet med kurset er; \n\nÅ se nærmere på hvilke artige hundeaktiviteter som finnes der ute (agility\, søk\, rallylydighet\, triks\, lydighet samt belønningsteknikk)\nStyrke relasjonen mellom hund og fører\nBygge et godt samarbeid\nHa det gøy med hunden!\n\nInstruktør er Marianne Paulsen \n 
URL:https://drammenhundepark.no/event/goy-med-hund-7/
CATEGORIES:Gøy med hund
ATTACH;FMTTYPE=image/jpeg:https://drammenhundepark.no/wp-content/uploads/2025/01/DSC_0213-kopi-scaled-e1737121691653.jpg
END:VEVENT
BEGIN:VEVENT
DTSTART;TZID=Europe/Oslo:20251023T193000
DTEND;TZID=Europe/Oslo:20251023T203000
DTSTAMP:20260423T232322
CREATED:20251009T192453Z
LAST-MODIFIED:20251009T192453Z
UID:10000475-1761247800-1761251400@drammenhundepark.no
SUMMARY:Valpekurs
DESCRIPTION:Dette kurset går over 6 torsdager kl 19.30-20.30 innendørs\, på kunstgress.\nFokuset vil være på vanlig hverdagslydighet som; \n\nHåndtering/ro\nKontakt\nInnkalling\nLegg deg og bli liggende\nIntroduksjon gå pent i bånd\nVent/bli/selvkontroll\nBelønningsutvikling\n\nInstruktør på kurset er Cathrine Samuelsen \n 
URL:https://drammenhundepark.no/event/valpekurs-22/
CATEGORIES:Valpekurs
ATTACH;FMTTYPE=image/jpeg:https://drammenhundepark.no/wp-content/uploads/2025/01/DSC_1200-kopi-scaled-e1737121258972.jpg
END:VEVENT
BEGIN:VEVENT
DTSTART;TZID=Europe/Oslo:20251021T170000
DTEND;TZID=Europe/Oslo:20251021T183000
DTSTAMP:20260423T232322
CREATED:20250808T102347Z
LAST-MODIFIED:20250808T102454Z
UID:10000447-1761066000-1761071400@drammenhundepark.no
SUMMARY:Valpekurs
DESCRIPTION:Dette kurset går over 5 tirsdager kl 17.00-18.30 innendørs\, på kunstgress.\nFokuset vil være på vanlig hverdagslydighet som; \n\nHåndtering/ro\nKontakt\nInnkalling\nLegg deg og bli liggende\nIntroduksjon gå pent i bånd\nVent/bli/selvkontroll\nBelønningsutvikling\n\nInstruktør på kurset er Heidi Aaknes \n 
URL:https://drammenhundepark.no/event/valpekurs-21/
CATEGORIES:Valpekurs
ATTACH;FMTTYPE=image/jpeg:https://drammenhundepark.no/wp-content/uploads/2025/01/DSC_1200-kopi-scaled-e1737121258972.jpg
END:VEVENT
BEGIN:VEVENT
DTSTART;TZID=Europe/Oslo:20251017T190000
DTEND;TZID=Europe/Oslo:20251017T210000
DTSTAMP:20260423T232322
CREATED:20250902T201643Z
LAST-MODIFIED:20251007T165712Z
UID:10000466-1760727600-1760734800@drammenhundepark.no
SUMMARY:Rally banekurs (klasse 3 og elite)
DESCRIPTION:Dette banekurset i rallylydighet går kl 19.00-21.00 over tre påfølgende fredager. \nPå kurset jobber vi med å gå baner i rallylydighet!\nCathrine bygger baner som tidligere har blitt brukt på konkurranser. Hun vil gi tips og tilbakemelding på øvelsene i løpene dine og gi råd om neste steg i treningen. Kurset er både for konkurranseekvipasjer\, og de som bruker øvelsene i rallylydighet som aktivisering for sin hund. \nKurset tar for seg skilt fra klasse 3 og elite. \nInstruktør er Cathrine Samuelsen
URL:https://drammenhundepark.no/event/rally-banekurs-klasse-3-og-elite/
CATEGORIES:Rallylydighet,Sommerkurs
ATTACH;FMTTYPE=image/jpeg:https://drammenhundepark.no/wp-content/uploads/2024/05/Drammen_Hundepark-15-3-e1730760478401.jpg
END:VEVENT
BEGIN:VEVENT
DTSTART;TZID=Europe/Oslo:20251016T183000
DTEND;TZID=Europe/Oslo:20251016T200000
DTSTAMP:20260423T232322
CREATED:20250818T205419Z
LAST-MODIFIED:20250827T194335Z
UID:10000460-1760639400-1760644800@drammenhundepark.no
SUMMARY:Agility Videregående
DESCRIPTION:Dette kurset går over 5 torsdager kl 18.30-20.00. Innendørs i oppvarmet hall. \n\n\n\nDette er for hunder som har vært på introkurs eller har tilsvarende kunnskaper.\nVi bygger videre på det hunden har lært til nå. Vi begynner å sette sammen de forskjellige hindrene og lage kombinasjoner.\nDet blir jobbet mer med føring\, og du vil lære mer om hva handling går ut på.\nVi fortsetter jobben med hinder som krever mengdetrening\, som slalom og felthindrene.\nDet blir fokus på hindersug\, fart og motivasjon.\nNivået tilpasses hver ekvipasjes kunnskap og ambisjon.\n\nDet er nå agility virkelig begynner å bli moro! \n \n\nInstruktør er Tommy Kjennerud \n 
URL:https://drammenhundepark.no/event/agility-videregaende-7/
CATEGORIES:Agilitykurs
ATTACH;FMTTYPE=image/jpeg:https://drammenhundepark.no/wp-content/uploads/2024/05/Drammen_Hundepark-3-4-e1729962421751.jpg
END:VEVENT
BEGIN:VEVENT
DTSTART;TZID=Europe/Oslo:20251016T181500
DTEND;TZID=Europe/Oslo:20251016T191500
DTSTAMP:20260423T232322
CREATED:20250910T192939Z
LAST-MODIFIED:20251004T115058Z
UID:10000467-1760638500-1760642100@drammenhundepark.no
SUMMARY:Valpekurs
DESCRIPTION:Dette kurset går over 6 torsdager kl 18.15-19.15  innendørs\, på kunstgress.\nDet er ikke kurs 23. oktober\nFokuset vil være på hverdagslydighet og grunnferdigheter som; \n\nHåndtering/ ro\nKontakt/ omvendt lokking\nInnkalling\nBli i senga / selvkontroll\nIntroduksjon i gå pent i bånd\nSitt\, ligg og utgangstilling\nBelønningsutvikling\n\nInstruktør på kurset er Renate Lund \n 
URL:https://drammenhundepark.no/event/valpekurs-24/
CATEGORIES:Valpekurs
ATTACH;FMTTYPE=image/jpeg:https://drammenhundepark.no/wp-content/uploads/2025/01/DSC_0090-kopi-scaled-e1737121414703.jpg
END:VEVENT
BEGIN:VEVENT
DTSTART;TZID=Europe/Oslo:20251016T170000
DTEND;TZID=Europe/Oslo:20251016T183000
DTSTAMP:20260423T232322
CREATED:20250818T203521Z
LAST-MODIFIED:20250827T194017Z
UID:10000458-1760634000-1760639400@drammenhundepark.no
SUMMARY:Agility Intro
DESCRIPTION:Dette kurset i agility går over 5 torsdager kl 17.00-18.30. Innendørs i oppvarmet hall. \n\nDette er kurs for hunder som ikke har vært borti agility før.\nPasser alle som har lyst til å ha det moro med hunden sin.\nHer blir hunden introdusert for alle hindrene som inngår i en agilitybane.\nNår hunden begynner å kunne flere av hindrene\, vil vi sette de sammen til små kombinasjoner.\nDet vil bli lagt mye vekt på hindersikkerhet\, belønningsmetoder\, og hvordan vi får fram motivasjon i hundene våre.\nAgility er gøy for både hund og fører!\n\nInstruktør er Tommy Kjennerud
URL:https://drammenhundepark.no/event/agility-intro-8/
CATEGORIES:Agilitykurs
ATTACH;FMTTYPE=image/jpeg:https://drammenhundepark.no/wp-content/uploads/2024/05/Drammen_Hundepark-5-3-e1729961895679.jpg
END:VEVENT
BEGIN:VEVENT
DTSTART;TZID=Europe/Oslo:20251011T180000
DTEND;TZID=Europe/Oslo:20251011T210000
DTSTAMP:20260423T232322
CREATED:20250814T153400Z
LAST-MODIFIED:20250828T105716Z
UID:10000452-1760205600-1760216400@drammenhundepark.no
SUMMARY:Lydighetskurs helg (Fullbooket)
DESCRIPTION:Lydighetskurs  \nDette kurset går lørdag og søndag 18.00-21.00 og er for konkurrerende ekvipasjer\, eller førere som har konkurrert med tidligere hunder.\nVi kommer til å trene en og en hund og hva vi skal trene på blir opp til hver enkelt. \nMaks 4 deltakere \nInstruktør Renate Lund
URL:https://drammenhundepark.no/event/lydighetskurs-helg-2/
CATEGORIES:Konkurransekurs i lydighet
ATTACH;FMTTYPE=image/jpeg:https://drammenhundepark.no/wp-content/uploads/2025/02/1-temakurs.jpg
END:VEVENT
BEGIN:VEVENT
DTSTART;TZID=Europe/Oslo:20251009T193000
DTEND;TZID=Europe/Oslo:20251009T210000
DTSTAMP:20260423T232322
CREATED:20250313T095913Z
LAST-MODIFIED:20250929T095600Z
UID:10000402-1760038200-1760043600@drammenhundepark.no
SUMMARY:Lydighet Treningsgruppe
DESCRIPTION:Endelig\, dette har vært etterspurt lenge! \nNå har du mulighet til å være med på en treningsgruppe som går over 11 kvelder. Alle nivå er velkommen. \nVi samles hver torsdag for 1 ½ time med lydighetstrening med instruktør. Temaene for treningene varierer og det er åpent for ønsker fra deltagerne. I tillegg får gruppa mulighet til å trene gratis når det er drop-in trening i hallen (mandag og torsdag kl 12-14\, fredag kl 17-19) under hele kursets varighet. \nVi holder på kl 1930-2100 alle kveldene. \nInstruktør er Marianne Paulsen
URL:https://drammenhundepark.no/event/lydighet-treningsgruppe/
CATEGORIES:Konkurransekurs i lydighet
ATTACH;FMTTYPE=image/jpeg:https://drammenhundepark.no/wp-content/uploads/2025/02/1-lp.jpg
END:VEVENT
BEGIN:VEVENT
DTSTART;TZID=Europe/Oslo:20250930T173000
DTEND;TZID=Europe/Oslo:20250930T203000
DTSTAMP:20260423T232322
CREATED:20250802T085240Z
LAST-MODIFIED:20250802T085240Z
UID:10000443-1759253400-1759264200@drammenhundepark.no
SUMMARY:Rally banekurs uke 40
DESCRIPTION:Dette banekurset i rallylydighet går kl 17.30-20.30 tirsdag og torsdag i uke 40. \nPå kurset jobber vi med å gå baner i rallylydighet!\nCathrine bygger baner som tidligere har blitt brukt på konkurranser. Hun vil gi tips og tilbakemelding på øvelsene i løpene dine og gi råd om neste steg i treningen. Kurset er både for konkurranseekvipasjer\, og de som bruker øvelsene i rallylydighet som aktivisering for sin hund. \nDu må kjenne til skiltene i klasse 1 for å få utbytte av kurset\, skriv i påmelding om du ønsker øvelser i høyere klasse. \nInstruktør er Cathrine Samuelsen
URL:https://drammenhundepark.no/event/rally-banekurs-uke-40/
CATEGORIES:Rallylydighet,Sommerkurs
ATTACH;FMTTYPE=image/jpeg:https://drammenhundepark.no/wp-content/uploads/2024/05/Drammen_Hundepark-15-3-e1730760478401.jpg
END:VEVENT
BEGIN:VEVENT
DTSTART;TZID=Europe/Oslo:20250925T170000
DTEND;TZID=Europe/Oslo:20250925T180000
DTSTAMP:20260423T232322
CREATED:20250911T182626Z
LAST-MODIFIED:20250913T112353Z
UID:10000468-1758819600-1758823200@drammenhundepark.no
SUMMARY:Gøy med hund
DESCRIPTION:Dette kurset går over 6 torsdager kl 17.00-18.00 innendørs i oppvarmet hall. \nMålet med kurset er; \n\nÅ se nærmere på hvilke artige hundeaktiviteter som finnes der ute (agility\, søk\, rallylydighet\, triks\, lydighet samt belønningsteknikk)\nStyrke relasjonen mellom hund og fører\nBygge et godt samarbeid\nHa det gøy med hunden!\n\nInstruktør er Marianne Paulsen \n  \nDet er ikke kurs i uke 40 da det er høstferie i kommunen.
URL:https://drammenhundepark.no/event/goy-med-hund-6/
CATEGORIES:Gøy med hund
ATTACH;FMTTYPE=image/jpeg:https://drammenhundepark.no/wp-content/uploads/2025/01/DSC_0213-kopi-scaled-e1737121691653.jpg
END:VEVENT
BEGIN:VEVENT
DTSTART;TZID=Europe/Oslo:20250923T193000
DTEND;TZID=Europe/Oslo:20250923T210000
DTSTAMP:20260423T232322
CREATED:20250312T091519Z
LAST-MODIFIED:20250528T141302Z
UID:10000399-1758655800-1758661200@drammenhundepark.no
SUMMARY:Rally Treningsgruppe (Fullbooket)
DESCRIPTION:Etter at vårens treningsgruppe fylte seg så raskt opp legger vi ut høstens gruppe allerede nå! \nNå har du mulighet til å være med på en treningsgruppe som går over 12 kvelder. Alle nivå er velkommen\, krav til forkunnskap er gjennomført rally intro eller tilsvarende. \nVi samles hver tirsdag for 1 ½ time med rallytrening med instruktør. Temaene for treningene varierer og det er åpent for ønsker fra deltagerne. I tillegg får gruppa mulighet til å trene gratis når det er drop-in trening i hallen (mandag og torsdag kl 12-14\, fredag kl 17-19) under hele kursets varighet. \nVi holder på kl 1930-2100 alle kveldene. \nInstruktør er Cathrine Samuelsen
URL:https://drammenhundepark.no/event/rally-treningsgruppe-2/
CATEGORIES:Rallylydighet
ATTACH;FMTTYPE=image/jpeg:https://drammenhundepark.no/wp-content/uploads/2024/05/Drammen_Hundepark-15-3-e1730760478401.jpg
END:VEVENT
BEGIN:VEVENT
DTSTART;TZID=Europe/Oslo:20250923T183000
DTEND;TZID=Europe/Oslo:20250923T193000
DTSTAMP:20260423T232322
CREATED:20250827T193545Z
LAST-MODIFIED:20250827T193545Z
UID:10000463-1758652200-1758655800@drammenhundepark.no
SUMMARY:Rally Intro
DESCRIPTION:Dette kurset går over 6 tirsdager kl 18.30-19.30 \n\nPasser for hunder som ikke har prøvd rallylydighet før.\nVi tar for oss og trener på skiltene i klasse 1 og vil sette de sammen til små kombinasjoner.\nJobber med å utvikle glede og samspill mellom hund og fører.\n\nInstruktør er Cathrine Samuelsen \nDet er ikke kurs i uke 40 da det er høstferie i kommunen. \n 
URL:https://drammenhundepark.no/event/rally-intro-10/
CATEGORIES:Rallylydighet
ATTACH;FMTTYPE=image/jpeg:https://drammenhundepark.no/wp-content/uploads/2024/05/Drammen_Hundepark-3-1-e1729960934856.jpg
END:VEVENT
BEGIN:VEVENT
DTSTART;TZID=Europe/Oslo:20250923T173000
DTEND;TZID=Europe/Oslo:20250923T183000
DTSTAMP:20260423T232322
CREATED:20250816T075855Z
LAST-MODIFIED:20250828T112427Z
UID:10000455-1758648600-1758652200@drammenhundepark.no
SUMMARY:Rally Intro (Fullbooket)
DESCRIPTION:Dette kurset går over 6 tirsdager kl 17.30-18.30 \n\nPasser for hunder som ikke har prøvd rallylydighet før.\nVi tar for oss og trener på skiltene i klasse 1 og vil sette de sammen til små kombinasjoner.\nJobber med å utvikle glede og samspill mellom hund og fører.\n\nInstruktør er Cathrine Samuelsen \nDet er ikke kurs i uke 40 da det er høstferie i kommunen. \n 
URL:https://drammenhundepark.no/event/rally-intro-9/
CATEGORIES:Rallylydighet
ATTACH;FMTTYPE=image/jpeg:https://drammenhundepark.no/wp-content/uploads/2024/05/Drammen_Hundepark-3-1-e1729960934856.jpg
END:VEVENT
BEGIN:VEVENT
DTSTART;TZID=Europe/Oslo:20250923T170000
DTEND;TZID=Europe/Oslo:20250923T180000
DTSTAMP:20260423T232322
CREATED:20250808T104117Z
LAST-MODIFIED:20250915T194148Z
UID:10000448-1758646800-1758650400@drammenhundepark.no
SUMMARY:Passeringskurs
DESCRIPTION:Dette kurset går over 6 tirsdager kl 17.00-18.00 innendørs på kunstgress. \n\nFokus på å passere andre hunder på tur\nGå pent i bånd\nKontakt\nSelvbeherskelse og ro\n\nInstruktør er Marianne Paulsen \n  \nDet er ikke kurs i uke 40 da det er høstferie i kommunen.
URL:https://drammenhundepark.no/event/passeringskurs-6/
CATEGORIES:Passeringskurs
ATTACH;FMTTYPE=image/jpeg:https://drammenhundepark.no/wp-content/uploads/2024/05/Drammen_Hundepark-3-3-e1737116271742.jpg
END:VEVENT
BEGIN:VEVENT
DTSTART;TZID=Europe/Oslo:20250920T090000
DTEND;TZID=Europe/Oslo:20250920T120000
DTSTAMP:20260423T232322
CREATED:20250814T152820Z
LAST-MODIFIED:20251112T100216Z
UID:10000451-1758358800-1758369600@drammenhundepark.no
SUMMARY:Lydighetskurs helg (Fullbooket)
DESCRIPTION:Lydighetskurs  \nDette kurset går lørdag og søndag 09.00-12.00 og er for konkurrerende ekvipasjer\, eller førere som har konkurrert med tidligere hunder.\nVi kommer til å trene en og en hund og hva vi skal trene på blir opp til hver enkelt. \nMaks 4 deltakere \nInstruktør Renate Lund
URL:https://drammenhundepark.no/event/lydighetskurs-helg/
CATEGORIES:Konkurransekurs i lydighet
ATTACH;FMTTYPE=image/jpeg:https://drammenhundepark.no/wp-content/uploads/2025/02/1-lp.jpg
END:VEVENT
BEGIN:VEVENT
DTSTART;TZID=Europe/Oslo:20250918T170000
DTEND;TZID=Europe/Oslo:20250918T210000
DTSTAMP:20260423T232322
CREATED:20250825T141317Z
LAST-MODIFIED:20250901T205859Z
UID:10000462-1758214800-1758229200@drammenhundepark.no
SUMMARY:Lydighetskurs (Fullbooket)
DESCRIPTION:Lydighetskurs  \nDette kurset går torsdag 18. september kl 17.00-21.00 og er for konkurrerende ekvipasjer\, eller førere som har konkurrert med tidligere hunder.\nVi kommer til å trene en og en hund og hva vi skal trene på blir opp til hver enkelt. \nMaks 4 deltakere \nInstruktør Renate Lund
URL:https://drammenhundepark.no/event/lydighetskurs/
CATEGORIES:Konkurransekurs i lydighet
ATTACH;FMTTYPE=image/jpeg:https://drammenhundepark.no/wp-content/uploads/2025/02/1-temakurs.jpg
END:VEVENT
BEGIN:VEVENT
DTSTART;TZID=Europe/Oslo:20250916T200000
DTEND;TZID=Europe/Oslo:20250916T210000
DTSTAMP:20260423T232322
CREATED:20250603T192703Z
LAST-MODIFIED:20250721T123107Z
UID:10000427-1758052800-1758056400@drammenhundepark.no
SUMMARY:Bronsemerkekurs
DESCRIPTION:Dette kurset går over 6 tirsdager kl 20.00-21.00 \nDette er kurset for deg som; \n\nØnsker en introduksjon til hundesporten lydighet\nØnsker å aktivisere hunden ved å lære nye lydighetsøvelser\n\nInstruktør er Marianne Paulsen
URL:https://drammenhundepark.no/event/bronsemerkekurs-4/
CATEGORIES:Bronsemerkekurs
ATTACH;FMTTYPE=image/jpeg:https://drammenhundepark.no/wp-content/uploads/2024/05/Drammen_Hundepark-6-1-e1730758231832.jpg
END:VEVENT
BEGIN:VEVENT
DTSTART;TZID=Europe/Oslo:20250916T190000
DTEND;TZID=Europe/Oslo:20250916T200000
DTSTAMP:20260423T232322
CREATED:20250721T122153Z
LAST-MODIFIED:20250910T142047Z
UID:10000440-1758049200-1758052800@drammenhundepark.no
SUMMARY:Videregående hverdagslydighet (Fullbooket)
DESCRIPTION:Dette kurset går over 6 tirsdager kl 19.00-20.00. Innendørs i oppvarmet hall med kunstgress. \nVi tar for oss hverdagslydighet som; \n\nForholde seg rolig rundt andre hunder\nHvordan opptre i møte med andre hunder på tur\nGå pent i bånd\nLek og sosial belønning\nSelvbeherskelse\nLigg på plassen din\nInnkalling\n\nInstruktør på kurset er Marianne Paulsen \n(Det er ikke kurs i uke 40 da det er høstferie i kommunen)
URL:https://drammenhundepark.no/event/videregaende-hverdagslydighet-13/
CATEGORIES:Videregående hverdagslydighet
ATTACH;FMTTYPE=image/jpeg:https://drammenhundepark.no/wp-content/uploads/2025/02/1-kurshund.jpg
END:VEVENT
END:VCALENDAR