BEGIN:VCALENDAR
VERSION:2.0
PRODID:-//Drammen Hundepark - ECPv6.15.18//NONSGML v1.0//EN
CALSCALE:GREGORIAN
METHOD:PUBLISH
X-ORIGINAL-URL:https://drammenhundepark.no
X-WR-CALDESC:Arrangement for Drammen Hundepark
REFRESH-INTERVAL;VALUE=DURATION:PT1H
X-Robots-Tag:noindex
X-PUBLISHED-TTL:PT1H
BEGIN:VTIMEZONE
TZID:Europe/Oslo
BEGIN:DAYLIGHT
TZOFFSETFROM:+0100
TZOFFSETTO:+0200
TZNAME:CEST
DTSTART:20250330T010000
END:DAYLIGHT
BEGIN:STANDARD
TZOFFSETFROM:+0200
TZOFFSETTO:+0100
TZNAME:CET
DTSTART:20251026T010000
END:STANDARD
BEGIN:DAYLIGHT
TZOFFSETFROM:+0100
TZOFFSETTO:+0200
TZNAME:CEST
DTSTART:20260329T010000
END:DAYLIGHT
BEGIN:STANDARD
TZOFFSETFROM:+0200
TZOFFSETTO:+0100
TZNAME:CET
DTSTART:20261025T010000
END:STANDARD
BEGIN:DAYLIGHT
TZOFFSETFROM:+0100
TZOFFSETTO:+0200
TZNAME:CEST
DTSTART:20270328T010000
END:DAYLIGHT
BEGIN:STANDARD
TZOFFSETFROM:+0200
TZOFFSETTO:+0100
TZNAME:CET
DTSTART:20271031T010000
END:STANDARD
END:VTIMEZONE
BEGIN:VEVENT
DTSTART;TZID=Europe/Oslo:20260622T170000
DTEND;TZID=Europe/Oslo:20260622T183000
DTSTAMP:20260423T132333
CREATED:20260323T194546Z
LAST-MODIFIED:20260323T194546Z
UID:10000559-1782147600-1782153000@drammenhundepark.no
SUMMARY:Agility Intro uke 26
DESCRIPTION:Sommerkurs i agility – uke 26 \nHar du lyst til å prøve noe nytt og morsomt sammen med hunden din i sommer? Bli med på vårt agilitykurs! \nKurset går mandag til torsdag i uke 26\, kl. 17.00–18.30 hver dag. \nDette er et nybegynnerkurs og passer perfekt for hunder som ikke har prøvd agility før. Her får dere en trygg og positiv introduksjon til alle hindrene som inngår i en agilitybane. Etter hvert som hunden mestrer flere hindere\, setter vi dem sammen til enkle og morsomme kombinasjoner. Vi har stort fokus på hindersikkerhet\, gode belønningsmetoder og hvordan vi bygger motivasjon og samarbeid mellom hund og fører. \nAgility er en fantastisk aktivitet som gir både mestring\, glede og styrker båndet mellom deg og hunden din. \nInstruktør: Tommy Kjennerud
URL:https://drammenhundepark.no/event/agility-intro-uke-26/
CATEGORIES:Agilitykurs,Sommerkurs
ATTACH;FMTTYPE=image/jpeg:https://drammenhundepark.no/wp-content/uploads/2025/02/1-agility.jpg
END:VEVENT
BEGIN:VEVENT
DTSTART;TZID=Europe/Oslo:20260622T183000
DTEND;TZID=Europe/Oslo:20260622T200000
DTSTAMP:20260423T132333
CREATED:20260323T195152Z
LAST-MODIFIED:20260416T164449Z
UID:10000560-1782153000-1782158400@drammenhundepark.no
SUMMARY:Agility Videregående uke 26
DESCRIPTION:Sommerkurs i agility – videregående uke 26 \nKurset går mandag til torsdag i uke 26\, kl. 18.30–20.00 hver dag. \nDette kurset er for hunder som har deltatt på introkurs i agility\, eller har tilsvarende forkunnskaper. Her bygger vi videre på det dere allerede kan\, med fokus på bedre flyt\, samarbeid og økt forståelse av agility som sport. \nVi setter sammen flere hinder til kombinasjoner og korte baner\, og jobber mer målrettet med føring og handling. Du lærer hvordan kroppsspråk\, timing og bevegelser påvirker hundens linjer og valg gjennom banen. \nKurset har spesielt fokus på: \n\nVidereutvikling av hinderforståelse\nMengdetrening på slalom og felthinder\nFøringsteknikker og handling\nHindersug\, fart og motivasjon\nGod flyt og selvtillit hos både hund og fører\n\nNivået tilpasses hver enkelt ekvipasje\, slik at både ferske på videregående nivå og mer erfarne førere får godt utbytte av treningen. \nDet er her agility virkelig begynner å bli moro! \nInstruktør: Tommy Kjennerud
URL:https://drammenhundepark.no/event/agility-videregaende-uke-26/
CATEGORIES:Agilitykurs,Sommerkurs
ATTACH;FMTTYPE=image/jpeg:https://drammenhundepark.no/wp-content/uploads/2024/05/Drammen_Hundepark-2-6-e1729962237557.jpg
END:VEVENT
BEGIN:VEVENT
DTSTART;TZID=Europe/Oslo:20260629T170000
DTEND;TZID=Europe/Oslo:20260629T183000
DTSTAMP:20260423T132333
CREATED:20260323T180630Z
LAST-MODIFIED:20260323T180658Z
UID:10000552-1782752400-1782757800@drammenhundepark.no
SUMMARY:Valp sommerkurs uke 27
DESCRIPTION:Dette sommerkurset for valper går kl 17.00-18.30 mandag\, tirsdag\, onsdag og torsdag i uke 27\nFokuset vil være på vanlig hverdagslydighet som; \n\nHåndtering/ro\nKontakt\nInnkalling\nLegg deg og bli liggende\nIntroduksjon gå pent i bånd\nVent/bli/selvkontroll\nBelønningsutvikling\n\nInstruktør på kurset er Marianne Paulsen
URL:https://drammenhundepark.no/event/valp-sommerkurs-uke-28-fullbooket/
CATEGORIES:Sommerkurs,Valpekurs
ATTACH;FMTTYPE=image/jpeg:https://drammenhundepark.no/wp-content/uploads/2025/01/DSC_0687-kopi-scaled-e1737120796510.jpg
END:VEVENT
BEGIN:VEVENT
DTSTART;TZID=Europe/Oslo:20260629T170000
DTEND;TZID=Europe/Oslo:20260629T183000
DTSTAMP:20260423T132333
CREATED:20260323T190435Z
LAST-MODIFIED:20260323T204840Z
UID:10000555-1782752400-1782757800@drammenhundepark.no
SUMMARY:Nosework Intro Sommerkurs uke 27
DESCRIPTION:Dette sommerkurset går kl 17.00-18.30 mandag\, tirsdag\, onsdag og torsdag i uke 27. \nBli med på vårt snusekurs for hund i Drammen Hundepark\, og oppdag hundens fantastiske luktesans! Kurset foregår innendørs i trygge og kontrollerte omgivelser\, der én og én hund jobber av gangen. Du vil likevel kunne møte andre hunder i området rundt hallen. Hunden må kunne vente i bilen mellom treningsøktene. \nKurset passer for alle hunder\, uansett alder eller forkunnskaper\, og gir mental stimulering\, mestringsfølelse og en morsom aktivitet som styrker samarbeidet mellom hund og fører. \nPraktisk informasjon: \n\nTidspunkt: kl 17.00-18.30 alle kvelder\nMaks 5 deltakere – tett oppfølging og individuell veiledning\nTa med gode godbiter (gjerne ost\, hundepølse ect.)\nInstruktør: Cathrine Samuelsen\n\nBli med på en inspirerende reise inn i hundens luktunivers – vi gleder oss til å se dere!
URL:https://drammenhundepark.no/event/nosework-intro-sommerkurs/
CATEGORIES:Nosework,Sommerkurs
ATTACH;FMTTYPE=image/jpeg:https://drammenhundepark.no/wp-content/uploads/2025/04/snusekurs-scaled-e1746038117648.jpg
END:VEVENT
BEGIN:VEVENT
DTSTART;TZID=Europe/Oslo:20260629T173000
DTEND;TZID=Europe/Oslo:20260629T193000
DTSTAMP:20260423T132333
CREATED:20260327T165218Z
LAST-MODIFIED:20260327T165235Z
UID:10000564-1782754200-1782761400@drammenhundepark.no
SUMMARY:Konkurranselydighet Sommerkurs uke 27
DESCRIPTION:Dette kurset er rettet mot deg som trener konkurranselydighet og ønsker målrettet oppfølging på det nivået du og hunden din er på. \nVi trener én og én hund om gangen\, slik at hver ekvipasje får individuelt tilpasset veiledning. Deltakerne kommer selv med ønsker og fokusområder\, og vi jobber konkret med det du ønsker å utvikle – enten det er enkeltøvelser\, helhet i programmet eller detaljer og presisjon. \nKurset går mandag\, tirsdag\, onsdag og torsdag i uke 27\, kl. 17.30–19.30. \nPasser for deg som har kjennskap til konkurranselydighet\, og som har gjort deg opp noen tanker om hva du ønsker å jobbe videre med i treningen. \nInstruktør er Renate Lund
URL:https://drammenhundepark.no/event/konkurranselydighet-sommerkurs-uke-27/
CATEGORIES:Konkurransekurs i lydighet,Sommerkurs
ATTACH;FMTTYPE=image/jpeg:https://drammenhundepark.no/wp-content/uploads/2025/02/1-lp.jpg
END:VEVENT
BEGIN:VEVENT
DTSTART;TZID=Europe/Oslo:20260629T190000
DTEND;TZID=Europe/Oslo:20260629T203000
DTSTAMP:20260423T132333
CREATED:20260323T182148Z
LAST-MODIFIED:20260327T165424Z
UID:10000554-1782759600-1782765000@drammenhundepark.no
SUMMARY:Passeringskurs uke 27
DESCRIPTION:Dette sommerkurset i passering går kl 19.00-20.30 mandag\, tirsdag\, onsdag og torsdag i uke 27.\nDet passer for hunder i alle aldre som ønsker bedre kontroll og ro når de møter andre hunder eller mennesker på tur. \nPå kurset vil vi jobbe med: \n\nÅ passere andre hunder på en trygg måte\nÅ gå pent i bånd uten stress\nÅ styrke kontakt mellom hund og fører\nSelvkontroll og ro i ulike situasjoner\n\nTreningen baseres på belønning\, og øvelsene tilpasses hver enkelt hund. Målet er å gi deg praktiske verktøy du kan bruke i hverdagen for tryggere\, mer avslappede turer. \nKurset ledes av Marianne Paulsen\, atferdsterapeut for hund på fulltid\, med bred erfaring i å hjelpe hunder som strever i møte med andre hunder. Hun legger vekt på trygge og individuelt tilpassede løsninger for hver ekvipasje.
URL:https://drammenhundepark.no/event/passeringskurs-uke-27/
CATEGORIES:Passeringskurs,Sommerkurs
ATTACH;FMTTYPE=image/jpeg:https://drammenhundepark.no/wp-content/uploads/2025/02/1-kurshund.jpg
END:VEVENT
BEGIN:VEVENT
DTSTART;TZID=Europe/Oslo:20260629T190000
DTEND;TZID=Europe/Oslo:20260629T203000
DTSTAMP:20260423T132333
CREATED:20260323T192718Z
LAST-MODIFIED:20260323T205000Z
UID:10000556-1782759600-1782765000@drammenhundepark.no
SUMMARY:Rally banekurs uke 27
DESCRIPTION:Dette banekurset i rallylydighet går kl 19.00-20.30 mandag\, tirsdag\, onsdag og torsdag i uke 27. \nPå kurset jobber vi med å gå baner i rallylydighet!\nCathrine gir tips og tilbakemeldinger underveis på øvelsene dine\, og råd om hvordan du kan ta treningen videre. Vi snakker også om hvordan du kan briefe banen på en smart måte\, ta gode valg underveis i løpet\, og bygge opp utholdenheten til hunden slik at den holder fokus gjennom hele banen. \nKurset passer både for deg som trener mot konkurranse\, og for deg som ønsker å bruke rallylydighet som en morsom og aktiviserende treningsform for hunden sin.\nDu må ha kjennskap til skiltene i klasse 1 for å få godt utbytte av kurset.\nBanene bygges hovedsakelig med skilt fra klasse 1\, men skriv i påmeldingen dersom du ønsker øvelser fra høyere klasser. \nInstruktør er Cathrine Samuelsen \n 
URL:https://drammenhundepark.no/event/rally-banekurs-3/
CATEGORIES:Rallylydighet,Sommerkurs
ATTACH;FMTTYPE=image/jpeg:https://drammenhundepark.no/wp-content/uploads/2024/05/Drammen_Hundepark-15-3-e1730760478401.jpg
END:VEVENT
BEGIN:VEVENT
DTSTART;TZID=Europe/Oslo:20260706T100000
DTEND;TZID=Europe/Oslo:20260706T150000
DTSTAMP:20260423T132333
CREATED:20251218T123541Z
LAST-MODIFIED:20260126T105003Z
UID:10000518-1783332000-1783350000@drammenhundepark.no
SUMMARY:Rally SOMMERCAMP 2026
DESCRIPTION: Sommercamp i rallylydighet  \nMandag 6. juli – torsdag 9. juli\nKl. 10.00–15.00 hver dag \n\nBli med på en inspirerende og sosial sommercamp i rallylydighet! Denne campen passer for deg som konkurrerer i klasse 2\, klasse 3 eller Elite\, og som ønsker å utvikle både deg selv og hunden din videre. \nVi jobber med: \n\nUtholdenhet i baner\nSmart og tydelig briefing\nFokus og engasjement\nHelhet i ekvipasjen – med rom for å nerde litt i detaljer\nÅpent for ønsker fra deltakerne\n\nBaner og oppgaver tilpasses nivået til hver enkelt ekvipasje\, slik at alle får både mestring og utfordringer. \nGlede\, samspill og fellesskap\nMålet vårt er at campen skal være like gøy for hund som for fører. Vi legger stor vekt på god stemning\, engasjement for hverandre og et trygt\, sosialt miljø der alle føler seg velkommen. \nSosial ramme\nVi tenner grillen hver dag og har felles lunsj – en perfekt anledning til å dele erfaringer\, le og bli kjent med andre rallyentusiaster. \nUansett vær\nVi håper på sol og utetrening\, men om værgudene ikke spiller på lag\, trekker vi inn i hallen. Campen blir koselig og lærerik – uansett vær! \nIkke vent med å planlegge sommerens hyggeligste hundeevent. Ta med en treningsvenn og bli med på noen inspirerende dager fylt med rallyglede! \n  \nInstruktør Cathrine Samuelsen \n\n  \n 
URL:https://drammenhundepark.no/event/rally-sommercamp-2026/
CATEGORIES:Rallylydighet,Sommerkurs
ATTACH;FMTTYPE=image/jpeg:https://drammenhundepark.no/wp-content/uploads/2024/05/Drammen_Hundepark-9-1-e1766061318528.jpg
END:VEVENT
BEGIN:VEVENT
DTSTART;TZID=Europe/Oslo:20260706T170000
DTEND;TZID=Europe/Oslo:20260706T183000
DTSTAMP:20260423T132333
CREATED:20260323T193358Z
LAST-MODIFIED:20260323T193908Z
UID:10000557-1783357200-1783362600@drammenhundepark.no
SUMMARY:Valp sommerkurs uke 28
DESCRIPTION:Dette sommerkurset for valper går kl 17.00-18.30 mandag\, tirsdag\, onsdag og torsdag i uke 28\nFokuset vil være på vanlig hverdagslydighet som; \n\nHåndtering/ro\nKontakt\nInnkalling\nLegg deg og bli liggende\nIntroduksjon gå pent i bånd\nVent/bli/selvkontroll\nBelønningsutvikling\n\nInstruktør på kurset er Heidi Aaknes
URL:https://drammenhundepark.no/event/valp-sommerkurs-uke-28-3/
CATEGORIES:Sommerkurs,Valpekurs
ATTACH;FMTTYPE=image/jpeg:https://drammenhundepark.no/wp-content/uploads/2025/01/DSC_1107-kopi-scaled-e1737121037765.jpg
END:VEVENT
BEGIN:VEVENT
DTSTART;TZID=Europe/Oslo:20260706T184500
DTEND;TZID=Europe/Oslo:20260706T201500
DTSTAMP:20260423T132333
CREATED:20260323T193831Z
LAST-MODIFIED:20260323T193831Z
UID:10000558-1783363500-1783368900@drammenhundepark.no
SUMMARY:Valp sommerkurs uke 28
DESCRIPTION:Dette sommerkurset for valper går kl 18.45-20.15 mandag\, tirsdag\, onsdag og torsdag i uke 28\nFokuset vil være på vanlig hverdagslydighet som; \n\nHåndtering/ro\nKontakt\nInnkalling\nLegg deg og bli liggende\nIntroduksjon gå pent i bånd\nVent/bli/selvkontroll\nBelønningsutvikling\n\nInstruktør på kurset er Heidi Aaknes
URL:https://drammenhundepark.no/event/valp-sommerkurs-uke-28-4/
CATEGORIES:Sommerkurs,Valpekurs
ATTACH;FMTTYPE=image/jpeg:https://drammenhundepark.no/wp-content/uploads/2025/01/DSC_1107-kopi-scaled-e1737121037765.jpg
END:VEVENT
END:VCALENDAR